Workbook

Sheet Start
B2: Materiality matrix
B4: Double materiality: score impacts and financial effects, apply the threshold, and see each topic on the matrix
B8: HOW IT WORKS
B9: 1 | C9: List the topics | F9: 2 | G9: Score both sides | J9: 3 | K9: Read the result
C11: Impacts, risks, chances | G11: Severity and size | K11: Material or not
B13: LIVE RESULTS
B14: Material topics | E14: Material for impact | H14: Material for financial effects | K14: Check
B15: =Topics!N19 | E15: =Topics!N20 | H15: =Topics!N21 | K15: =Topics!N22
B18: COLOUR KEY
B19: You type here | E19: Calculated for you | H19: ✓ Check passed | K19: ✗ Needs attention
B21: JUMP TO
B22: Matrix › | E22: Topics ›
B41: A fictional company's assessment. Replace the topics and scores with your own. General information, not advice. taxbakers.com/sustainability/double-materiality-explained/

Sheet Matrix
B2: Matrix
B4: Each topic placed by its rounded scores. Shaded cells are at or above the threshold on either axis.
B7: Impact score
B8: 5 | C8: =IFERROR(LEFT(IF(AND(Topics!$C$8<>"",MAX(1,ROUND(N(Topics!$J$8),0))=5,MAX(1,ROUND(N(Topics!$M$8),0))=1),Topics!$C$8&", ","")&IF(AND(Topics!$C$9<>"",MAX(1,ROUND(N(Topics!$J$9),0))=5,MAX(1,ROUND(N(Topics!$M$9),0))=1),Topics!$C$9&", ","")&IF(AND(Topics!$C$10<>"",MAX(1,ROUND(N(Topics!$J$10),0))=5,MAX(1,ROUND(N(Topics!$M$10),0))=1),Topics!$C$10&", ","")&IF(AND(Topics!$C$11<>"",MAX(1,ROUND(N(Topics!$J$11),0))=5,MAX(1,ROUND(N(Topics!$M$11),0))=1),Topics!$C$11&", ","")&IF(AND(Topics!$C$12<>"",MAX(1,ROUND(N(Topics!$J$12),0))=5,MAX(1,ROUND(N(Topics!$M$12),0))=1),Topics!$C$12&", ","")&IF(AND(Topics!$C$13<>"",MAX(1,ROUND(N(Topics!$J$13),0))=5,MAX(1,ROUND(N(Topics!$M$13),0))=1),Topics!$C$13&", ","")&IF(AND(Topics!$C$14<>"",MAX(1,ROUND(N(Topics!$J$14),0))=5,MAX(1,ROUND(N(Topics!$M$14),0))=1),Topics!$C$14&", ","")&IF(AND(Topics!$C$15<>"",MAX(1,ROUND(N(Topics!$J$15),0))=5,MAX(1,ROUND(N(Topics!$M$15),0))=1),Topics!$C$15&", ","")&IF(AND(Topics!$C$16<>"",MAX(1,ROUND(N(Topics!$J$16),0))=5,MAX(1,ROUND(N(Topics!$M$16),0))=1),Topics!$C$16&", ","")&IF(AND(Topics!$C$17<>"",MAX(1,ROUND(N(Topics!$J$17),0))=5,MAX(1,ROUND(N(Topics!$M$17),0))=1),Topics!$C$17&", ",""),LEN(IF(AND(Topics!$C$8<>"",MAX(1,ROUND(N(Topics!$J$8),0))=5,MAX(1,ROUND(N(Topics!$M$8),0))=1),Topics!$C$8&", ","")&IF(AND(Topics!$C$9<>"",MAX(1,ROUND(N(Topics!$J$9),0))=5,MAX(1,ROUND(N(Topics!$M$9),0))=1),Topics!$C$9&", ","")&IF(AND(Topics!$C$10<>"",MAX(1,ROUND(N(Topics!$J$10),0))=5,MAX(1,ROUND(N(Topics!$M$10),0))=1),Topics!$C$10&", ","")&IF(AND(Topics!$C$11<>"",MAX(1,ROUND(N(Topics!$J$11),0))=5,MAX(1,ROUND(N(Topics!$M$11),0))=1),Topics!$C$11&", ","")&IF(AND(Topics!$C$12<>"",MAX(1,ROUND(N(Topics!$J$12),0))=5,MAX(1,ROUND(N(Topics!$M$12),0))=1),Topics!$C$12&", ","")&IF(AND(Topics!$C$13<>"",MAX(1,ROUND(N(Topics!$J$13),0))=5,MAX(1,ROUND(N(Topics!$M$13),0))=1),Topics!$C$13&", ","")&IF(AND(Topics!$C$14<>"",MAX(1,ROUND(N(Topics!$J$14),0))=5,MAX(1,ROUND(N(Topics!$M$14),0))=1),Topics!$C$14&", ","")&IF(AND(Topics!$C$15<>"",MAX(1,ROUND(N(Topics!$J$15),0))=5,MAX(1,ROUND(N(Topics!$M$15),0))=1),Topics!$C$15&", ","")&IF(AND(Topics!$C$16<>"",MAX(1,ROUND(N(Topics!$J$16),0))=5,MAX(1,ROUND(N(Topics!$M$16),0))=1),Topics!$C$16&", ","")&IF(AND(Topics!$C$17<>"",MAX(1,ROUND(N(Topics!$J$17),0))=5,MAX(1,ROUND(N(Topics!$M$17),0))=1),Topics!$C$17&", ",""))-2),"") | D8: =IFERROR(LEFT(IF(AND(Topics!$C$8<>"",MAX(1,ROUND(N(Topics!$J$8),0))=5,MAX(1,ROUND(N(Topics!$M$8),0))=2),Topics!$C$8&", ","")&IF(AND(Topics!$C$9<>"",MAX(1,ROUND(N(Topics!$J$9),0))=5,MAX(1,ROUND(N(Topics!$M$9),0))=2),Topics!$C$9&", ","")&IF(AND(Topics!$C$10<>"",MAX(1,ROUND(N(Topics!$J$10),0))=5,MAX(1,ROUND(N(Topics!$M$10),0))=2),Topics!$C$10&", ","")&IF(AND(Topics!$C$11<>"",MAX(1,ROUND(N(Topics!$J$11),0))=5,MAX(1,ROUND(N(Topics!$M$11),0))=2),Topics!$C$11&", ","")&IF(AND(Topics!$C$12<>"",MAX(1,ROUND(N(Topics!$J$12),0))=5,MAX(1,ROUND(N(Topics!$M$12),0))=2),Topics!$C$12&", ","")&IF(AND(Topics!$C$13<>"",MAX(1,ROUND(N(Topics!$J$13),0))=5,MAX(1,ROUND(N(Topics!$M$13),0))=2),Topics!$C$13&", ","")&IF(AND(Topics!$C$14<>"",MAX(1,ROUND(N(Topics!$J$14),0))=5,MAX(1,ROUND(N(Topics!$M$14),0))=2),Topics!$C$14&", ","")&IF(AND(Topics!$C$15<>"",MAX(1,ROUND(N(Topics!$J$15),0))=5,MAX(1,ROUND(N(Topics!$M$15),0))=2),Topics!$C$15&", ","")&IF(AND(Topics!$C$16<>"",MAX(1,ROUND(N(Topics!$J$16),0))=5,MAX(1,ROUND(N(Topics!$M$16),0))=2),Topics!$C$16&", ","")&IF(AND(Topics!$C$17<>"",MAX(1,ROUND(N(Topics!$J$17),0))=5,MAX(1,ROUND(N(Topics!$M$17),0))=2),Topics!$C$17&", ",""),LEN(IF(AND(Topics!$C$8<>"",MAX(1,ROUND(N(Topics!$J$8),0))=5,MAX(1,ROUND(N(Topics!$M$8),0))=2),Topics!$C$8&", ","")&IF(AND(Topics!$C$9<>"",MAX(1,ROUND(N(Topics!$J$9),0))=5,MAX(1,ROUND(N(Topics!$M$9),0))=2),Topics!$C$9&", ","")&IF(AND(Topics!$C$10<>"",MAX(1,ROUND(N(Topics!$J$10),0))=5,MAX(1,ROUND(N(Topics!$M$10),0))=2),Topics!$C$10&", ","")&IF(AND(Topics!$C$11<>"",MAX(1,ROUND(N(Topics!$J$11),0))=5,MAX(1,ROUND(N(Topics!$M$11),0))=2),Topics!$C$11&", ","")&IF(AND(Topics!$C$12<>"",MAX(1,ROUND(N(Topics!$J$12),0))=5,MAX(1,ROUND(N(Topics!$M$12),0))=2),Topics!$C$12&", ","")&IF(AND(Topics!$C$13<>"",MAX(1,ROUND(N(Topics!$J$13),0))=5,MAX(1,ROUND(N(Topics!$M$13),0))=2),Topics!$C$13&", ","")&IF(AND(Topics!$C$14<>"",MAX(1,ROUND(N(Topics!$J$14),0))=5,MAX(1,ROUND(N(Topics!$M$14),0))=2),Topics!$C$14&", ","")&IF(AND(Topics!$C$15<>"",MAX(1,ROUND(N(Topics!$J$15),0))=5,MAX(1,ROUND(N(Topics!$M$15),0))=2),Topics!$C$15&", ","")&IF(AND(Topics!$C$16<>"",MAX(1,ROUND(N(Topics!$J$16),0))=5,MAX(1,ROUND(N(Topics!$M$16),0))=2),Topics!$C$16&", ","")&IF(AND(Topics!$C$17<>"",MAX(1,ROUND(N(Topics!$J$17),0))=5,MAX(1,ROUND(N(Topics!$M$17),0))=2),Topics!$C$17&", ",""))-2),"") | E8: =IFERROR(LEFT(IF(AND(Topics!$C$8<>"",MAX(1,ROUND(N(Topics!$J$8),0))=5,MAX(1,ROUND(N(Topics!$M$8),0))=3),Topics!$C$8&", ","")&IF(AND(Topics!$C$9<>"",MAX(1,ROUND(N(Topics!$J$9),0))=5,MAX(1,ROUND(N(Topics!$M$9),0))=3),Topics!$C$9&", ","")&IF(AND(Topics!$C$10<>"",MAX(1,ROUND(N(Topics!$J$10),0))=5,MAX(1,ROUND(N(Topics!$M$10),0))=3),Topics!$C$10&", ","")&IF(AND(Topics!$C$11<>"",MAX(1,ROUND(N(Topics!$J$11),0))=5,MAX(1,ROUND(N(Topics!$M$11),0))=3),Topics!$C$11&", ","")&IF(AND(Topics!$C$12<>"",MAX(1,ROUND(N(Topics!$J$12),0))=5,MAX(1,ROUND(N(Topics!$M$12),0))=3),Topics!$C$12&", ","")&IF(AND(Topics!$C$13<>"",MAX(1,ROUND(N(Topics!$J$13),0))=5,MAX(1,ROUND(N(Topics!$M$13),0))=3),Topics!$C$13&", ","")&IF(AND(Topics!$C$14<>"",MAX(1,ROUND(N(Topics!$J$14),0))=5,MAX(1,ROUND(N(Topics!$M$14),0))=3),Topics!$C$14&", ","")&IF(AND(Topics!$C$15<>"",MAX(1,ROUND(N(Topics!$J$15),0))=5,MAX(1,ROUND(N(Topics!$M$15),0))=3),Topics!$C$15&", ","")&IF(AND(Topics!$C$16<>"",MAX(1,ROUND(N(Topics!$J$16),0))=5,MAX(1,ROUND(N(Topics!$M$16),0))=3),Topics!$C$16&", ","")&IF(AND(Topics!$C$17<>"",MAX(1,ROUND(N(Topics!$J$17),0))=5,MAX(1,ROUND(N(Topics!$M$17),0))=3),Topics!$C$17&", ",""),LEN(IF(AND(Topics!$C$8<>"",MAX(1,ROUND(N(Topics!$J$8),0))=5,MAX(1,ROUND(N(Topics!$M$8),0))=3),Topics!$C$8&", ","")&IF(AND(Topics!$C$9<>"",MAX(1,ROUND(N(Topics!$J$9),0))=5,MAX(1,ROUND(N(Topics!$M$9),0))=3),Topics!$C$9&", ","")&IF(AND(Topics!$C$10<>"",MAX(1,ROUND(N(Topics!$J$10),0))=5,MAX(1,ROUND(N(Topics!$M$10),0))=3),Topics!$C$10&", ","")&IF(AND(Topics!$C$11<>"",MAX(1,ROUND(N(Topics!$J$11),0))=5,MAX(1,ROUND(N(Topics!$M$11),0))=3),Topics!$C$11&", ","")&IF(AND(Topics!$C$12<>"",MAX(1,ROUND(N(Topics!$J$12),0))=5,MAX(1,ROUND(N(Topics!$M$12),0))=3),Topics!$C$12&", ","")&IF(AND(Topics!$C$13<>"",MAX(1,ROUND(N(Topics!$J$13),0))=5,MAX(1,ROUND(N(Topics!$M$13),0))=3),Topics!$C$13&", ","")&IF(AND(Topics!$C$14<>"",MAX(1,ROUND(N(Topics!$J$14),0))=5,MAX(1,ROUND(N(Topics!$M$14),0))=3),Topics!$C$14&", ","")&IF(AND(Topics!$C$15<>"",MAX(1,ROUND(N(Topics!$J$15),0))=5,MAX(1,ROUND(N(Topics!$M$15),0))=3),Topics!$C$15&", ","")&IF(AND(Topics!$C$16<>"",MAX(1,ROUND(N(Topics!$J$16),0))=5,MAX(1,ROUND(N(Topics!$M$16),0))=3),Topics!$C$16&", ","")&IF(AND(Topics!$C$17<>"",MAX(1,ROUND(N(Topics!$J$17),0))=5,MAX(1,ROUND(N(Topics!$M$17),0))=3),Topics!$C$17&", ",""))-2),"") | F8: =IFERROR(LEFT(IF(AND(Topics!$C$8<>"",MAX(1,ROUND(N(Topics!$J$8),0))=5,MAX(1,ROUND(N(Topics!$M$8),0))=4),Topics!$C$8&", ","")&IF(AND(Topics!$C$9<>"",MAX(1,ROUND(N(Topics!$J$9),0))=5,MAX(1,ROUND(N(Topics!$M$9),0))=4),Topics!$C$9&", ","")&IF(AND(Topics!$C$10<>"",MAX(1,ROUND(N(Topics!$J$10),0))=5,MAX(1,ROUND(N(Topics!$M$10),0))=4),Topics!$C$10&", ","")&IF(AND(Topics!$C$11<>"",MAX(1,ROUND(N(Topics!$J$11),0))=5,MAX(1,ROUND(N(Topics!$M$11),0))=4),Topics!$C$11&", ","")&IF(AND(Topics!$C$12<>"",MAX(1,ROUND(N(Topics!$J$12),0))=5,MAX(1,ROUND(N(Topics!$M$12),0))=4),Topics!$C$12&", ","")&IF(AND(Topics!$C$13<>"",MAX(1,ROUND(N(Topics!$J$13),0))=5,MAX(1,ROUND(N(Topics!$M$13),0))=4),Topics!$C$13&", ","")&IF(AND(Topics!$C$14<>"",MAX(1,ROUND(N(Topics!$J$14),0))=5,MAX(1,ROUND(N(Topics!$M$14),0))=4),Topics!$C$14&", ","")&IF(AND(Topics!$C$15<>"",MAX(1,ROUND(N(Topics!$J$15),0))=5,MAX(1,ROUND(N(Topics!$M$15),0))=4),Topics!$C$15&", ","")&IF(AND(Topics!$C$16<>"",MAX(1,ROUND(N(Topics!$J$16),0))=5,MAX(1,ROUND(N(Topics!$M$16),0))=4),Topics!$C$16&", ","")&IF(AND(Topics!$C$17<>"",MAX(1,ROUND(N(Topics!$J$17),0))=5,MAX(1,ROUND(N(Topics!$M$17),0))=4),Topics!$C$17&", ",""),LEN(IF(AND(Topics!$C$8<>"",MAX(1,ROUND(N(Topics!$J$8),0))=5,MAX(1,ROUND(N(Topics!$M$8),0))=4),Topics!$C$8&", ","")&IF(AND(Topics!$C$9<>"",MAX(1,ROUND(N(Topics!$J$9),0))=5,MAX(1,ROUND(N(Topics!$M$9),0))=4),Topics!$C$9&", ","")&IF(AND(Topics!$C$10<>"",MAX(1,ROUND(N(Topics!$J$10),0))=5,MAX(1,ROUND(N(Topics!$M$10),0))=4),Topics!$C$10&", ","")&IF(AND(Topics!$C$11<>"",MAX(1,ROUND(N(Topics!$J$11),0))=5,MAX(1,ROUND(N(Topics!$M$11),0))=4),Topics!$C$11&", ","")&IF(AND(Topics!$C$12<>"",MAX(1,ROUND(N(Topics!$J$12),0))=5,MAX(1,ROUND(N(Topics!$M$12),0))=4),Topics!$C$12&", ","")&IF(AND(Topics!$C$13<>"",MAX(1,ROUND(N(Topics!$J$13),0))=5,MAX(1,ROUND(N(Topics!$M$13),0))=4),Topics!$C$13&", ","")&IF(AND(Topics!$C$14<>"",MAX(1,ROUND(N(Topics!$J$14),0))=5,MAX(1,ROUND(N(Topics!$M$14),0))=4),Topics!$C$14&", ","")&IF(AND(Topics!$C$15<>"",MAX(1,ROUND(N(Topics!$J$15),0))=5,MAX(1,ROUND(N(Topics!$M$15),0))=4),Topics!$C$15&", ","")&IF(AND(Topics!$C$16<>"",MAX(1,ROUND(N(Topics!$J$16),0))=5,MAX(1,ROUND(N(Topics!$M$16),0))=4),Topics!$C$16&", ","")&IF(AND(Topics!$C$17<>"",MAX(1,ROUND(N(Topics!$J$17),0))=5,MAX(1,ROUND(N(Topics!$M$17),0))=4),Topics!$C$17&", ",""))-2),"") | G8: =IFERROR(LEFT(IF(AND(Topics!$C$8<>"",MAX(1,ROUND(N(Topics!$J$8),0))=5,MAX(1,ROUND(N(Topics!$M$8),0))=5),Topics!$C$8&", ","")&IF(AND(Topics!$C$9<>"",MAX(1,ROUND(N(Topics!$J$9),0))=5,MAX(1,ROUND(N(Topics!$M$9),0))=5),Topics!$C$9&", ","")&IF(AND(Topics!$C$10<>"",MAX(1,ROUND(N(Topics!$J$10),0))=5,MAX(1,ROUND(N(Topics!$M$10),0))=5),Topics!$C$10&", ","")&IF(AND(Topics!$C$11<>"",MAX(1,ROUND(N(Topics!$J$11),0))=5,MAX(1,ROUND(N(Topics!$M$11),0))=5),Topics!$C$11&", ","")&IF(AND(Topics!$C$12<>"",MAX(1,ROUND(N(Topics!$J$12),0))=5,MAX(1,ROUND(N(Topics!$M$12),0))=5),Topics!$C$12&", ","")&IF(AND(Topics!$C$13<>"",MAX(1,ROUND(N(Topics!$J$13),0))=5,MAX(1,ROUND(N(Topics!$M$13),0))=5),Topics!$C$13&", ","")&IF(AND(Topics!$C$14<>"",MAX(1,ROUND(N(Topics!$J$14),0))=5,MAX(1,ROUND(N(Topics!$M$14),0))=5),Topics!$C$14&", ","")&IF(AND(Topics!$C$15<>"",MAX(1,ROUND(N(Topics!$J$15),0))=5,MAX(1,ROUND(N(Topics!$M$15),0))=5),Topics!$C$15&", ","")&IF(AND(Topics!$C$16<>"",MAX(1,ROUND(N(Topics!$J$16),0))=5,MAX(1,ROUND(N(Topics!$M$16),0))=5),Topics!$C$16&", ","")&IF(AND(Topics!$C$17<>"",MAX(1,ROUND(N(Topics!$J$17),0))=5,MAX(1,ROUND(N(Topics!$M$17),0))=5),Topics!$C$17&", ",""),LEN(IF(AND(Topics!$C$8<>"",MAX(1,ROUND(N(Topics!$J$8),0))=5,MAX(1,ROUND(N(Topics!$M$8),0))=5),Topics!$C$8&", ","")&IF(AND(Topics!$C$9<>"",MAX(1,ROUND(N(Topics!$J$9),0))=5,MAX(1,ROUND(N(Topics!$M$9),0))=5),Topics!$C$9&", ","")&IF(AND(Topics!$C$10<>"",MAX(1,ROUND(N(Topics!$J$10),0))=5,MAX(1,ROUND(N(Topics!$M$10),0))=5),Topics!$C$10&", ","")&IF(AND(Topics!$C$11<>"",MAX(1,ROUND(N(Topics!$J$11),0))=5,MAX(1,ROUND(N(Topics!$M$11),0))=5),Topics!$C$11&", ","")&IF(AND(Topics!$C$12<>"",MAX(1,ROUND(N(Topics!$J$12),0))=5,MAX(1,ROUND(N(Topics!$M$12),0))=5),Topics!$C$12&", ","")&IF(AND(Topics!$C$13<>"",MAX(1,ROUND(N(Topics!$J$13),0))=5,MAX(1,ROUND(N(Topics!$M$13),0))=5),Topics!$C$13&", ","")&IF(AND(Topics!$C$14<>"",MAX(1,ROUND(N(Topics!$J$14),0))=5,MAX(1,ROUND(N(Topics!$M$14),0))=5),Topics!$C$14&", ","")&IF(AND(Topics!$C$15<>"",MAX(1,ROUND(N(Topics!$J$15),0))=5,MAX(1,ROUND(N(Topics!$M$15),0))=5),Topics!$C$15&", ","")&IF(AND(Topics!$C$16<>"",MAX(1,ROUND(N(Topics!$J$16),0))=5,MAX(1,ROUND(N(Topics!$M$16),0))=5),Topics!$C$16&", ","")&IF(AND(Topics!$C$17<>"",MAX(1,ROUND(N(Topics!$J$17),0))=5,MAX(1,ROUND(N(Topics!$M$17),0))=5),Topics!$C$17&", ",""))-2),"")
B9: 4 | C9: =IFERROR(LEFT(IF(AND(Topics!$C$8<>"",MAX(1,ROUND(N(Topics!$J$8),0))=4,MAX(1,ROUND(N(Topics!$M$8),0))=1),Topics!$C$8&", ","")&IF(AND(Topics!$C$9<>"",MAX(1,ROUND(N(Topics!$J$9),0))=4,MAX(1,ROUND(N(Topics!$M$9),0))=1),Topics!$C$9&", ","")&IF(AND(Topics!$C$10<>"",MAX(1,ROUND(N(Topics!$J$10),0))=4,MAX(1,ROUND(N(Topics!$M$10),0))=1),Topics!$C$10&", ","")&IF(AND(Topics!$C$11<>"",MAX(1,ROUND(N(Topics!$J$11),0))=4,MAX(1,ROUND(N(Topics!$M$11),0))=1),Topics!$C$11&", ","")&IF(AND(Topics!$C$12<>"",MAX(1,ROUND(N(Topics!$J$12),0))=4,MAX(1,ROUND(N(Topics!$M$12),0))=1),Topics!$C$12&", ","")&IF(AND(Topics!$C$13<>"",MAX(1,ROUND(N(Topics!$J$13),0))=4,MAX(1,ROUND(N(Topics!$M$13),0))=1),Topics!$C$13&", ","")&IF(AND(Topics!$C$14<>"",MAX(1,ROUND(N(Topics!$J$14),0))=4,MAX(1,ROUND(N(Topics!$M$14),0))=1),Topics!$C$14&", ","")&IF(AND(Topics!$C$15<>"",MAX(1,ROUND(N(Topics!$J$15),0))=4,MAX(1,ROUND(N(Topics!$M$15),0))=1),Topics!$C$15&", ","")&IF(AND(Topics!$C$16<>"",MAX(1,ROUND(N(Topics!$J$16),0))=4,MAX(1,ROUND(N(Topics!$M$16),0))=1),Topics!$C$16&", ","")&IF(AND(Topics!$C$17<>"",MAX(1,ROUND(N(Topics!$J$17),0))=4,MAX(1,ROUND(N(Topics!$M$17),0))=1),Topics!$C$17&", ",""),LEN(IF(AND(Topics!$C$8<>"",MAX(1,ROUND(N(Topics!$J$8),0))=4,MAX(1,ROUND(N(Topics!$M$8),0))=1),Topics!$C$8&", ","")&IF(AND(Topics!$C$9<>"",MAX(1,ROUND(N(Topics!$J$9),0))=4,MAX(1,ROUND(N(Topics!$M$9),0))=1),Topics!$C$9&", ","")&IF(AND(Topics!$C$10<>"",MAX(1,ROUND(N(Topics!$J$10),0))=4,MAX(1,ROUND(N(Topics!$M$10),0))=1),Topics!$C$10&", ","")&IF(AND(Topics!$C$11<>"",MAX(1,ROUND(N(Topics!$J$11),0))=4,MAX(1,ROUND(N(Topics!$M$11),0))=1),Topics!$C$11&", ","")&IF(AND(Topics!$C$12<>"",MAX(1,ROUND(N(Topics!$J$12),0))=4,MAX(1,ROUND(N(Topics!$M$12),0))=1),Topics!$C$12&", ","")&IF(AND(Topics!$C$13<>"",MAX(1,ROUND(N(Topics!$J$13),0))=4,MAX(1,ROUND(N(Topics!$M$13),0))=1),Topics!$C$13&", ","")&IF(AND(Topics!$C$14<>"",MAX(1,ROUND(N(Topics!$J$14),0))=4,MAX(1,ROUND(N(Topics!$M$14),0))=1),Topics!$C$14&", ","")&IF(AND(Topics!$C$15<>"",MAX(1,ROUND(N(Topics!$J$15),0))=4,MAX(1,ROUND(N(Topics!$M$15),0))=1),Topics!$C$15&", ","")&IF(AND(Topics!$C$16<>"",MAX(1,ROUND(N(Topics!$J$16),0))=4,MAX(1,ROUND(N(Topics!$M$16),0))=1),Topics!$C$16&", ","")&IF(AND(Topics!$C$17<>"",MAX(1,ROUND(N(Topics!$J$17),0))=4,MAX(1,ROUND(N(Topics!$M$17),0))=1),Topics!$C$17&", ",""))-2),"") | D9: =IFERROR(LEFT(IF(AND(Topics!$C$8<>"",MAX(1,ROUND(N(Topics!$J$8),0))=4,MAX(1,ROUND(N(Topics!$M$8),0))=2),Topics!$C$8&", ","")&IF(AND(Topics!$C$9<>"",MAX(1,ROUND(N(Topics!$J$9),0))=4,MAX(1,ROUND(N(Topics!$M$9),0))=2),Topics!$C$9&", ","")&IF(AND(Topics!$C$10<>"",MAX(1,ROUND(N(Topics!$J$10),0))=4,MAX(1,ROUND(N(Topics!$M$10),0))=2),Topics!$C$10&", ","")&IF(AND(Topics!$C$11<>"",MAX(1,ROUND(N(Topics!$J$11),0))=4,MAX(1,ROUND(N(Topics!$M$11),0))=2),Topics!$C$11&", ","")&IF(AND(Topics!$C$12<>"",MAX(1,ROUND(N(Topics!$J$12),0))=4,MAX(1,ROUND(N(Topics!$M$12),0))=2),Topics!$C$12&", ","")&IF(AND(Topics!$C$13<>"",MAX(1,ROUND(N(Topics!$J$13),0))=4,MAX(1,ROUND(N(Topics!$M$13),0))=2),Topics!$C$13&", ","")&IF(AND(Topics!$C$14<>"",MAX(1,ROUND(N(Topics!$J$14),0))=4,MAX(1,ROUND(N(Topics!$M$14),0))=2),Topics!$C$14&", ","")&IF(AND(Topics!$C$15<>"",MAX(1,ROUND(N(Topics!$J$15),0))=4,MAX(1,ROUND(N(Topics!$M$15),0))=2),Topics!$C$15&", ","")&IF(AND(Topics!$C$16<>"",MAX(1,ROUND(N(Topics!$J$16),0))=4,MAX(1,ROUND(N(Topics!$M$16),0))=2),Topics!$C$16&", ","")&IF(AND(Topics!$C$17<>"",MAX(1,ROUND(N(Topics!$J$17),0))=4,MAX(1,ROUND(N(Topics!$M$17),0))=2),Topics!$C$17&", ",""),LEN(IF(AND(Topics!$C$8<>"",MAX(1,ROUND(N(Topics!$J$8),0))=4,MAX(1,ROUND(N(Topics!$M$8),0))=2),Topics!$C$8&", ","")&IF(AND(Topics!$C$9<>"",MAX(1,ROUND(N(Topics!$J$9),0))=4,MAX(1,ROUND(N(Topics!$M$9),0))=2),Topics!$C$9&", ","")&IF(AND(Topics!$C$10<>"",MAX(1,ROUND(N(Topics!$J$10),0))=4,MAX(1,ROUND(N(Topics!$M$10),0))=2),Topics!$C$10&", ","")&IF(AND(Topics!$C$11<>"",MAX(1,ROUND(N(Topics!$J$11),0))=4,MAX(1,ROUND(N(Topics!$M$11),0))=2),Topics!$C$11&", ","")&IF(AND(Topics!$C$12<>"",MAX(1,ROUND(N(Topics!$J$12),0))=4,MAX(1,ROUND(N(Topics!$M$12),0))=2),Topics!$C$12&", ","")&IF(AND(Topics!$C$13<>"",MAX(1,ROUND(N(Topics!$J$13),0))=4,MAX(1,ROUND(N(Topics!$M$13),0))=2),Topics!$C$13&", ","")&IF(AND(Topics!$C$14<>"",MAX(1,ROUND(N(Topics!$J$14),0))=4,MAX(1,ROUND(N(Topics!$M$14),0))=2),Topics!$C$14&", ","")&IF(AND(Topics!$C$15<>"",MAX(1,ROUND(N(Topics!$J$15),0))=4,MAX(1,ROUND(N(Topics!$M$15),0))=2),Topics!$C$15&", ","")&IF(AND(Topics!$C$16<>"",MAX(1,ROUND(N(Topics!$J$16),0))=4,MAX(1,ROUND(N(Topics!$M$16),0))=2),Topics!$C$16&", ","")&IF(AND(Topics!$C$17<>"",MAX(1,ROUND(N(Topics!$J$17),0))=4,MAX(1,ROUND(N(Topics!$M$17),0))=2),Topics!$C$17&", ",""))-2),"") | E9: =IFERROR(LEFT(IF(AND(Topics!$C$8<>"",MAX(1,ROUND(N(Topics!$J$8),0))=4,MAX(1,ROUND(N(Topics!$M$8),0))=3),Topics!$C$8&", ","")&IF(AND(Topics!$C$9<>"",MAX(1,ROUND(N(Topics!$J$9),0))=4,MAX(1,ROUND(N(Topics!$M$9),0))=3),Topics!$C$9&", ","")&IF(AND(Topics!$C$10<>"",MAX(1,ROUND(N(Topics!$J$10),0))=4,MAX(1,ROUND(N(Topics!$M$10),0))=3),Topics!$C$10&", ","")&IF(AND(Topics!$C$11<>"",MAX(1,ROUND(N(Topics!$J$11),0))=4,MAX(1,ROUND(N(Topics!$M$11),0))=3),Topics!$C$11&", ","")&IF(AND(Topics!$C$12<>"",MAX(1,ROUND(N(Topics!$J$12),0))=4,MAX(1,ROUND(N(Topics!$M$12),0))=3),Topics!$C$12&", ","")&IF(AND(Topics!$C$13<>"",MAX(1,ROUND(N(Topics!$J$13),0))=4,MAX(1,ROUND(N(Topics!$M$13),0))=3),Topics!$C$13&", ","")&IF(AND(Topics!$C$14<>"",MAX(1,ROUND(N(Topics!$J$14),0))=4,MAX(1,ROUND(N(Topics!$M$14),0))=3),Topics!$C$14&", ","")&IF(AND(Topics!$C$15<>"",MAX(1,ROUND(N(Topics!$J$15),0))=4,MAX(1,ROUND(N(Topics!$M$15),0))=3),Topics!$C$15&", ","")&IF(AND(Topics!$C$16<>"",MAX(1,ROUND(N(Topics!$J$16),0))=4,MAX(1,ROUND(N(Topics!$M$16),0))=3),Topics!$C$16&", ","")&IF(AND(Topics!$C$17<>"",MAX(1,ROUND(N(Topics!$J$17),0))=4,MAX(1,ROUND(N(Topics!$M$17),0))=3),Topics!$C$17&", ",""),LEN(IF(AND(Topics!$C$8<>"",MAX(1,ROUND(N(Topics!$J$8),0))=4,MAX(1,ROUND(N(Topics!$M$8),0))=3),Topics!$C$8&", ","")&IF(AND(Topics!$C$9<>"",MAX(1,ROUND(N(Topics!$J$9),0))=4,MAX(1,ROUND(N(Topics!$M$9),0))=3),Topics!$C$9&", ","")&IF(AND(Topics!$C$10<>"",MAX(1,ROUND(N(Topics!$J$10),0))=4,MAX(1,ROUND(N(Topics!$M$10),0))=3),Topics!$C$10&", ","")&IF(AND(Topics!$C$11<>"",MAX(1,ROUND(N(Topics!$J$11),0))=4,MAX(1,ROUND(N(Topics!$M$11),0))=3),Topics!$C$11&", ","")&IF(AND(Topics!$C$12<>"",MAX(1,ROUND(N(Topics!$J$12),0))=4,MAX(1,ROUND(N(Topics!$M$12),0))=3),Topics!$C$12&", ","")&IF(AND(Topics!$C$13<>"",MAX(1,ROUND(N(Topics!$J$13),0))=4,MAX(1,ROUND(N(Topics!$M$13),0))=3),Topics!$C$13&", ","")&IF(AND(Topics!$C$14<>"",MAX(1,ROUND(N(Topics!$J$14),0))=4,MAX(1,ROUND(N(Topics!$M$14),0))=3),Topics!$C$14&", ","")&IF(AND(Topics!$C$15<>"",MAX(1,ROUND(N(Topics!$J$15),0))=4,MAX(1,ROUND(N(Topics!$M$15),0))=3),Topics!$C$15&", ","")&IF(AND(Topics!$C$16<>"",MAX(1,ROUND(N(Topics!$J$16),0))=4,MAX(1,ROUND(N(Topics!$M$16),0))=3),Topics!$C$16&", ","")&IF(AND(Topics!$C$17<>"",MAX(1,ROUND(N(Topics!$J$17),0))=4,MAX(1,ROUND(N(Topics!$M$17),0))=3),Topics!$C$17&", ",""))-2),"") | F9: =IFERROR(LEFT(IF(AND(Topics!$C$8<>"",MAX(1,ROUND(N(Topics!$J$8),0))=4,MAX(1,ROUND(N(Topics!$M$8),0))=4),Topics!$C$8&", ","")&IF(AND(Topics!$C$9<>"",MAX(1,ROUND(N(Topics!$J$9),0))=4,MAX(1,ROUND(N(Topics!$M$9),0))=4),Topics!$C$9&", ","")&IF(AND(Topics!$C$10<>"",MAX(1,ROUND(N(Topics!$J$10),0))=4,MAX(1,ROUND(N(Topics!$M$10),0))=4),Topics!$C$10&", ","")&IF(AND(Topics!$C$11<>"",MAX(1,ROUND(N(Topics!$J$11),0))=4,MAX(1,ROUND(N(Topics!$M$11),0))=4),Topics!$C$11&", ","")&IF(AND(Topics!$C$12<>"",MAX(1,ROUND(N(Topics!$J$12),0))=4,MAX(1,ROUND(N(Topics!$M$12),0))=4),Topics!$C$12&", ","")&IF(AND(Topics!$C$13<>"",MAX(1,ROUND(N(Topics!$J$13),0))=4,MAX(1,ROUND(N(Topics!$M$13),0))=4),Topics!$C$13&", ","")&IF(AND(Topics!$C$14<>"",MAX(1,ROUND(N(Topics!$J$14),0))=4,MAX(1,ROUND(N(Topics!$M$14),0))=4),Topics!$C$14&", ","")&IF(AND(Topics!$C$15<>"",MAX(1,ROUND(N(Topics!$J$15),0))=4,MAX(1,ROUND(N(Topics!$M$15),0))=4),Topics!$C$15&", ","")&IF(AND(Topics!$C$16<>"",MAX(1,ROUND(N(Topics!$J$16),0))=4,MAX(1,ROUND(N(Topics!$M$16),0))=4),Topics!$C$16&", ","")&IF(AND(Topics!$C$17<>"",MAX(1,ROUND(N(Topics!$J$17),0))=4,MAX(1,ROUND(N(Topics!$M$17),0))=4),Topics!$C$17&", ",""),LEN(IF(AND(Topics!$C$8<>"",MAX(1,ROUND(N(Topics!$J$8),0))=4,MAX(1,ROUND(N(Topics!$M$8),0))=4),Topics!$C$8&", ","")&IF(AND(Topics!$C$9<>"",MAX(1,ROUND(N(Topics!$J$9),0))=4,MAX(1,ROUND(N(Topics!$M$9),0))=4),Topics!$C$9&", ","")&IF(AND(Topics!$C$10<>"",MAX(1,ROUND(N(Topics!$J$10),0))=4,MAX(1,ROUND(N(Topics!$M$10),0))=4),Topics!$C$10&", ","")&IF(AND(Topics!$C$11<>"",MAX(1,ROUND(N(Topics!$J$11),0))=4,MAX(1,ROUND(N(Topics!$M$11),0))=4),Topics!$C$11&", ","")&IF(AND(Topics!$C$12<>"",MAX(1,ROUND(N(Topics!$J$12),0))=4,MAX(1,ROUND(N(Topics!$M$12),0))=4),Topics!$C$12&", ","")&IF(AND(Topics!$C$13<>"",MAX(1,ROUND(N(Topics!$J$13),0))=4,MAX(1,ROUND(N(Topics!$M$13),0))=4),Topics!$C$13&", ","")&IF(AND(Topics!$C$14<>"",MAX(1,ROUND(N(Topics!$J$14),0))=4,MAX(1,ROUND(N(Topics!$M$14),0))=4),Topics!$C$14&", ","")&IF(AND(Topics!$C$15<>"",MAX(1,ROUND(N(Topics!$J$15),0))=4,MAX(1,ROUND(N(Topics!$M$15),0))=4),Topics!$C$15&", ","")&IF(AND(Topics!$C$16<>"",MAX(1,ROUND(N(Topics!$J$16),0))=4,MAX(1,ROUND(N(Topics!$M$16),0))=4),Topics!$C$16&", ","")&IF(AND(Topics!$C$17<>"",MAX(1,ROUND(N(Topics!$J$17),0))=4,MAX(1,ROUND(N(Topics!$M$17),0))=4),Topics!$C$17&", ",""))-2),"") | G9: =IFERROR(LEFT(IF(AND(Topics!$C$8<>"",MAX(1,ROUND(N(Topics!$J$8),0))=4,MAX(1,ROUND(N(Topics!$M$8),0))=5),Topics!$C$8&", ","")&IF(AND(Topics!$C$9<>"",MAX(1,ROUND(N(Topics!$J$9),0))=4,MAX(1,ROUND(N(Topics!$M$9),0))=5),Topics!$C$9&", ","")&IF(AND(Topics!$C$10<>"",MAX(1,ROUND(N(Topics!$J$10),0))=4,MAX(1,ROUND(N(Topics!$M$10),0))=5),Topics!$C$10&", ","")&IF(AND(Topics!$C$11<>"",MAX(1,ROUND(N(Topics!$J$11),0))=4,MAX(1,ROUND(N(Topics!$M$11),0))=5),Topics!$C$11&", ","")&IF(AND(Topics!$C$12<>"",MAX(1,ROUND(N(Topics!$J$12),0))=4,MAX(1,ROUND(N(Topics!$M$12),0))=5),Topics!$C$12&", ","")&IF(AND(Topics!$C$13<>"",MAX(1,ROUND(N(Topics!$J$13),0))=4,MAX(1,ROUND(N(Topics!$M$13),0))=5),Topics!$C$13&", ","")&IF(AND(Topics!$C$14<>"",MAX(1,ROUND(N(Topics!$J$14),0))=4,MAX(1,ROUND(N(Topics!$M$14),0))=5),Topics!$C$14&", ","")&IF(AND(Topics!$C$15<>"",MAX(1,ROUND(N(Topics!$J$15),0))=4,MAX(1,ROUND(N(Topics!$M$15),0))=5),Topics!$C$15&", ","")&IF(AND(Topics!$C$16<>"",MAX(1,ROUND(N(Topics!$J$16),0))=4,MAX(1,ROUND(N(Topics!$M$16),0))=5),Topics!$C$16&", ","")&IF(AND(Topics!$C$17<>"",MAX(1,ROUND(N(Topics!$J$17),0))=4,MAX(1,ROUND(N(Topics!$M$17),0))=5),Topics!$C$17&", ",""),LEN(IF(AND(Topics!$C$8<>"",MAX(1,ROUND(N(Topics!$J$8),0))=4,MAX(1,ROUND(N(Topics!$M$8),0))=5),Topics!$C$8&", ","")&IF(AND(Topics!$C$9<>"",MAX(1,ROUND(N(Topics!$J$9),0))=4,MAX(1,ROUND(N(Topics!$M$9),0))=5),Topics!$C$9&", ","")&IF(AND(Topics!$C$10<>"",MAX(1,ROUND(N(Topics!$J$10),0))=4,MAX(1,ROUND(N(Topics!$M$10),0))=5),Topics!$C$10&", ","")&IF(AND(Topics!$C$11<>"",MAX(1,ROUND(N(Topics!$J$11),0))=4,MAX(1,ROUND(N(Topics!$M$11),0))=5),Topics!$C$11&", ","")&IF(AND(Topics!$C$12<>"",MAX(1,ROUND(N(Topics!$J$12),0))=4,MAX(1,ROUND(N(Topics!$M$12),0))=5),Topics!$C$12&", ","")&IF(AND(Topics!$C$13<>"",MAX(1,ROUND(N(Topics!$J$13),0))=4,MAX(1,ROUND(N(Topics!$M$13),0))=5),Topics!$C$13&", ","")&IF(AND(Topics!$C$14<>"",MAX(1,ROUND(N(Topics!$J$14),0))=4,MAX(1,ROUND(N(Topics!$M$14),0))=5),Topics!$C$14&", ","")&IF(AND(Topics!$C$15<>"",MAX(1,ROUND(N(Topics!$J$15),0))=4,MAX(1,ROUND(N(Topics!$M$15),0))=5),Topics!$C$15&", ","")&IF(AND(Topics!$C$16<>"",MAX(1,ROUND(N(Topics!$J$16),0))=4,MAX(1,ROUND(N(Topics!$M$16),0))=5),Topics!$C$16&", ","")&IF(AND(Topics!$C$17<>"",MAX(1,ROUND(N(Topics!$J$17),0))=4,MAX(1,ROUND(N(Topics!$M$17),0))=5),Topics!$C$17&", ",""))-2),"")
B10: 3 | C10: =IFERROR(LEFT(IF(AND(Topics!$C$8<>"",MAX(1,ROUND(N(Topics!$J$8),0))=3,MAX(1,ROUND(N(Topics!$M$8),0))=1),Topics!$C$8&", ","")&IF(AND(Topics!$C$9<>"",MAX(1,ROUND(N(Topics!$J$9),0))=3,MAX(1,ROUND(N(Topics!$M$9),0))=1),Topics!$C$9&", ","")&IF(AND(Topics!$C$10<>"",MAX(1,ROUND(N(Topics!$J$10),0))=3,MAX(1,ROUND(N(Topics!$M$10),0))=1),Topics!$C$10&", ","")&IF(AND(Topics!$C$11<>"",MAX(1,ROUND(N(Topics!$J$11),0))=3,MAX(1,ROUND(N(Topics!$M$11),0))=1),Topics!$C$11&", ","")&IF(AND(Topics!$C$12<>"",MAX(1,ROUND(N(Topics!$J$12),0))=3,MAX(1,ROUND(N(Topics!$M$12),0))=1),Topics!$C$12&", ","")&IF(AND(Topics!$C$13<>"",MAX(1,ROUND(N(Topics!$J$13),0))=3,MAX(1,ROUND(N(Topics!$M$13),0))=1),Topics!$C$13&", ","")&IF(AND(Topics!$C$14<>"",MAX(1,ROUND(N(Topics!$J$14),0))=3,MAX(1,ROUND(N(Topics!$M$14),0))=1),Topics!$C$14&", ","")&IF(AND(Topics!$C$15<>"",MAX(1,ROUND(N(Topics!$J$15),0))=3,MAX(1,ROUND(N(Topics!$M$15),0))=1),Topics!$C$15&", ","")&IF(AND(Topics!$C$16<>"",MAX(1,ROUND(N(Topics!$J$16),0))=3,MAX(1,ROUND(N(Topics!$M$16),0))=1),Topics!$C$16&", ","")&IF(AND(Topics!$C$17<>"",MAX(1,ROUND(N(Topics!$J$17),0))=3,MAX(1,ROUND(N(Topics!$M$17),0))=1),Topics!$C$17&", ",""),LEN(IF(AND(Topics!$C$8<>"",MAX(1,ROUND(N(Topics!$J$8),0))=3,MAX(1,ROUND(N(Topics!$M$8),0))=1),Topics!$C$8&", ","")&IF(AND(Topics!$C$9<>"",MAX(1,ROUND(N(Topics!$J$9),0))=3,MAX(1,ROUND(N(Topics!$M$9),0))=1),Topics!$C$9&", ","")&IF(AND(Topics!$C$10<>"",MAX(1,ROUND(N(Topics!$J$10),0))=3,MAX(1,ROUND(N(Topics!$M$10),0))=1),Topics!$C$10&", ","")&IF(AND(Topics!$C$11<>"",MAX(1,ROUND(N(Topics!$J$11),0))=3,MAX(1,ROUND(N(Topics!$M$11),0))=1),Topics!$C$11&", ","")&IF(AND(Topics!$C$12<>"",MAX(1,ROUND(N(Topics!$J$12),0))=3,MAX(1,ROUND(N(Topics!$M$12),0))=1),Topics!$C$12&", ","")&IF(AND(Topics!$C$13<>"",MAX(1,ROUND(N(Topics!$J$13),0))=3,MAX(1,ROUND(N(Topics!$M$13),0))=1),Topics!$C$13&", ","")&IF(AND(Topics!$C$14<>"",MAX(1,ROUND(N(Topics!$J$14),0))=3,MAX(1,ROUND(N(Topics!$M$14),0))=1),Topics!$C$14&", ","")&IF(AND(Topics!$C$15<>"",MAX(1,ROUND(N(Topics!$J$15),0))=3,MAX(1,ROUND(N(Topics!$M$15),0))=1),Topics!$C$15&", ","")&IF(AND(Topics!$C$16<>"",MAX(1,ROUND(N(Topics!$J$16),0))=3,MAX(1,ROUND(N(Topics!$M$16),0))=1),Topics!$C$16&", ","")&IF(AND(Topics!$C$17<>"",MAX(1,ROUND(N(Topics!$J$17),0))=3,MAX(1,ROUND(N(Topics!$M$17),0))=1),Topics!$C$17&", ",""))-2),"") | D10: =IFERROR(LEFT(IF(AND(Topics!$C$8<>"",MAX(1,ROUND(N(Topics!$J$8),0))=3,MAX(1,ROUND(N(Topics!$M$8),0))=2),Topics!$C$8&", ","")&IF(AND(Topics!$C$9<>"",MAX(1,ROUND(N(Topics!$J$9),0))=3,MAX(1,ROUND(N(Topics!$M$9),0))=2),Topics!$C$9&", ","")&IF(AND(Topics!$C$10<>"",MAX(1,ROUND(N(Topics!$J$10),0))=3,MAX(1,ROUND(N(Topics!$M$10),0))=2),Topics!$C$10&", ","")&IF(AND(Topics!$C$11<>"",MAX(1,ROUND(N(Topics!$J$11),0))=3,MAX(1,ROUND(N(Topics!$M$11),0))=2),Topics!$C$11&", ","")&IF(AND(Topics!$C$12<>"",MAX(1,ROUND(N(Topics!$J$12),0))=3,MAX(1,ROUND(N(Topics!$M$12),0))=2),Topics!$C$12&", ","")&IF(AND(Topics!$C$13<>"",MAX(1,ROUND(N(Topics!$J$13),0))=3,MAX(1,ROUND(N(Topics!$M$13),0))=2),Topics!$C$13&", ","")&IF(AND(Topics!$C$14<>"",MAX(1,ROUND(N(Topics!$J$14),0))=3,MAX(1,ROUND(N(Topics!$M$14),0))=2),Topics!$C$14&", ","")&IF(AND(Topics!$C$15<>"",MAX(1,ROUND(N(Topics!$J$15),0))=3,MAX(1,ROUND(N(Topics!$M$15),0))=2),Topics!$C$15&", ","")&IF(AND(Topics!$C$16<>"",MAX(1,ROUND(N(Topics!$J$16),0))=3,MAX(1,ROUND(N(Topics!$M$16),0))=2),Topics!$C$16&", ","")&IF(AND(Topics!$C$17<>"",MAX(1,ROUND(N(Topics!$J$17),0))=3,MAX(1,ROUND(N(Topics!$M$17),0))=2),Topics!$C$17&", ",""),LEN(IF(AND(Topics!$C$8<>"",MAX(1,ROUND(N(Topics!$J$8),0))=3,MAX(1,ROUND(N(Topics!$M$8),0))=2),Topics!$C$8&", ","")&IF(AND(Topics!$C$9<>"",MAX(1,ROUND(N(Topics!$J$9),0))=3,MAX(1,ROUND(N(Topics!$M$9),0))=2),Topics!$C$9&", ","")&IF(AND(Topics!$C$10<>"",MAX(1,ROUND(N(Topics!$J$10),0))=3,MAX(1,ROUND(N(Topics!$M$10),0))=2),Topics!$C$10&", ","")&IF(AND(Topics!$C$11<>"",MAX(1,ROUND(N(Topics!$J$11),0))=3,MAX(1,ROUND(N(Topics!$M$11),0))=2),Topics!$C$11&", ","")&IF(AND(Topics!$C$12<>"",MAX(1,ROUND(N(Topics!$J$12),0))=3,MAX(1,ROUND(N(Topics!$M$12),0))=2),Topics!$C$12&", ","")&IF(AND(Topics!$C$13<>"",MAX(1,ROUND(N(Topics!$J$13),0))=3,MAX(1,ROUND(N(Topics!$M$13),0))=2),Topics!$C$13&", ","")&IF(AND(Topics!$C$14<>"",MAX(1,ROUND(N(Topics!$J$14),0))=3,MAX(1,ROUND(N(Topics!$M$14),0))=2),Topics!$C$14&", ","")&IF(AND(Topics!$C$15<>"",MAX(1,ROUND(N(Topics!$J$15),0))=3,MAX(1,ROUND(N(Topics!$M$15),0))=2),Topics!$C$15&", ","")&IF(AND(Topics!$C$16<>"",MAX(1,ROUND(N(Topics!$J$16),0))=3,MAX(1,ROUND(N(Topics!$M$16),0))=2),Topics!$C$16&", ","")&IF(AND(Topics!$C$17<>"",MAX(1,ROUND(N(Topics!$J$17),0))=3,MAX(1,ROUND(N(Topics!$M$17),0))=2),Topics!$C$17&", ",""))-2),"") | E10: =IFERROR(LEFT(IF(AND(Topics!$C$8<>"",MAX(1,ROUND(N(Topics!$J$8),0))=3,MAX(1,ROUND(N(Topics!$M$8),0))=3),Topics!$C$8&", ","")&IF(AND(Topics!$C$9<>"",MAX(1,ROUND(N(Topics!$J$9),0))=3,MAX(1,ROUND(N(Topics!$M$9),0))=3),Topics!$C$9&", ","")&IF(AND(Topics!$C$10<>"",MAX(1,ROUND(N(Topics!$J$10),0))=3,MAX(1,ROUND(N(Topics!$M$10),0))=3),Topics!$C$10&", ","")&IF(AND(Topics!$C$11<>"",MAX(1,ROUND(N(Topics!$J$11),0))=3,MAX(1,ROUND(N(Topics!$M$11),0))=3),Topics!$C$11&", ","")&IF(AND(Topics!$C$12<>"",MAX(1,ROUND(N(Topics!$J$12),0))=3,MAX(1,ROUND(N(Topics!$M$12),0))=3),Topics!$C$12&", ","")&IF(AND(Topics!$C$13<>"",MAX(1,ROUND(N(Topics!$J$13),0))=3,MAX(1,ROUND(N(Topics!$M$13),0))=3),Topics!$C$13&", ","")&IF(AND(Topics!$C$14<>"",MAX(1,ROUND(N(Topics!$J$14),0))=3,MAX(1,ROUND(N(Topics!$M$14),0))=3),Topics!$C$14&", ","")&IF(AND(Topics!$C$15<>"",MAX(1,ROUND(N(Topics!$J$15),0))=3,MAX(1,ROUND(N(Topics!$M$15),0))=3),Topics!$C$15&", ","")&IF(AND(Topics!$C$16<>"",MAX(1,ROUND(N(Topics!$J$16),0))=3,MAX(1,ROUND(N(Topics!$M$16),0))=3),Topics!$C$16&", ","")&IF(AND(Topics!$C$17<>"",MAX(1,ROUND(N(Topics!$J$17),0))=3,MAX(1,ROUND(N(Topics!$M$17),0))=3),Topics!$C$17&", ",""),LEN(IF(AND(Topics!$C$8<>"",MAX(1,ROUND(N(Topics!$J$8),0))=3,MAX(1,ROUND(N(Topics!$M$8),0))=3),Topics!$C$8&", ","")&IF(AND(Topics!$C$9<>"",MAX(1,ROUND(N(Topics!$J$9),0))=3,MAX(1,ROUND(N(Topics!$M$9),0))=3),Topics!$C$9&", ","")&IF(AND(Topics!$C$10<>"",MAX(1,ROUND(N(Topics!$J$10),0))=3,MAX(1,ROUND(N(Topics!$M$10),0))=3),Topics!$C$10&", ","")&IF(AND(Topics!$C$11<>"",MAX(1,ROUND(N(Topics!$J$11),0))=3,MAX(1,ROUND(N(Topics!$M$11),0))=3),Topics!$C$11&", ","")&IF(AND(Topics!$C$12<>"",MAX(1,ROUND(N(Topics!$J$12),0))=3,MAX(1,ROUND(N(Topics!$M$12),0))=3),Topics!$C$12&", ","")&IF(AND(Topics!$C$13<>"",MAX(1,ROUND(N(Topics!$J$13),0))=3,MAX(1,ROUND(N(Topics!$M$13),0))=3),Topics!$C$13&", ","")&IF(AND(Topics!$C$14<>"",MAX(1,ROUND(N(Topics!$J$14),0))=3,MAX(1,ROUND(N(Topics!$M$14),0))=3),Topics!$C$14&", ","")&IF(AND(Topics!$C$15<>"",MAX(1,ROUND(N(Topics!$J$15),0))=3,MAX(1,ROUND(N(Topics!$M$15),0))=3),Topics!$C$15&", ","")&IF(AND(Topics!$C$16<>"",MAX(1,ROUND(N(Topics!$J$16),0))=3,MAX(1,ROUND(N(Topics!$M$16),0))=3),Topics!$C$16&", ","")&IF(AND(Topics!$C$17<>"",MAX(1,ROUND(N(Topics!$J$17),0))=3,MAX(1,ROUND(N(Topics!$M$17),0))=3),Topics!$C$17&", ",""))-2),"") | F10: =IFERROR(LEFT(IF(AND(Topics!$C$8<>"",MAX(1,ROUND(N(Topics!$J$8),0))=3,MAX(1,ROUND(N(Topics!$M$8),0))=4),Topics!$C$8&", ","")&IF(AND(Topics!$C$9<>"",MAX(1,ROUND(N(Topics!$J$9),0))=3,MAX(1,ROUND(N(Topics!$M$9),0))=4),Topics!$C$9&", ","")&IF(AND(Topics!$C$10<>"",MAX(1,ROUND(N(Topics!$J$10),0))=3,MAX(1,ROUND(N(Topics!$M$10),0))=4),Topics!$C$10&", ","")&IF(AND(Topics!$C$11<>"",MAX(1,ROUND(N(Topics!$J$11),0))=3,MAX(1,ROUND(N(Topics!$M$11),0))=4),Topics!$C$11&", ","")&IF(AND(Topics!$C$12<>"",MAX(1,ROUND(N(Topics!$J$12),0))=3,MAX(1,ROUND(N(Topics!$M$12),0))=4),Topics!$C$12&", ","")&IF(AND(Topics!$C$13<>"",MAX(1,ROUND(N(Topics!$J$13),0))=3,MAX(1,ROUND(N(Topics!$M$13),0))=4),Topics!$C$13&", ","")&IF(AND(Topics!$C$14<>"",MAX(1,ROUND(N(Topics!$J$14),0))=3,MAX(1,ROUND(N(Topics!$M$14),0))=4),Topics!$C$14&", ","")&IF(AND(Topics!$C$15<>"",MAX(1,ROUND(N(Topics!$J$15),0))=3,MAX(1,ROUND(N(Topics!$M$15),0))=4),Topics!$C$15&", ","")&IF(AND(Topics!$C$16<>"",MAX(1,ROUND(N(Topics!$J$16),0))=3,MAX(1,ROUND(N(Topics!$M$16),0))=4),Topics!$C$16&", ","")&IF(AND(Topics!$C$17<>"",MAX(1,ROUND(N(Topics!$J$17),0))=3,MAX(1,ROUND(N(Topics!$M$17),0))=4),Topics!$C$17&", ",""),LEN(IF(AND(Topics!$C$8<>"",MAX(1,ROUND(N(Topics!$J$8),0))=3,MAX(1,ROUND(N(Topics!$M$8),0))=4),Topics!$C$8&", ","")&IF(AND(Topics!$C$9<>"",MAX(1,ROUND(N(Topics!$J$9),0))=3,MAX(1,ROUND(N(Topics!$M$9),0))=4),Topics!$C$9&", ","")&IF(AND(Topics!$C$10<>"",MAX(1,ROUND(N(Topics!$J$10),0))=3,MAX(1,ROUND(N(Topics!$M$10),0))=4),Topics!$C$10&", ","")&IF(AND(Topics!$C$11<>"",MAX(1,ROUND(N(Topics!$J$11),0))=3,MAX(1,ROUND(N(Topics!$M$11),0))=4),Topics!$C$11&", ","")&IF(AND(Topics!$C$12<>"",MAX(1,ROUND(N(Topics!$J$12),0))=3,MAX(1,ROUND(N(Topics!$M$12),0))=4),Topics!$C$12&", ","")&IF(AND(Topics!$C$13<>"",MAX(1,ROUND(N(Topics!$J$13),0))=3,MAX(1,ROUND(N(Topics!$M$13),0))=4),Topics!$C$13&", ","")&IF(AND(Topics!$C$14<>"",MAX(1,ROUND(N(Topics!$J$14),0))=3,MAX(1,ROUND(N(Topics!$M$14),0))=4),Topics!$C$14&", ","")&IF(AND(Topics!$C$15<>"",MAX(1,ROUND(N(Topics!$J$15),0))=3,MAX(1,ROUND(N(Topics!$M$15),0))=4),Topics!$C$15&", ","")&IF(AND(Topics!$C$16<>"",MAX(1,ROUND(N(Topics!$J$16),0))=3,MAX(1,ROUND(N(Topics!$M$16),0))=4),Topics!$C$16&", ","")&IF(AND(Topics!$C$17<>"",MAX(1,ROUND(N(Topics!$J$17),0))=3,MAX(1,ROUND(N(Topics!$M$17),0))=4),Topics!$C$17&", ",""))-2),"") | G10: =IFERROR(LEFT(IF(AND(Topics!$C$8<>"",MAX(1,ROUND(N(Topics!$J$8),0))=3,MAX(1,ROUND(N(Topics!$M$8),0))=5),Topics!$C$8&", ","")&IF(AND(Topics!$C$9<>"",MAX(1,ROUND(N(Topics!$J$9),0))=3,MAX(1,ROUND(N(Topics!$M$9),0))=5),Topics!$C$9&", ","")&IF(AND(Topics!$C$10<>"",MAX(1,ROUND(N(Topics!$J$10),0))=3,MAX(1,ROUND(N(Topics!$M$10),0))=5),Topics!$C$10&", ","")&IF(AND(Topics!$C$11<>"",MAX(1,ROUND(N(Topics!$J$11),0))=3,MAX(1,ROUND(N(Topics!$M$11),0))=5),Topics!$C$11&", ","")&IF(AND(Topics!$C$12<>"",MAX(1,ROUND(N(Topics!$J$12),0))=3,MAX(1,ROUND(N(Topics!$M$12),0))=5),Topics!$C$12&", ","")&IF(AND(Topics!$C$13<>"",MAX(1,ROUND(N(Topics!$J$13),0))=3,MAX(1,ROUND(N(Topics!$M$13),0))=5),Topics!$C$13&", ","")&IF(AND(Topics!$C$14<>"",MAX(1,ROUND(N(Topics!$J$14),0))=3,MAX(1,ROUND(N(Topics!$M$14),0))=5),Topics!$C$14&", ","")&IF(AND(Topics!$C$15<>"",MAX(1,ROUND(N(Topics!$J$15),0))=3,MAX(1,ROUND(N(Topics!$M$15),0))=5),Topics!$C$15&", ","")&IF(AND(Topics!$C$16<>"",MAX(1,ROUND(N(Topics!$J$16),0))=3,MAX(1,ROUND(N(Topics!$M$16),0))=5),Topics!$C$16&", ","")&IF(AND(Topics!$C$17<>"",MAX(1,ROUND(N(Topics!$J$17),0))=3,MAX(1,ROUND(N(Topics!$M$17),0))=5),Topics!$C$17&", ",""),LEN(IF(AND(Topics!$C$8<>"",MAX(1,ROUND(N(Topics!$J$8),0))=3,MAX(1,ROUND(N(Topics!$M$8),0))=5),Topics!$C$8&", ","")&IF(AND(Topics!$C$9<>"",MAX(1,ROUND(N(Topics!$J$9),0))=3,MAX(1,ROUND(N(Topics!$M$9),0))=5),Topics!$C$9&", ","")&IF(AND(Topics!$C$10<>"",MAX(1,ROUND(N(Topics!$J$10),0))=3,MAX(1,ROUND(N(Topics!$M$10),0))=5),Topics!$C$10&", ","")&IF(AND(Topics!$C$11<>"",MAX(1,ROUND(N(Topics!$J$11),0))=3,MAX(1,ROUND(N(Topics!$M$11),0))=5),Topics!$C$11&", ","")&IF(AND(Topics!$C$12<>"",MAX(1,ROUND(N(Topics!$J$12),0))=3,MAX(1,ROUND(N(Topics!$M$12),0))=5),Topics!$C$12&", ","")&IF(AND(Topics!$C$13<>"",MAX(1,ROUND(N(Topics!$J$13),0))=3,MAX(1,ROUND(N(Topics!$M$13),0))=5),Topics!$C$13&", ","")&IF(AND(Topics!$C$14<>"",MAX(1,ROUND(N(Topics!$J$14),0))=3,MAX(1,ROUND(N(Topics!$M$14),0))=5),Topics!$C$14&", ","")&IF(AND(Topics!$C$15<>"",MAX(1,ROUND(N(Topics!$J$15),0))=3,MAX(1,ROUND(N(Topics!$M$15),0))=5),Topics!$C$15&", ","")&IF(AND(Topics!$C$16<>"",MAX(1,ROUND(N(Topics!$J$16),0))=3,MAX(1,ROUND(N(Topics!$M$16),0))=5),Topics!$C$16&", ","")&IF(AND(Topics!$C$17<>"",MAX(1,ROUND(N(Topics!$J$17),0))=3,MAX(1,ROUND(N(Topics!$M$17),0))=5),Topics!$C$17&", ",""))-2),"")
B11: 2 | C11: =IFERROR(LEFT(IF(AND(Topics!$C$8<>"",MAX(1,ROUND(N(Topics!$J$8),0))=2,MAX(1,ROUND(N(Topics!$M$8),0))=1),Topics!$C$8&", ","")&IF(AND(Topics!$C$9<>"",MAX(1,ROUND(N(Topics!$J$9),0))=2,MAX(1,ROUND(N(Topics!$M$9),0))=1),Topics!$C$9&", ","")&IF(AND(Topics!$C$10<>"",MAX(1,ROUND(N(Topics!$J$10),0))=2,MAX(1,ROUND(N(Topics!$M$10),0))=1),Topics!$C$10&", ","")&IF(AND(Topics!$C$11<>"",MAX(1,ROUND(N(Topics!$J$11),0))=2,MAX(1,ROUND(N(Topics!$M$11),0))=1),Topics!$C$11&", ","")&IF(AND(Topics!$C$12<>"",MAX(1,ROUND(N(Topics!$J$12),0))=2,MAX(1,ROUND(N(Topics!$M$12),0))=1),Topics!$C$12&", ","")&IF(AND(Topics!$C$13<>"",MAX(1,ROUND(N(Topics!$J$13),0))=2,MAX(1,ROUND(N(Topics!$M$13),0))=1),Topics!$C$13&", ","")&IF(AND(Topics!$C$14<>"",MAX(1,ROUND(N(Topics!$J$14),0))=2,MAX(1,ROUND(N(Topics!$M$14),0))=1),Topics!$C$14&", ","")&IF(AND(Topics!$C$15<>"",MAX(1,ROUND(N(Topics!$J$15),0))=2,MAX(1,ROUND(N(Topics!$M$15),0))=1),Topics!$C$15&", ","")&IF(AND(Topics!$C$16<>"",MAX(1,ROUND(N(Topics!$J$16),0))=2,MAX(1,ROUND(N(Topics!$M$16),0))=1),Topics!$C$16&", ","")&IF(AND(Topics!$C$17<>"",MAX(1,ROUND(N(Topics!$J$17),0))=2,MAX(1,ROUND(N(Topics!$M$17),0))=1),Topics!$C$17&", ",""),LEN(IF(AND(Topics!$C$8<>"",MAX(1,ROUND(N(Topics!$J$8),0))=2,MAX(1,ROUND(N(Topics!$M$8),0))=1),Topics!$C$8&", ","")&IF(AND(Topics!$C$9<>"",MAX(1,ROUND(N(Topics!$J$9),0))=2,MAX(1,ROUND(N(Topics!$M$9),0))=1),Topics!$C$9&", ","")&IF(AND(Topics!$C$10<>"",MAX(1,ROUND(N(Topics!$J$10),0))=2,MAX(1,ROUND(N(Topics!$M$10),0))=1),Topics!$C$10&", ","")&IF(AND(Topics!$C$11<>"",MAX(1,ROUND(N(Topics!$J$11),0))=2,MAX(1,ROUND(N(Topics!$M$11),0))=1),Topics!$C$11&", ","")&IF(AND(Topics!$C$12<>"",MAX(1,ROUND(N(Topics!$J$12),0))=2,MAX(1,ROUND(N(Topics!$M$12),0))=1),Topics!$C$12&", ","")&IF(AND(Topics!$C$13<>"",MAX(1,ROUND(N(Topics!$J$13),0))=2,MAX(1,ROUND(N(Topics!$M$13),0))=1),Topics!$C$13&", ","")&IF(AND(Topics!$C$14<>"",MAX(1,ROUND(N(Topics!$J$14),0))=2,MAX(1,ROUND(N(Topics!$M$14),0))=1),Topics!$C$14&", ","")&IF(AND(Topics!$C$15<>"",MAX(1,ROUND(N(Topics!$J$15),0))=2,MAX(1,ROUND(N(Topics!$M$15),0))=1),Topics!$C$15&", ","")&IF(AND(Topics!$C$16<>"",MAX(1,ROUND(N(Topics!$J$16),0))=2,MAX(1,ROUND(N(Topics!$M$16),0))=1),Topics!$C$16&", ","")&IF(AND(Topics!$C$17<>"",MAX(1,ROUND(N(Topics!$J$17),0))=2,MAX(1,ROUND(N(Topics!$M$17),0))=1),Topics!$C$17&", ",""))-2),"") | D11: =IFERROR(LEFT(IF(AND(Topics!$C$8<>"",MAX(1,ROUND(N(Topics!$J$8),0))=2,MAX(1,ROUND(N(Topics!$M$8),0))=2),Topics!$C$8&", ","")&IF(AND(Topics!$C$9<>"",MAX(1,ROUND(N(Topics!$J$9),0))=2,MAX(1,ROUND(N(Topics!$M$9),0))=2),Topics!$C$9&", ","")&IF(AND(Topics!$C$10<>"",MAX(1,ROUND(N(Topics!$J$10),0))=2,MAX(1,ROUND(N(Topics!$M$10),0))=2),Topics!$C$10&", ","")&IF(AND(Topics!$C$11<>"",MAX(1,ROUND(N(Topics!$J$11),0))=2,MAX(1,ROUND(N(Topics!$M$11),0))=2),Topics!$C$11&", ","")&IF(AND(Topics!$C$12<>"",MAX(1,ROUND(N(Topics!$J$12),0))=2,MAX(1,ROUND(N(Topics!$M$12),0))=2),Topics!$C$12&", ","")&IF(AND(Topics!$C$13<>"",MAX(1,ROUND(N(Topics!$J$13),0))=2,MAX(1,ROUND(N(Topics!$M$13),0))=2),Topics!$C$13&", ","")&IF(AND(Topics!$C$14<>"",MAX(1,ROUND(N(Topics!$J$14),0))=2,MAX(1,ROUND(N(Topics!$M$14),0))=2),Topics!$C$14&", ","")&IF(AND(Topics!$C$15<>"",MAX(1,ROUND(N(Topics!$J$15),0))=2,MAX(1,ROUND(N(Topics!$M$15),0))=2),Topics!$C$15&", ","")&IF(AND(Topics!$C$16<>"",MAX(1,ROUND(N(Topics!$J$16),0))=2,MAX(1,ROUND(N(Topics!$M$16),0))=2),Topics!$C$16&", ","")&IF(AND(Topics!$C$17<>"",MAX(1,ROUND(N(Topics!$J$17),0))=2,MAX(1,ROUND(N(Topics!$M$17),0))=2),Topics!$C$17&", ",""),LEN(IF(AND(Topics!$C$8<>"",MAX(1,ROUND(N(Topics!$J$8),0))=2,MAX(1,ROUND(N(Topics!$M$8),0))=2),Topics!$C$8&", ","")&IF(AND(Topics!$C$9<>"",MAX(1,ROUND(N(Topics!$J$9),0))=2,MAX(1,ROUND(N(Topics!$M$9),0))=2),Topics!$C$9&", ","")&IF(AND(Topics!$C$10<>"",MAX(1,ROUND(N(Topics!$J$10),0))=2,MAX(1,ROUND(N(Topics!$M$10),0))=2),Topics!$C$10&", ","")&IF(AND(Topics!$C$11<>"",MAX(1,ROUND(N(Topics!$J$11),0))=2,MAX(1,ROUND(N(Topics!$M$11),0))=2),Topics!$C$11&", ","")&IF(AND(Topics!$C$12<>"",MAX(1,ROUND(N(Topics!$J$12),0))=2,MAX(1,ROUND(N(Topics!$M$12),0))=2),Topics!$C$12&", ","")&IF(AND(Topics!$C$13<>"",MAX(1,ROUND(N(Topics!$J$13),0))=2,MAX(1,ROUND(N(Topics!$M$13),0))=2),Topics!$C$13&", ","")&IF(AND(Topics!$C$14<>"",MAX(1,ROUND(N(Topics!$J$14),0))=2,MAX(1,ROUND(N(Topics!$M$14),0))=2),Topics!$C$14&", ","")&IF(AND(Topics!$C$15<>"",MAX(1,ROUND(N(Topics!$J$15),0))=2,MAX(1,ROUND(N(Topics!$M$15),0))=2),Topics!$C$15&", ","")&IF(AND(Topics!$C$16<>"",MAX(1,ROUND(N(Topics!$J$16),0))=2,MAX(1,ROUND(N(Topics!$M$16),0))=2),Topics!$C$16&", ","")&IF(AND(Topics!$C$17<>"",MAX(1,ROUND(N(Topics!$J$17),0))=2,MAX(1,ROUND(N(Topics!$M$17),0))=2),Topics!$C$17&", ",""))-2),"") | E11: =IFERROR(LEFT(IF(AND(Topics!$C$8<>"",MAX(1,ROUND(N(Topics!$J$8),0))=2,MAX(1,ROUND(N(Topics!$M$8),0))=3),Topics!$C$8&", ","")&IF(AND(Topics!$C$9<>"",MAX(1,ROUND(N(Topics!$J$9),0))=2,MAX(1,ROUND(N(Topics!$M$9),0))=3),Topics!$C$9&", ","")&IF(AND(Topics!$C$10<>"",MAX(1,ROUND(N(Topics!$J$10),0))=2,MAX(1,ROUND(N(Topics!$M$10),0))=3),Topics!$C$10&", ","")&IF(AND(Topics!$C$11<>"",MAX(1,ROUND(N(Topics!$J$11),0))=2,MAX(1,ROUND(N(Topics!$M$11),0))=3),Topics!$C$11&", ","")&IF(AND(Topics!$C$12<>"",MAX(1,ROUND(N(Topics!$J$12),0))=2,MAX(1,ROUND(N(Topics!$M$12),0))=3),Topics!$C$12&", ","")&IF(AND(Topics!$C$13<>"",MAX(1,ROUND(N(Topics!$J$13),0))=2,MAX(1,ROUND(N(Topics!$M$13),0))=3),Topics!$C$13&", ","")&IF(AND(Topics!$C$14<>"",MAX(1,ROUND(N(Topics!$J$14),0))=2,MAX(1,ROUND(N(Topics!$M$14),0))=3),Topics!$C$14&", ","")&IF(AND(Topics!$C$15<>"",MAX(1,ROUND(N(Topics!$J$15),0))=2,MAX(1,ROUND(N(Topics!$M$15),0))=3),Topics!$C$15&", ","")&IF(AND(Topics!$C$16<>"",MAX(1,ROUND(N(Topics!$J$16),0))=2,MAX(1,ROUND(N(Topics!$M$16),0))=3),Topics!$C$16&", ","")&IF(AND(Topics!$C$17<>"",MAX(1,ROUND(N(Topics!$J$17),0))=2,MAX(1,ROUND(N(Topics!$M$17),0))=3),Topics!$C$17&", ",""),LEN(IF(AND(Topics!$C$8<>"",MAX(1,ROUND(N(Topics!$J$8),0))=2,MAX(1,ROUND(N(Topics!$M$8),0))=3),Topics!$C$8&", ","")&IF(AND(Topics!$C$9<>"",MAX(1,ROUND(N(Topics!$J$9),0))=2,MAX(1,ROUND(N(Topics!$M$9),0))=3),Topics!$C$9&", ","")&IF(AND(Topics!$C$10<>"",MAX(1,ROUND(N(Topics!$J$10),0))=2,MAX(1,ROUND(N(Topics!$M$10),0))=3),Topics!$C$10&", ","")&IF(AND(Topics!$C$11<>"",MAX(1,ROUND(N(Topics!$J$11),0))=2,MAX(1,ROUND(N(Topics!$M$11),0))=3),Topics!$C$11&", ","")&IF(AND(Topics!$C$12<>"",MAX(1,ROUND(N(Topics!$J$12),0))=2,MAX(1,ROUND(N(Topics!$M$12),0))=3),Topics!$C$12&", ","")&IF(AND(Topics!$C$13<>"",MAX(1,ROUND(N(Topics!$J$13),0))=2,MAX(1,ROUND(N(Topics!$M$13),0))=3),Topics!$C$13&", ","")&IF(AND(Topics!$C$14<>"",MAX(1,ROUND(N(Topics!$J$14),0))=2,MAX(1,ROUND(N(Topics!$M$14),0))=3),Topics!$C$14&", ","")&IF(AND(Topics!$C$15<>"",MAX(1,ROUND(N(Topics!$J$15),0))=2,MAX(1,ROUND(N(Topics!$M$15),0))=3),Topics!$C$15&", ","")&IF(AND(Topics!$C$16<>"",MAX(1,ROUND(N(Topics!$J$16),0))=2,MAX(1,ROUND(N(Topics!$M$16),0))=3),Topics!$C$16&", ","")&IF(AND(Topics!$C$17<>"",MAX(1,ROUND(N(Topics!$J$17),0))=2,MAX(1,ROUND(N(Topics!$M$17),0))=3),Topics!$C$17&", ",""))-2),"") | F11: =IFERROR(LEFT(IF(AND(Topics!$C$8<>"",MAX(1,ROUND(N(Topics!$J$8),0))=2,MAX(1,ROUND(N(Topics!$M$8),0))=4),Topics!$C$8&", ","")&IF(AND(Topics!$C$9<>"",MAX(1,ROUND(N(Topics!$J$9),0))=2,MAX(1,ROUND(N(Topics!$M$9),0))=4),Topics!$C$9&", ","")&IF(AND(Topics!$C$10<>"",MAX(1,ROUND(N(Topics!$J$10),0))=2,MAX(1,ROUND(N(Topics!$M$10),0))=4),Topics!$C$10&", ","")&IF(AND(Topics!$C$11<>"",MAX(1,ROUND(N(Topics!$J$11),0))=2,MAX(1,ROUND(N(Topics!$M$11),0))=4),Topics!$C$11&", ","")&IF(AND(Topics!$C$12<>"",MAX(1,ROUND(N(Topics!$J$12),0))=2,MAX(1,ROUND(N(Topics!$M$12),0))=4),Topics!$C$12&", ","")&IF(AND(Topics!$C$13<>"",MAX(1,ROUND(N(Topics!$J$13),0))=2,MAX(1,ROUND(N(Topics!$M$13),0))=4),Topics!$C$13&", ","")&IF(AND(Topics!$C$14<>"",MAX(1,ROUND(N(Topics!$J$14),0))=2,MAX(1,ROUND(N(Topics!$M$14),0))=4),Topics!$C$14&", ","")&IF(AND(Topics!$C$15<>"",MAX(1,ROUND(N(Topics!$J$15),0))=2,MAX(1,ROUND(N(Topics!$M$15),0))=4),Topics!$C$15&", ","")&IF(AND(Topics!$C$16<>"",MAX(1,ROUND(N(Topics!$J$16),0))=2,MAX(1,ROUND(N(Topics!$M$16),0))=4),Topics!$C$16&", ","")&IF(AND(Topics!$C$17<>"",MAX(1,ROUND(N(Topics!$J$17),0))=2,MAX(1,ROUND(N(Topics!$M$17),0))=4),Topics!$C$17&", ",""),LEN(IF(AND(Topics!$C$8<>"",MAX(1,ROUND(N(Topics!$J$8),0))=2,MAX(1,ROUND(N(Topics!$M$8),0))=4),Topics!$C$8&", ","")&IF(AND(Topics!$C$9<>"",MAX(1,ROUND(N(Topics!$J$9),0))=2,MAX(1,ROUND(N(Topics!$M$9),0))=4),Topics!$C$9&", ","")&IF(AND(Topics!$C$10<>"",MAX(1,ROUND(N(Topics!$J$10),0))=2,MAX(1,ROUND(N(Topics!$M$10),0))=4),Topics!$C$10&", ","")&IF(AND(Topics!$C$11<>"",MAX(1,ROUND(N(Topics!$J$11),0))=2,MAX(1,ROUND(N(Topics!$M$11),0))=4),Topics!$C$11&", ","")&IF(AND(Topics!$C$12<>"",MAX(1,ROUND(N(Topics!$J$12),0))=2,MAX(1,ROUND(N(Topics!$M$12),0))=4),Topics!$C$12&", ","")&IF(AND(Topics!$C$13<>"",MAX(1,ROUND(N(Topics!$J$13),0))=2,MAX(1,ROUND(N(Topics!$M$13),0))=4),Topics!$C$13&", ","")&IF(AND(Topics!$C$14<>"",MAX(1,ROUND(N(Topics!$J$14),0))=2,MAX(1,ROUND(N(Topics!$M$14),0))=4),Topics!$C$14&", ","")&IF(AND(Topics!$C$15<>"",MAX(1,ROUND(N(Topics!$J$15),0))=2,MAX(1,ROUND(N(Topics!$M$15),0))=4),Topics!$C$15&", ","")&IF(AND(Topics!$C$16<>"",MAX(1,ROUND(N(Topics!$J$16),0))=2,MAX(1,ROUND(N(Topics!$M$16),0))=4),Topics!$C$16&", ","")&IF(AND(Topics!$C$17<>"",MAX(1,ROUND(N(Topics!$J$17),0))=2,MAX(1,ROUND(N(Topics!$M$17),0))=4),Topics!$C$17&", ",""))-2),"") | G11: =IFERROR(LEFT(IF(AND(Topics!$C$8<>"",MAX(1,ROUND(N(Topics!$J$8),0))=2,MAX(1,ROUND(N(Topics!$M$8),0))=5),Topics!$C$8&", ","")&IF(AND(Topics!$C$9<>"",MAX(1,ROUND(N(Topics!$J$9),0))=2,MAX(1,ROUND(N(Topics!$M$9),0))=5),Topics!$C$9&", ","")&IF(AND(Topics!$C$10<>"",MAX(1,ROUND(N(Topics!$J$10),0))=2,MAX(1,ROUND(N(Topics!$M$10),0))=5),Topics!$C$10&", ","")&IF(AND(Topics!$C$11<>"",MAX(1,ROUND(N(Topics!$J$11),0))=2,MAX(1,ROUND(N(Topics!$M$11),0))=5),Topics!$C$11&", ","")&IF(AND(Topics!$C$12<>"",MAX(1,ROUND(N(Topics!$J$12),0))=2,MAX(1,ROUND(N(Topics!$M$12),0))=5),Topics!$C$12&", ","")&IF(AND(Topics!$C$13<>"",MAX(1,ROUND(N(Topics!$J$13),0))=2,MAX(1,ROUND(N(Topics!$M$13),0))=5),Topics!$C$13&", ","")&IF(AND(Topics!$C$14<>"",MAX(1,ROUND(N(Topics!$J$14),0))=2,MAX(1,ROUND(N(Topics!$M$14),0))=5),Topics!$C$14&", ","")&IF(AND(Topics!$C$15<>"",MAX(1,ROUND(N(Topics!$J$15),0))=2,MAX(1,ROUND(N(Topics!$M$15),0))=5),Topics!$C$15&", ","")&IF(AND(Topics!$C$16<>"",MAX(1,ROUND(N(Topics!$J$16),0))=2,MAX(1,ROUND(N(Topics!$M$16),0))=5),Topics!$C$16&", ","")&IF(AND(Topics!$C$17<>"",MAX(1,ROUND(N(Topics!$J$17),0))=2,MAX(1,ROUND(N(Topics!$M$17),0))=5),Topics!$C$17&", ",""),LEN(IF(AND(Topics!$C$8<>"",MAX(1,ROUND(N(Topics!$J$8),0))=2,MAX(1,ROUND(N(Topics!$M$8),0))=5),Topics!$C$8&", ","")&IF(AND(Topics!$C$9<>"",MAX(1,ROUND(N(Topics!$J$9),0))=2,MAX(1,ROUND(N(Topics!$M$9),0))=5),Topics!$C$9&", ","")&IF(AND(Topics!$C$10<>"",MAX(1,ROUND(N(Topics!$J$10),0))=2,MAX(1,ROUND(N(Topics!$M$10),0))=5),Topics!$C$10&", ","")&IF(AND(Topics!$C$11<>"",MAX(1,ROUND(N(Topics!$J$11),0))=2,MAX(1,ROUND(N(Topics!$M$11),0))=5),Topics!$C$11&", ","")&IF(AND(Topics!$C$12<>"",MAX(1,ROUND(N(Topics!$J$12),0))=2,MAX(1,ROUND(N(Topics!$M$12),0))=5),Topics!$C$12&", ","")&IF(AND(Topics!$C$13<>"",MAX(1,ROUND(N(Topics!$J$13),0))=2,MAX(1,ROUND(N(Topics!$M$13),0))=5),Topics!$C$13&", ","")&IF(AND(Topics!$C$14<>"",MAX(1,ROUND(N(Topics!$J$14),0))=2,MAX(1,ROUND(N(Topics!$M$14),0))=5),Topics!$C$14&", ","")&IF(AND(Topics!$C$15<>"",MAX(1,ROUND(N(Topics!$J$15),0))=2,MAX(1,ROUND(N(Topics!$M$15),0))=5),Topics!$C$15&", ","")&IF(AND(Topics!$C$16<>"",MAX(1,ROUND(N(Topics!$J$16),0))=2,MAX(1,ROUND(N(Topics!$M$16),0))=5),Topics!$C$16&", ","")&IF(AND(Topics!$C$17<>"",MAX(1,ROUND(N(Topics!$J$17),0))=2,MAX(1,ROUND(N(Topics!$M$17),0))=5),Topics!$C$17&", ",""))-2),"")
B12: 1 | C12: =IFERROR(LEFT(IF(AND(Topics!$C$8<>"",MAX(1,ROUND(N(Topics!$J$8),0))=1,MAX(1,ROUND(N(Topics!$M$8),0))=1),Topics!$C$8&", ","")&IF(AND(Topics!$C$9<>"",MAX(1,ROUND(N(Topics!$J$9),0))=1,MAX(1,ROUND(N(Topics!$M$9),0))=1),Topics!$C$9&", ","")&IF(AND(Topics!$C$10<>"",MAX(1,ROUND(N(Topics!$J$10),0))=1,MAX(1,ROUND(N(Topics!$M$10),0))=1),Topics!$C$10&", ","")&IF(AND(Topics!$C$11<>"",MAX(1,ROUND(N(Topics!$J$11),0))=1,MAX(1,ROUND(N(Topics!$M$11),0))=1),Topics!$C$11&", ","")&IF(AND(Topics!$C$12<>"",MAX(1,ROUND(N(Topics!$J$12),0))=1,MAX(1,ROUND(N(Topics!$M$12),0))=1),Topics!$C$12&", ","")&IF(AND(Topics!$C$13<>"",MAX(1,ROUND(N(Topics!$J$13),0))=1,MAX(1,ROUND(N(Topics!$M$13),0))=1),Topics!$C$13&", ","")&IF(AND(Topics!$C$14<>"",MAX(1,ROUND(N(Topics!$J$14),0))=1,MAX(1,ROUND(N(Topics!$M$14),0))=1),Topics!$C$14&", ","")&IF(AND(Topics!$C$15<>"",MAX(1,ROUND(N(Topics!$J$15),0))=1,MAX(1,ROUND(N(Topics!$M$15),0))=1),Topics!$C$15&", ","")&IF(AND(Topics!$C$16<>"",MAX(1,ROUND(N(Topics!$J$16),0))=1,MAX(1,ROUND(N(Topics!$M$16),0))=1),Topics!$C$16&", ","")&IF(AND(Topics!$C$17<>"",MAX(1,ROUND(N(Topics!$J$17),0))=1,MAX(1,ROUND(N(Topics!$M$17),0))=1),Topics!$C$17&", ",""),LEN(IF(AND(Topics!$C$8<>"",MAX(1,ROUND(N(Topics!$J$8),0))=1,MAX(1,ROUND(N(Topics!$M$8),0))=1),Topics!$C$8&", ","")&IF(AND(Topics!$C$9<>"",MAX(1,ROUND(N(Topics!$J$9),0))=1,MAX(1,ROUND(N(Topics!$M$9),0))=1),Topics!$C$9&", ","")&IF(AND(Topics!$C$10<>"",MAX(1,ROUND(N(Topics!$J$10),0))=1,MAX(1,ROUND(N(Topics!$M$10),0))=1),Topics!$C$10&", ","")&IF(AND(Topics!$C$11<>"",MAX(1,ROUND(N(Topics!$J$11),0))=1,MAX(1,ROUND(N(Topics!$M$11),0))=1),Topics!$C$11&", ","")&IF(AND(Topics!$C$12<>"",MAX(1,ROUND(N(Topics!$J$12),0))=1,MAX(1,ROUND(N(Topics!$M$12),0))=1),Topics!$C$12&", ","")&IF(AND(Topics!$C$13<>"",MAX(1,ROUND(N(Topics!$J$13),0))=1,MAX(1,ROUND(N(Topics!$M$13),0))=1),Topics!$C$13&", ","")&IF(AND(Topics!$C$14<>"",MAX(1,ROUND(N(Topics!$J$14),0))=1,MAX(1,ROUND(N(Topics!$M$14),0))=1),Topics!$C$14&", ","")&IF(AND(Topics!$C$15<>"",MAX(1,ROUND(N(Topics!$J$15),0))=1,MAX(1,ROUND(N(Topics!$M$15),0))=1),Topics!$C$15&", ","")&IF(AND(Topics!$C$16<>"",MAX(1,ROUND(N(Topics!$J$16),0))=1,MAX(1,ROUND(N(Topics!$M$16),0))=1),Topics!$C$16&", ","")&IF(AND(Topics!$C$17<>"",MAX(1,ROUND(N(Topics!$J$17),0))=1,MAX(1,ROUND(N(Topics!$M$17),0))=1),Topics!$C$17&", ",""))-2),"") | D12: =IFERROR(LEFT(IF(AND(Topics!$C$8<>"",MAX(1,ROUND(N(Topics!$J$8),0))=1,MAX(1,ROUND(N(Topics!$M$8),0))=2),Topics!$C$8&", ","")&IF(AND(Topics!$C$9<>"",MAX(1,ROUND(N(Topics!$J$9),0))=1,MAX(1,ROUND(N(Topics!$M$9),0))=2),Topics!$C$9&", ","")&IF(AND(Topics!$C$10<>"",MAX(1,ROUND(N(Topics!$J$10),0))=1,MAX(1,ROUND(N(Topics!$M$10),0))=2),Topics!$C$10&", ","")&IF(AND(Topics!$C$11<>"",MAX(1,ROUND(N(Topics!$J$11),0))=1,MAX(1,ROUND(N(Topics!$M$11),0))=2),Topics!$C$11&", ","")&IF(AND(Topics!$C$12<>"",MAX(1,ROUND(N(Topics!$J$12),0))=1,MAX(1,ROUND(N(Topics!$M$12),0))=2),Topics!$C$12&", ","")&IF(AND(Topics!$C$13<>"",MAX(1,ROUND(N(Topics!$J$13),0))=1,MAX(1,ROUND(N(Topics!$M$13),0))=2),Topics!$C$13&", ","")&IF(AND(Topics!$C$14<>"",MAX(1,ROUND(N(Topics!$J$14),0))=1,MAX(1,ROUND(N(Topics!$M$14),0))=2),Topics!$C$14&", ","")&IF(AND(Topics!$C$15<>"",MAX(1,ROUND(N(Topics!$J$15),0))=1,MAX(1,ROUND(N(Topics!$M$15),0))=2),Topics!$C$15&", ","")&IF(AND(Topics!$C$16<>"",MAX(1,ROUND(N(Topics!$J$16),0))=1,MAX(1,ROUND(N(Topics!$M$16),0))=2),Topics!$C$16&", ","")&IF(AND(Topics!$C$17<>"",MAX(1,ROUND(N(Topics!$J$17),0))=1,MAX(1,ROUND(N(Topics!$M$17),0))=2),Topics!$C$17&", ",""),LEN(IF(AND(Topics!$C$8<>"",MAX(1,ROUND(N(Topics!$J$8),0))=1,MAX(1,ROUND(N(Topics!$M$8),0))=2),Topics!$C$8&", ","")&IF(AND(Topics!$C$9<>"",MAX(1,ROUND(N(Topics!$J$9),0))=1,MAX(1,ROUND(N(Topics!$M$9),0))=2),Topics!$C$9&", ","")&IF(AND(Topics!$C$10<>"",MAX(1,ROUND(N(Topics!$J$10),0))=1,MAX(1,ROUND(N(Topics!$M$10),0))=2),Topics!$C$10&", ","")&IF(AND(Topics!$C$11<>"",MAX(1,ROUND(N(Topics!$J$11),0))=1,MAX(1,ROUND(N(Topics!$M$11),0))=2),Topics!$C$11&", ","")&IF(AND(Topics!$C$12<>"",MAX(1,ROUND(N(Topics!$J$12),0))=1,MAX(1,ROUND(N(Topics!$M$12),0))=2),Topics!$C$12&", ","")&IF(AND(Topics!$C$13<>"",MAX(1,ROUND(N(Topics!$J$13),0))=1,MAX(1,ROUND(N(Topics!$M$13),0))=2),Topics!$C$13&", ","")&IF(AND(Topics!$C$14<>"",MAX(1,ROUND(N(Topics!$J$14),0))=1,MAX(1,ROUND(N(Topics!$M$14),0))=2),Topics!$C$14&", ","")&IF(AND(Topics!$C$15<>"",MAX(1,ROUND(N(Topics!$J$15),0))=1,MAX(1,ROUND(N(Topics!$M$15),0))=2),Topics!$C$15&", ","")&IF(AND(Topics!$C$16<>"",MAX(1,ROUND(N(Topics!$J$16),0))=1,MAX(1,ROUND(N(Topics!$M$16),0))=2),Topics!$C$16&", ","")&IF(AND(Topics!$C$17<>"",MAX(1,ROUND(N(Topics!$J$17),0))=1,MAX(1,ROUND(N(Topics!$M$17),0))=2),Topics!$C$17&", ",""))-2),"") | E12: =IFERROR(LEFT(IF(AND(Topics!$C$8<>"",MAX(1,ROUND(N(Topics!$J$8),0))=1,MAX(1,ROUND(N(Topics!$M$8),0))=3),Topics!$C$8&", ","")&IF(AND(Topics!$C$9<>"",MAX(1,ROUND(N(Topics!$J$9),0))=1,MAX(1,ROUND(N(Topics!$M$9),0))=3),Topics!$C$9&", ","")&IF(AND(Topics!$C$10<>"",MAX(1,ROUND(N(Topics!$J$10),0))=1,MAX(1,ROUND(N(Topics!$M$10),0))=3),Topics!$C$10&", ","")&IF(AND(Topics!$C$11<>"",MAX(1,ROUND(N(Topics!$J$11),0))=1,MAX(1,ROUND(N(Topics!$M$11),0))=3),Topics!$C$11&", ","")&IF(AND(Topics!$C$12<>"",MAX(1,ROUND(N(Topics!$J$12),0))=1,MAX(1,ROUND(N(Topics!$M$12),0))=3),Topics!$C$12&", ","")&IF(AND(Topics!$C$13<>"",MAX(1,ROUND(N(Topics!$J$13),0))=1,MAX(1,ROUND(N(Topics!$M$13),0))=3),Topics!$C$13&", ","")&IF(AND(Topics!$C$14<>"",MAX(1,ROUND(N(Topics!$J$14),0))=1,MAX(1,ROUND(N(Topics!$M$14),0))=3),Topics!$C$14&", ","")&IF(AND(Topics!$C$15<>"",MAX(1,ROUND(N(Topics!$J$15),0))=1,MAX(1,ROUND(N(Topics!$M$15),0))=3),Topics!$C$15&", ","")&IF(AND(Topics!$C$16<>"",MAX(1,ROUND(N(Topics!$J$16),0))=1,MAX(1,ROUND(N(Topics!$M$16),0))=3),Topics!$C$16&", ","")&IF(AND(Topics!$C$17<>"",MAX(1,ROUND(N(Topics!$J$17),0))=1,MAX(1,ROUND(N(Topics!$M$17),0))=3),Topics!$C$17&", ",""),LEN(IF(AND(Topics!$C$8<>"",MAX(1,ROUND(N(Topics!$J$8),0))=1,MAX(1,ROUND(N(Topics!$M$8),0))=3),Topics!$C$8&", ","")&IF(AND(Topics!$C$9<>"",MAX(1,ROUND(N(Topics!$J$9),0))=1,MAX(1,ROUND(N(Topics!$M$9),0))=3),Topics!$C$9&", ","")&IF(AND(Topics!$C$10<>"",MAX(1,ROUND(N(Topics!$J$10),0))=1,MAX(1,ROUND(N(Topics!$M$10),0))=3),Topics!$C$10&", ","")&IF(AND(Topics!$C$11<>"",MAX(1,ROUND(N(Topics!$J$11),0))=1,MAX(1,ROUND(N(Topics!$M$11),0))=3),Topics!$C$11&", ","")&IF(AND(Topics!$C$12<>"",MAX(1,ROUND(N(Topics!$J$12),0))=1,MAX(1,ROUND(N(Topics!$M$12),0))=3),Topics!$C$12&", ","")&IF(AND(Topics!$C$13<>"",MAX(1,ROUND(N(Topics!$J$13),0))=1,MAX(1,ROUND(N(Topics!$M$13),0))=3),Topics!$C$13&", ","")&IF(AND(Topics!$C$14<>"",MAX(1,ROUND(N(Topics!$J$14),0))=1,MAX(1,ROUND(N(Topics!$M$14),0))=3),Topics!$C$14&", ","")&IF(AND(Topics!$C$15<>"",MAX(1,ROUND(N(Topics!$J$15),0))=1,MAX(1,ROUND(N(Topics!$M$15),0))=3),Topics!$C$15&", ","")&IF(AND(Topics!$C$16<>"",MAX(1,ROUND(N(Topics!$J$16),0))=1,MAX(1,ROUND(N(Topics!$M$16),0))=3),Topics!$C$16&", ","")&IF(AND(Topics!$C$17<>"",MAX(1,ROUND(N(Topics!$J$17),0))=1,MAX(1,ROUND(N(Topics!$M$17),0))=3),Topics!$C$17&", ",""))-2),"") | F12: =IFERROR(LEFT(IF(AND(Topics!$C$8<>"",MAX(1,ROUND(N(Topics!$J$8),0))=1,MAX(1,ROUND(N(Topics!$M$8),0))=4),Topics!$C$8&", ","")&IF(AND(Topics!$C$9<>"",MAX(1,ROUND(N(Topics!$J$9),0))=1,MAX(1,ROUND(N(Topics!$M$9),0))=4),Topics!$C$9&", ","")&IF(AND(Topics!$C$10<>"",MAX(1,ROUND(N(Topics!$J$10),0))=1,MAX(1,ROUND(N(Topics!$M$10),0))=4),Topics!$C$10&", ","")&IF(AND(Topics!$C$11<>"",MAX(1,ROUND(N(Topics!$J$11),0))=1,MAX(1,ROUND(N(Topics!$M$11),0))=4),Topics!$C$11&", ","")&IF(AND(Topics!$C$12<>"",MAX(1,ROUND(N(Topics!$J$12),0))=1,MAX(1,ROUND(N(Topics!$M$12),0))=4),Topics!$C$12&", ","")&IF(AND(Topics!$C$13<>"",MAX(1,ROUND(N(Topics!$J$13),0))=1,MAX(1,ROUND(N(Topics!$M$13),0))=4),Topics!$C$13&", ","")&IF(AND(Topics!$C$14<>"",MAX(1,ROUND(N(Topics!$J$14),0))=1,MAX(1,ROUND(N(Topics!$M$14),0))=4),Topics!$C$14&", ","")&IF(AND(Topics!$C$15<>"",MAX(1,ROUND(N(Topics!$J$15),0))=1,MAX(1,ROUND(N(Topics!$M$15),0))=4),Topics!$C$15&", ","")&IF(AND(Topics!$C$16<>"",MAX(1,ROUND(N(Topics!$J$16),0))=1,MAX(1,ROUND(N(Topics!$M$16),0))=4),Topics!$C$16&", ","")&IF(AND(Topics!$C$17<>"",MAX(1,ROUND(N(Topics!$J$17),0))=1,MAX(1,ROUND(N(Topics!$M$17),0))=4),Topics!$C$17&", ",""),LEN(IF(AND(Topics!$C$8<>"",MAX(1,ROUND(N(Topics!$J$8),0))=1,MAX(1,ROUND(N(Topics!$M$8),0))=4),Topics!$C$8&", ","")&IF(AND(Topics!$C$9<>"",MAX(1,ROUND(N(Topics!$J$9),0))=1,MAX(1,ROUND(N(Topics!$M$9),0))=4),Topics!$C$9&", ","")&IF(AND(Topics!$C$10<>"",MAX(1,ROUND(N(Topics!$J$10),0))=1,MAX(1,ROUND(N(Topics!$M$10),0))=4),Topics!$C$10&", ","")&IF(AND(Topics!$C$11<>"",MAX(1,ROUND(N(Topics!$J$11),0))=1,MAX(1,ROUND(N(Topics!$M$11),0))=4),Topics!$C$11&", ","")&IF(AND(Topics!$C$12<>"",MAX(1,ROUND(N(Topics!$J$12),0))=1,MAX(1,ROUND(N(Topics!$M$12),0))=4),Topics!$C$12&", ","")&IF(AND(Topics!$C$13<>"",MAX(1,ROUND(N(Topics!$J$13),0))=1,MAX(1,ROUND(N(Topics!$M$13),0))=4),Topics!$C$13&", ","")&IF(AND(Topics!$C$14<>"",MAX(1,ROUND(N(Topics!$J$14),0))=1,MAX(1,ROUND(N(Topics!$M$14),0))=4),Topics!$C$14&", ","")&IF(AND(Topics!$C$15<>"",MAX(1,ROUND(N(Topics!$J$15),0))=1,MAX(1,ROUND(N(Topics!$M$15),0))=4),Topics!$C$15&", ","")&IF(AND(Topics!$C$16<>"",MAX(1,ROUND(N(Topics!$J$16),0))=1,MAX(1,ROUND(N(Topics!$M$16),0))=4),Topics!$C$16&", ","")&IF(AND(Topics!$C$17<>"",MAX(1,ROUND(N(Topics!$J$17),0))=1,MAX(1,ROUND(N(Topics!$M$17),0))=4),Topics!$C$17&", ",""))-2),"") | G12: =IFERROR(LEFT(IF(AND(Topics!$C$8<>"",MAX(1,ROUND(N(Topics!$J$8),0))=1,MAX(1,ROUND(N(Topics!$M$8),0))=5),Topics!$C$8&", ","")&IF(AND(Topics!$C$9<>"",MAX(1,ROUND(N(Topics!$J$9),0))=1,MAX(1,ROUND(N(Topics!$M$9),0))=5),Topics!$C$9&", ","")&IF(AND(Topics!$C$10<>"",MAX(1,ROUND(N(Topics!$J$10),0))=1,MAX(1,ROUND(N(Topics!$M$10),0))=5),Topics!$C$10&", ","")&IF(AND(Topics!$C$11<>"",MAX(1,ROUND(N(Topics!$J$11),0))=1,MAX(1,ROUND(N(Topics!$M$11),0))=5),Topics!$C$11&", ","")&IF(AND(Topics!$C$12<>"",MAX(1,ROUND(N(Topics!$J$12),0))=1,MAX(1,ROUND(N(Topics!$M$12),0))=5),Topics!$C$12&", ","")&IF(AND(Topics!$C$13<>"",MAX(1,ROUND(N(Topics!$J$13),0))=1,MAX(1,ROUND(N(Topics!$M$13),0))=5),Topics!$C$13&", ","")&IF(AND(Topics!$C$14<>"",MAX(1,ROUND(N(Topics!$J$14),0))=1,MAX(1,ROUND(N(Topics!$M$14),0))=5),Topics!$C$14&", ","")&IF(AND(Topics!$C$15<>"",MAX(1,ROUND(N(Topics!$J$15),0))=1,MAX(1,ROUND(N(Topics!$M$15),0))=5),Topics!$C$15&", ","")&IF(AND(Topics!$C$16<>"",MAX(1,ROUND(N(Topics!$J$16),0))=1,MAX(1,ROUND(N(Topics!$M$16),0))=5),Topics!$C$16&", ","")&IF(AND(Topics!$C$17<>"",MAX(1,ROUND(N(Topics!$J$17),0))=1,MAX(1,ROUND(N(Topics!$M$17),0))=5),Topics!$C$17&", ",""),LEN(IF(AND(Topics!$C$8<>"",MAX(1,ROUND(N(Topics!$J$8),0))=1,MAX(1,ROUND(N(Topics!$M$8),0))=5),Topics!$C$8&", ","")&IF(AND(Topics!$C$9<>"",MAX(1,ROUND(N(Topics!$J$9),0))=1,MAX(1,ROUND(N(Topics!$M$9),0))=5),Topics!$C$9&", ","")&IF(AND(Topics!$C$10<>"",MAX(1,ROUND(N(Topics!$J$10),0))=1,MAX(1,ROUND(N(Topics!$M$10),0))=5),Topics!$C$10&", ","")&IF(AND(Topics!$C$11<>"",MAX(1,ROUND(N(Topics!$J$11),0))=1,MAX(1,ROUND(N(Topics!$M$11),0))=5),Topics!$C$11&", ","")&IF(AND(Topics!$C$12<>"",MAX(1,ROUND(N(Topics!$J$12),0))=1,MAX(1,ROUND(N(Topics!$M$12),0))=5),Topics!$C$12&", ","")&IF(AND(Topics!$C$13<>"",MAX(1,ROUND(N(Topics!$J$13),0))=1,MAX(1,ROUND(N(Topics!$M$13),0))=5),Topics!$C$13&", ","")&IF(AND(Topics!$C$14<>"",MAX(1,ROUND(N(Topics!$J$14),0))=1,MAX(1,ROUND(N(Topics!$M$14),0))=5),Topics!$C$14&", ","")&IF(AND(Topics!$C$15<>"",MAX(1,ROUND(N(Topics!$J$15),0))=1,MAX(1,ROUND(N(Topics!$M$15),0))=5),Topics!$C$15&", ","")&IF(AND(Topics!$C$16<>"",MAX(1,ROUND(N(Topics!$J$16),0))=1,MAX(1,ROUND(N(Topics!$M$16),0))=5),Topics!$C$16&", ","")&IF(AND(Topics!$C$17<>"",MAX(1,ROUND(N(Topics!$J$17),0))=1,MAX(1,ROUND(N(Topics!$M$17),0))=5),Topics!$C$17&", ",""))-2),"")
C13: 1 | D13: 2 | E13: 3 | F13: 4 | G13: 5
C14: Financial score
B16: Scores are rounded to the nearest whole number for placing, so two topics can share a cell. A matrix is a way to show the result; the decision on each topic comes from the scores and the threshold on the Topics sheet, and is disclosed with the process followed.

Sheet Topics
B2: Topics
B4: Score each sustainability matter for impact materiality and financial materiality, as in a double materiality assessment under ESRS 1.
B6: Threshold for material (1 to 5) | E6: 3
B7: Topic | C7: Short name | D7: Actual or potential | E7: Scale | F7: Scope | G7: Irremedi-ability | H7: Likelihood | I7: Human rights? | J7: Impact score | K7: Financial size | L7: Financial likelihood | M7: Financial score | N7: Result
B8: Climate change | C8: Climate | D8: Actual | E8: 5 | F8: 5 | G8: 5 | I8: No | J8: =IF(B8="","",AVERAGE(E8:G8)*IF(D8="Potential",N(H8),1)) | K8: 5 | L8: 0.8 | M8: =IF(B8="","",N(K8)*N(L8)) | N8: =IF(B8="","",IF(AND(OR(J8>=$E$6,AND(I8="Yes",D8="Potential",AVERAGE(E8:G8)>=$E$6)),M8>=$E$6),"Material: both",IF(OR(J8>=$E$6,AND(I8="Yes",D8="Potential",AVERAGE(E8:G8)>=$E$6)),"Material: impact",IF(M8>=$E$6,"Material: financial","Not material"))))
B9: Water | C9: Water | D9: Actual | E9: 4 | F9: 4 | G9: 4 | I9: No | J9: =IF(B9="","",AVERAGE(E9:G9)*IF(D9="Potential",N(H9),1)) | K9: 4 | L9: 0.5 | M9: =IF(B9="","",N(K9)*N(L9)) | N9: =IF(B9="","",IF(AND(OR(J9>=$E$6,AND(I9="Yes",D9="Potential",AVERAGE(E9:G9)>=$E$6)),M9>=$E$6),"Material: both",IF(OR(J9>=$E$6,AND(I9="Yes",D9="Potential",AVERAGE(E9:G9)>=$E$6)),"Material: impact",IF(M9>=$E$6,"Material: financial","Not material"))))
B10: Own workforce | C10: Workforce | D10: Actual | E10: 5 | F10: 4 | G10: 3 | I10: No | J10: =IF(B10="","",AVERAGE(E10:G10)*IF(D10="Potential",N(H10),1)) | K10: 3 | L10: 1 | M10: =IF(B10="","",N(K10)*N(L10)) | N10: =IF(B10="","",IF(AND(OR(J10>=$E$6,AND(I10="Yes",D10="Potential",AVERAGE(E10:G10)>=$E$6)),M10>=$E$6),"Material: both",IF(OR(J10>=$E$6,AND(I10="Yes",D10="Potential",AVERAGE(E10:G10)>=$E$6)),"Material: impact",IF(M10>=$E$6,"Material: financial","Not material"))))
B11: Packaging and resource use | C11: Packaging | D11: Actual | E11: 3 | F11: 3 | G11: 3 | I11: No | J11: =IF(B11="","",AVERAGE(E11:G11)*IF(D11="Potential",N(H11),1)) | K11: 5 | L11: 0.8 | M11: =IF(B11="","",N(K11)*N(L11)) | N11: =IF(B11="","",IF(AND(OR(J11>=$E$6,AND(I11="Yes",D11="Potential",AVERAGE(E11:G11)>=$E$6)),M11>=$E$6),"Material: both",IF(OR(J11>=$E$6,AND(I11="Yes",D11="Potential",AVERAGE(E11:G11)>=$E$6)),"Material: impact",IF(M11>=$E$6,"Material: financial","Not material"))))
B12: Biodiversity | C12: Biodiversity | D12: Potential | E12: 3 | F12: 2 | G12: 3 | H12: 0.75 | I12: No | J12: =IF(B12="","",AVERAGE(E12:G12)*IF(D12="Potential",N(H12),1)) | K12: 2 | L12: 0.5 | M12: =IF(B12="","",N(K12)*N(L12)) | N12: =IF(B12="","",IF(AND(OR(J12>=$E$6,AND(I12="Yes",D12="Potential",AVERAGE(E12:G12)>=$E$6)),M12>=$E$6),"Material: both",IF(OR(J12>=$E$6,AND(I12="Yes",D12="Potential",AVERAGE(E12:G12)>=$E$6)),"Material: impact",IF(M12>=$E$6,"Material: financial","Not material"))))
B13: Business conduct | C13: Conduct | D13: Actual | E13: 2 | F13: 2 | G13: 2 | I13: No | J13: =IF(B13="","",AVERAGE(E13:G13)*IF(D13="Potential",N(H13),1)) | K13: 3 | L13: 1 | M13: =IF(B13="","",N(K13)*N(L13)) | N13: =IF(B13="","",IF(AND(OR(J13>=$E$6,AND(I13="Yes",D13="Potential",AVERAGE(E13:G13)>=$E$6)),M13>=$E$6),"Material: both",IF(OR(J13>=$E$6,AND(I13="Yes",D13="Potential",AVERAGE(E13:G13)>=$E$6)),"Material: impact",IF(M13>=$E$6,"Material: financial","Not material"))))
B14: Chemical exposure of supply chain workers | C14: Chemicals | D14: Potential | E14: 5 | F14: 3 | G14: 5 | H14: 0.4 | I14: Yes | J14: =IF(B14="","",AVERAGE(E14:G14)*IF(D14="Potential",N(H14),1)) | K14: 2 | L14: 0.5 | M14: =IF(B14="","",N(K14)*N(L14)) | N14: =IF(B14="","",IF(AND(OR(J14>=$E$6,AND(I14="Yes",D14="Potential",AVERAGE(E14:G14)>=$E$6)),M14>=$E$6),"Material: both",IF(OR(J14>=$E$6,AND(I14="Yes",D14="Potential",AVERAGE(E14:G14)>=$E$6)),"Material: impact",IF(M14>=$E$6,"Material: financial","Not material"))))
J15: =IF(B15="","",AVERAGE(E15:G15)*IF(D15="Potential",N(H15),1)) | M15: =IF(B15="","",N(K15)*N(L15)) | N15: =IF(B15="","",IF(AND(OR(J15>=$E$6,AND(I15="Yes",D15="Potential",AVERAGE(E15:G15)>=$E$6)),M15>=$E$6),"Material: both",IF(OR(J15>=$E$6,AND(I15="Yes",D15="Potential",AVERAGE(E15:G15)>=$E$6)),"Material: impact",IF(M15>=$E$6,"Material: financial","Not material"))))
J16: =IF(B16="","",AVERAGE(E16:G16)*IF(D16="Potential",N(H16),1)) | M16: =IF(B16="","",N(K16)*N(L16)) | N16: =IF(B16="","",IF(AND(OR(J16>=$E$6,AND(I16="Yes",D16="Potential",AVERAGE(E16:G16)>=$E$6)),M16>=$E$6),"Material: both",IF(OR(J16>=$E$6,AND(I16="Yes",D16="Potential",AVERAGE(E16:G16)>=$E$6)),"Material: impact",IF(M16>=$E$6,"Material: financial","Not material"))))
J17: =IF(B17="","",AVERAGE(E17:G17)*IF(D17="Potential",N(H17),1)) | M17: =IF(B17="","",N(K17)*N(L17)) | N17: =IF(B17="","",IF(AND(OR(J17>=$E$6,AND(I17="Yes",D17="Potential",AVERAGE(E17:G17)>=$E$6)),M17>=$E$6),"Material: both",IF(OR(J17>=$E$6,AND(I17="Yes",D17="Potential",AVERAGE(E17:G17)>=$E$6)),"Material: impact",IF(M17>=$E$6,"Material: financial","Not material"))))
B19: Material topics | N19: =COUNTIF(N8:N17,"Material*")
B20: Material for impact (including both) | N20: =COUNTIF(N8:N17,"Material: both")+COUNTIF(N8:N17,"Material: impact")
B21: Material for financial effects (including both) | N21: =COUNTIF(N8:N17,"Material: both")+COUNTIF(N8:N17,"Material: financial")
B22: Scores are within range | N22: =IF(AND(COUNTIF(E8:G17,">5")=0,COUNTIF(K8:K17,">5")=0,COUNTIF(H8:H17,">1")=0,COUNTIF(L8:L17,">1")=0),"✓ In range","✗ Check scores")
B24: Impact severity is the average of scale, scope and irremediability, each scored 1 to 5; a potential impact is multiplied by its likelihood. For a potential human rights impact, severity takes precedence over likelihood. Financial materiality is the size of the possible effect, 1 to 5, times its likelihood. A topic is material if either score reaches the threshold. The example matches the double materiality guide, with one human rights topic added.
