Workbook

Sheet Start
B2: Materiality matrix
B4: Double materiality: score impacts and financial effects, apply the threshold, and see each topic on the matrix
B8: HOW IT WORKS
B9: 1 | C9: List the topics | F9: 2 | G9: Score both sides | J9: 3 | K9: Read the result
C11: Impacts, risks, chances | G11: Severity and size | K11: Material or not
B13: LIVE RESULTS
B14: Material topics | E14: Material for impact | H14: Material for financial effects | K14: Check
B15: =Topics!N19 | E15: =Topics!N20 | H15: =Topics!N21 | K15: =Topics!N22
B18: COLOUR KEY
B19: You type here | E19: Calculated for you | H19: ✓ Check passed | K19: ✗ Needs attention
B21: JUMP TO
B22: Matrix › | E22: Topics ›
B41: A fictional company's assessment. Replace the topics and scores with your own. General information, not advice. taxbakers.com/sustainability/double-materiality-explained/

Sheet Matrix
B2: Matrix
B4: Each topic placed by its rounded scores. Shaded cells are at or above the threshold on either axis.
B7: Impact score
B8: 5 | C8: =IFERROR(LEFT(IF(AND(Topics!$C$8<>"",MAX(1,ROUND(N(Topics!$J$8),0))=5,MAX(1,ROUND(N(Topics!$M$8),0))=1),Topics!$C$8&", ","")&IF(AND(Topics!$C$9<>"",MAX(1,ROUND(N(Topics!$J$9),0))=5,MAX(1,ROUND(N(Topics!$M$9),0))=1),Topics!$C$9&", ","")&IF(AND(Topics!$C$10<>"",MAX(1,ROUND(N(Topics!$J$10),0))=5,MAX(1,ROUND(N(Topics!$M$10),0))=1),Topics!$C$10&", ","")&IF(AND(Topics!$C$11<>"",MAX(1,ROUND(N(Topics!$J$11),0))=5,MAX(1,ROUND(N(Topics!$M$11),0))=1),Topics!$C$11&", ","")&IF(AND(Topics!$C$12<>"",MAX(1,ROUND(N(Topics!$J$12),0))=5,MAX(1,ROUND(N(Topics!$M$12),0))=1),Topics!$C$12&", ","")&IF(AND(Topics!$C$13<>"",MAX(1,ROUND(N(Topics!$J$13),0))=5,MAX(1,ROUND(N(Topics!$M$13),0))=1),Topics!$C$13&", ","")&IF(AND(Topics!$C$14<>"",MAX(1,ROUND(N(Topics!$J$14),0))=5,MAX(1,ROUND(N(Topics!$M$14),0))=1),Topics!$C$14&", ","")&IF(AND(Topics!$C$15<>"",MAX(1,ROUND(N(Topics!$J$15),0))=5,MAX(1,ROUND(N(Topics!$M$15),0))=1),Topics!$C$15&", ","")&IF(AND(Topics!$C$16<>"",MAX(1,ROUND(N(Topics!$J$16),0))=5,MAX(1,ROUND(N(Topics!$M$16),0))=1),Topics!$C$16&", ","")&IF(AND(Topics!$C$17<>"",MAX(1,ROUND(N(Topics!$J$17),0))=5,MAX(1,ROUND(N(Topics!$M$17),0))=1),Topics!$C$17&", ",""),LEN(IF(AND(Topics!$C$8<>"",MAX(1,ROUND(N(Topics!$J$8),0))=5,MAX(1,ROUND(N(Topics!$M$8),0))=1),Topics!$C$8&", ","")&IF(AND(Topics!$C$9<>"",MAX(1,ROUND(N(Topics!$J$9),0))=5,MAX(1,ROUND(N(Topics!$M$9),0))=1),Topics!$C$9&", ","")&IF(AND(Topics!$C$10<>"",MAX(1,ROUND(N(Topics!$J$10),0))=5,MAX(1,ROUND(N(Topics!$M$10),0))=1),Topics!$C$10&", ","")&IF(AND(Topics!$C$11<>"",MAX(1,ROUND(N(Topics!$J$11),0))=5,MAX(1,ROUND(N(Topics!$M$11),0))=1),Topics!$C$11&", ","")&IF(AND(Topics!$C$12<>"",MAX(1,ROUND(N(Topics!$J$12),0))=5,MAX(1,ROUND(N(Topics!$M$12),0))=1),Topics!$C$12&", ","")&IF(AND(Topics!$C$13<>"",MAX(1,ROUND(N(Topics!$J$13),0))=5,MAX(1,ROUND(N(Topics!$M$13),0))=1),Topics!$C$13&", ","")&IF(AND(Topics!$C$14<>"",MAX(1,ROUND(N(Topics!$J$14),0))=5,MAX(1,ROUND(N(Topics!$M$14),0))=1),Topics!$C$14&", ","")&IF(AND(Topics!$C$15<>"",MAX(1,ROUND(N(Topics!$J$15),0))=5,MAX(1,ROUND(N(Topics!$M$15),0))=1),Topics!$C$15&", ","")&IF(AND(Topics!$C$16<>"",MAX(1,ROUND(N(Topics!$J$16),0))=5,MAX(1,ROUND(N(Topics!$M$16),0))=1),Topics!$C$16&", ","")&IF(AND(Topics!$C$17<>"",MAX(1,ROUND(N(Topics!$J$17),0))=5,MAX(1,ROUND(N(Topics!$M$17),0))=1),Topics!$C$17&", ",""))-2),"") | D8: =IFERROR(LEFT(IF(AND(Topics!$C$8<>"",MAX(1,ROUND(N(Topics!$J$8),0))=5,MAX(1,ROUND(N(Topics!$M$8),0))=2),Topics!$C$8&", ","")&IF(AND(Topics!$C$9<>"",MAX(1,ROUND(N(Topics!$J$9),0))=5,MAX(1,ROUND(N(Topics!$M$9),0))=2),Topics!$C$9&", ","")&IF(AND(Topics!$C$10<>"",MAX(1,ROUND(N(Topics!$J$10),0))=5,MAX(1,ROUND(N(Topics!$M$10),0))=2),Topics!$C$10&", ","")&IF(AND(Topics!$C$11<>"",MAX(1,ROUND(N(Topics!$J$11),0))=5,MAX(1,ROUND(N(Topics!$M$11),0))=2),Topics!$C$11&", ","")&IF(AND(Topics!$C$12<>"",MAX(1,ROUND(N(Topics!$J$12),0))=5,MAX(1,ROUND(N(Topics!$M$12),0))=2),Topics!$C$12&", ","")&IF(AND(Topics!$C$13<>"",MAX(1,ROUND(N(Topics!$J$13),0))=5,MAX(1,ROUND(N(Topics!$M$13),0))=2),Topics!$C$13&", ","")&IF(AND(Topics!$C$14<>"",MAX(1,ROUND(N(Topics!$J$14),0))=5,MAX(1,ROUND(N(Topics!$M$14),0))=2),Topics!$C$14&", ","")&IF(AND(Topics!$C$15<>"",MAX(1,ROUND(N(Topics!$J$15),0))=5,MAX(1,ROUND(N(Topics!$M$15),0))=2),Topics!$C$15&", ","")&IF(AND(Topics!$C$16<>"",MAX(1,ROUND(N(Topics!$J$16),0))=5,MAX(1,ROUND(N(Topics!$M$16),0))=2),Topics!$C$16&", ","")&IF(AND(Topics!$C$17<>"",MAX(1,ROUND(N(Topics!$J$17),0))=5,MAX(1,ROUND(N(Topics!$M$17),0))=2),Topics!$C$17&", ",""),LEN(IF(AND(Topics!$C$8<>"",MAX(1,ROUND(N(Topics!$J$8),0))=5,MAX(1,ROUND(N(Topics!$M$8),0))=2),Topics!$C$8&", ","")&IF(AND(Topics!$C$9<>"",MAX(1,ROUND(N(Topics!$J$9),0))=5,MAX(1,ROUND(N(Topics!$M$9),0))=2),Topics!$C$9&", ","")&IF(AND(Topics!$C$10<>"",MAX(1,ROUND(N(Topics!$J$10),0))=5,MAX(1,ROUND(N(Topics!$M$10),0))=2),Topics!$C$10&", ","")&IF(AND(Topics!$C$11<>"",MAX(1,ROUND(N(Topics!$J$11),0))=5,MAX(1,ROUND(N(Topics!$M$11),0))=2),Topics!$C$11&", ","")&IF(AND(Topics!$C$12<>"",MAX(1,ROUND(N(Topics!$J$12),0))=5,MAX(1,ROUND(N(Topics!$M$12),0))=2),Topics!$C$12&", ","")&IF(AND(Topics!$C$13<>"",MAX(1,ROUND(N(Topics!$J$13),0))=5,MAX(1,ROUND(N(Topics!$M$13),0))=2),Topics!$C$13&", ","")&IF(AND(Topics!$C$14<>"",MAX(1,ROUND(N(Topics!$J$14),0))=5,MAX(1,ROUND(N(Topics!$M$14),0))=2),Topics!$C$14&", ","")&IF(AND(Topics!$C$15<>"",MAX(1,ROUND(N(Topics!$J$15),0))=5,MAX(1,ROUND(N(Topics!$M$15),0))=2),Topics!$C$15&", ","")&IF(AND(Topics!$C$16<>"",MAX(1,ROUND(N(Topics!$J$16),0))=5,MAX(1,ROUND(N(Topics!$M$16),0))=2),Topics!$C$16&", ","")&IF(AND(Topics!$C$17<>"",MAX(1,ROUND(N(Topics!$J$17),0))=5,MAX(1,ROUND(N(Topics!$M$17),0))=2),Topics!$C$17&", ",""))-2),"") | E8: =IFERROR(LEFT(IF(AND(Topics!$C$8<>"",MAX(1,ROUND(N(Topics!$J$8),0))=5,MAX(1,ROUND(N(Topics!$M$8),0))=3),Topics!$C$8&", ","")&IF(AND(Topics!$C$9<>"",MAX(1,ROUND(N(Topics!$J$9),0))=5,MAX(1,ROUND(N(Topics!$M$9),0))=3),Topics!$C$9&", ","")&IF(AND(Topics!$C$10<>"",MAX(1,ROUND(N(Topics!$J$10),0))=5,MAX(1,ROUND(N(Topics!$M$10),0))=3),Topics!$C$10&", ","")&IF(AND(Topics!$C$11<>"",MAX(1,ROUND(N(Topics!$J$11),0))=5,MAX(1,ROUND(N(Topics!$M$11),0))=3),Topics!$C$11&", ","")&IF(AND(Topics!$C$12<>"",MAX(1,ROUND(N(Topics!$J$12),0))=5,MAX(1,ROUND(N(Topics!$M$12),0))=3),Topics!$C$12&", ","")&IF(AND(Topics!$C$13<>"",MAX(1,ROUND(N(Topics!$J$13),0))=5,MAX(1,ROUND(N(Topics!$M$13),0))=3),Topics!$C$13&", ","")&IF(AND(Topics!$C$14<>"",MAX(1,ROUND(N(Topics!$J$14),0))=5,MAX(1,ROUND(N(Topics!$M$14),0))=3),Topics!$C$14&", ","")&IF(AND(Topics!$C$15<>"",MAX(1,ROUND(N(Topics!$J$15),0))=5,MAX(1,ROUND(N(Topics!$M$15),0))=3),Topics!$C$15&", ","")&IF(AND(Topics!$C$16<>"",MAX(1,ROUND(N(Topics!$J$16),0))=5,MAX(1,ROUND(N(Topics!$M$16),0))=3),Topics!$C$16&", ","")&IF(AND(Topics!$C$17<>"",MAX(1,ROUND(N(Topics!$J$17),0))=5,MAX(1,ROUND(N(Topics!$M$17),0))=3),Topics!$C$17&", ",""),LEN(IF(AND(Topics!$C$8<>"",MAX(1,ROUND(N(Topics!$J$8),0))=5,MAX(1,ROUND(N(Topics!$M$8),0))=3),Topics!$C$8&", ","")&IF(AND(Topics!$C$9<>"",MAX(1,ROUND(N(Topics!$J$9),0))=5,MAX(1,ROUND(N(Topics!$M$9),0))=3),Topics!$C$9&", ","")&IF(AND(Topics!$C$10<>"",MAX(1,ROUND(N(Topics!$J$10),0))=5,MAX(1,ROUND(N(Topics!$M$10),0))=3),Topics!$C$10&", ","")&IF(AND(Topics!$C$11<>"",MAX(1,ROUND(N(Topics!$J$11),0))=5,MAX(1,ROUND(N(Topics!$M$11),0))=3),Topics!$C$11&", ","")&IF(AND(Topics!$C$12<>"",MAX(1,ROUND(N(Topics!$J$12),0))=5,MAX(1,ROUND(N(Topics!$M$12),0))=3),Topics!$C$12&", ","")&IF(AND(Topics!$C$13<>"",MAX(1,ROUND(N(Topics!$J$13),0))=5,MAX(1,ROUND(N(Topics!$M$13),0))=3),Topics!$C$13&", ","")&IF(AND(Topics!$C$14<>"",MAX(1,ROUND(N(Topics!$J$14),0))=5,MAX(1,ROUND(N(Topics!$M$14),0))=3),Topics!$C$14&", ","")&IF(AND(Topics!$C$15<>"",MAX(1,ROUND(N(Topics!$J$15),0))=5,MAX(1,ROUND(N(Topics!$M$15),0))=3),Topics!$C$15&", ","")&IF(AND(Topics!$C$16<>"",MAX(1,ROUND(N(Topics!$J$16),0))=5,MAX(1,ROUND(N(Topics!$M$16),0))=3),Topics!$C$16&", ","")&IF(AND(Topics!$C$17<>"",MAX(1,ROUND(N(Topics!$J$17),0))=5,MAX(1,ROUND(N(Topics!$M$17),0))=3),Topics!$C$17&", ",""))-2),"") | F8: =IFERROR(LEFT(IF(AND(Topics!$C$8<>"",MAX(1,ROUND(N(Topics!$J$8),0))=5,MAX(1,ROUND(N(Topics!$M$8),0))=4),Topics!$C$8&", ","")&IF(AND(Topics!$C$9<>"",MAX(1,ROUND(N(Topics!$J$9),0))=5,MAX(1,ROUND(N(Topics!$M$9),0))=4),Topics!$C$9&", ","")&IF(AND(Topics!$C$10<>"",MAX(1,ROUND(N(Topics!$J$10),0))=5,MAX(1,ROUND(N(Topics!$M$10),0))=4),Topics!$C$10&", ","")&IF(AND(Topics!$C$11<>"",MAX(1,ROUND(N(Topics!$J$11),0))=5,MAX(1,ROUND(N(Topics!$M$11),0))=4),Topics!$C$11&", ","")&IF(AND(Topics!$C$12<>"",MAX(1,ROUND(N(Topics!$J$12),0))=5,MAX(1,ROUND(N(Topics!$M$12),0))=4),Topics!$C$12&", ","")&IF(AND(Topics!$C$13<>"",MAX(1,ROUND(N(Topics!$J$13),0))=5,MAX(1,ROUND(N(Topics!$M$13),0))=4),Topics!$C$13&", ","")&IF(AND(Topics!$C$14<>"",MAX(1,ROUND(N(Topics!$J$14),0))=5,MAX(1,ROUND(N(Topics!$M$14),0))=4),Topics!$C$14&", ","")&IF(AND(Topics!$C$15<>"",MAX(1,ROUND(N(Topics!$J$15),0))=5,MAX(1,ROUND(N(Topics!$M$15),0))=4),Topics!$C$15&", ","")&IF(AND(Topics!$C$16<>"",MAX(1,ROUND(N(Topics!$J$16),0))=5,MAX(1,ROUND(N(Topics!$M$16),0))=4),Topics!$C$16&", ","")&IF(AND(Topics!$C$17<>"",MAX(1,ROUND(N(Topics!$J$17),0))=5,MAX(1,ROUND(N(Topics!$M$17),0))=4),Topics!$C$17&", ",""),LEN(IF(AND(Topics!$C$8<>"",MAX(1,ROUND(N(Topics!$J$8),0))=5,MAX(1,ROUND(N(Topics!$M$8),0))=4),Topics!$C$8&", ","")&IF(AND(Topics!$C$9<>"",MAX(1,ROUND(N(Topics!$J$9),0))=5,MAX(1,ROUND(N(Topics!$M$9),0))=4),Topics!$C$9&", ","")&IF(AND(Topics!$C$10<>"",MAX(1,ROUND(N(Topics!$J$10),0))=5,MAX(1,ROUND(N(Topics!$M$10),0))=4),Topics!$C$10&", ","")&IF(AND(Topics!$C$11<>"",MAX(1,ROUND(N(Topics!$J$11),0))=5,MAX(1,ROUND(N(Topics!$M$11),0))=4),Topics!$C$11&", ","")&IF(AND(Topics!$C$12<>"",MAX(1,ROUND(N(Topics!$J$12),0))=5,MAX(1,ROUND(N(Topics!$M$12),0))=4),Topics!$C$12&", ","")&IF(AND(Topics!$C$13<>"",MAX(1,ROUND(N(Topics!$J$13),0))=5,MAX(1,ROUND(N(Topics!$M$13),0))=4),Topics!$C$13&", ","")&IF(AND(Topics!$C$14<>"",MAX(1,ROUND(N(Topics!$J$14),0))=5,MAX(1,ROUND(N(Topics!$M$14),0))=4),Topics!$C$14&", ","")&IF(AND(Topics!$C$15<>"",MAX(1,ROUND(N(Topics!$J$15),0))=5,MAX(1,ROUND(N(Topics!$M$15),0))=4),Topics!$C$15&", ","")&IF(AND(Topics!$C$16<>"",MAX(1,ROUND(N(Topics!$J$16),0))=5,MAX(1,ROUND(N(Topics!$M$16),0))=4),Topics!$C$16&", ","")&IF(AND(Topics!$C$17<>"",MAX(1,ROUND(N(Topics!$J$17),0))=5,MAX(1,ROUND(N(Topics!$M$17),0))=4),Topics!$C$17&", ",""))-2),"") | G8: =IFERROR(LEFT(IF(AND(Topics!$C$8<>"",MAX(1,ROUND(N(Topics!$J$8),0))=5,MAX(1,ROUND(N(Topics!$M$8),0))=5),Topics!$C$8&", ","")&IF(AND(Topics!$C$9<>"",MAX(1,ROUND(N(Topics!$J$9),0))=5,MAX(1,ROUND(N(Topics!$M$9),0))=5),Topics!$C$9&", ","")&IF(AND(Topics!$C$10<>"",MAX(1,ROUND(N(Topics!$J$10),0))=5,MAX(1,ROUND(N(Topics!$M$10),0))=5),Topics!$C$10&", ","")&IF(AND(Topics!$C$11<>"",MAX(1,ROUND(N(Topics!$J$11),0))=5,MAX(1,ROUND(N(Topics!$M$11),0))=5),Topics!$C$11&", ","")&IF(AND(Topics!$C$12<>"",MAX(1,ROUND(N(Topics!$J$12),0))=5,MAX(1,ROUND(N(Topics!$M$12),0))=5),Topics!$C$12&", ","")&IF(AND(Topics!$C$13<>"",MAX(1,ROUND(N(Topics!$J$13),0))=5,MAX(1,ROUND(N(Topics!$M$13),0))=5),Topics!$C$13&", ","")&IF(AND(Topics!$C$14<>"",MAX(1,ROUND(N(Topics!$J$14),0))=5,MAX(1,ROUND(N(Topics!$M$14),0))=5),Topics!$C$14&", ","")&IF(AND(Topics!$C$15<>"",MAX(1,ROUND(N(Topics!$J$15),0))=5,MAX(1,ROUND(N(Topics!$M$15),0))=5),Topics!$C$15&", ","")&IF(AND(Topics!$C$16<>"",MAX(1,ROUND(N(Topics!$J$16),0))=5,MAX(1,ROUND(N(Topics!$M$16),0))=5),Topics!$C$16&", ","")&IF(AND(Topics!$C$17<>"",MAX(1,ROUND(N(Topics!$J$17),0))=5,MAX(1,ROUND(N(Topics!$M$17),0))=5),Topics!$C$17&", ",""),LEN(IF(AND(Topics!$C$8<>"",MAX(1,ROUND(N(Topics!$J$8),0))=5,MAX(1,ROUND(N(Topics!$M$8),0))=5),Topics!$C$8&", ","")&IF(AND(Topics!$C$9<>"",MAX(1,ROUND(N(Topics!$J$9),0))=5,MAX(1,ROUND(N(Topics!$M$9),0))=5),Topics!$C$9&", ","")&IF(AND(Topics!$C$10<>"",MAX(1,ROUND(N(Topics!$J$10),0))=5,MAX(1,ROUND(N(Topics!$M$10),0))=5),Topics!$C$10&", ","")&IF(AND(Topics!$C$11<>"",MAX(1,ROUND(N(Topics!$J$11),0))=5,MAX(1,ROUND(N(Topics!$M$11),0))=5),Topics!$C$11&", ","")&IF(AND(Topics!$C$12<>"",MAX(1,ROUND(N(Topics!$J$12),0))=5,MAX(1,ROUND(N(Topics!$M$12),0))=5),Topics!$C$12&", ","")&IF(AND(Topics!$C$13<>"",MAX(1,ROUND(N(Topics!$J$13),0))=5,MAX(1,ROUND(N(Topics!$M$13),0))=5),Topics!$C$13&", ","")&IF(AND(Topics!$C$14<>"",MAX(1,ROUND(N(Topics!$J$14),0))=5,MAX(1,ROUND(N(Topics!$M$14),0))=5),Topics!$C$14&", ","")&IF(AND(Topics!$C$15<>"",MAX(1,ROUND(N(Topics!$J$15),0))=5,MAX(1,ROUND(N(Topics!$M$15),0))=5),Topics!$C$15&", ","")&IF(AND(Topics!$C$16<>"",MAX(1,ROUND(N(Topics!$J$16),0))=5,MAX(1,ROUND(N(Topics!$M$16),0))=5),Topics!$C$16&", ","")&IF(AND(Topics!$C$17<>"",MAX(1,ROUND(N(Topics!$J$17),0))=5,MAX(1,ROUND(N(Topics!$M$17),0))=5),Topics!$C$17&", ",""))-2),"")
B9: 4 | C9: =IFERROR(LEFT(IF(AND(Topics!$C$8<>"",MAX(1,ROUND(N(Topics!$J$8),0))=4,MAX(1,ROUND(N(Topics!$M$8),0))=1),Topics!$C$8&", ","")&IF(AND(Topics!$C$9<>"",MAX(1,ROUND(N(Topics!$J$9),0))=4,MAX(1,ROUND(N(Topics!$M$9),0))=1),Topics!$C$9&", ","")&IF(AND(Topics!$C$10<>"",MAX(1,ROUND(N(Topics!$J$10),0))=4,MAX(1,ROUND(N(Topics!$M$10),0))=1),Topics!$C$10&", ","")&IF(AND(Topics!$C$11<>"",MAX(1,ROUND(N(Topics!$J$11),0))=4,MAX(1,ROUND(N(Topics!$M$11),0))=1),Topics!$C$11&", ","")&IF(AND(Topics!$C$12<>"",MAX(1,ROUND(N(Topics!$J$12),0))=4,MAX(1,ROUND(N(Topics!$M$12),0))=1),Topics!$C$12&", ","")&IF(AND(Topics!$C$13<>"",MAX(1,ROUND(N(Topics!$J$13),0))=4,MAX(1,ROUND(N(Topics!$M$13),0))=1),Topics!$C$13&", ","")&IF(AND(Topics!$C$14<>"",MAX(1,ROUND(N(Topics!$J$14),0))=4,MAX(1,ROUND(N(Topics!$M$14),0))=1),Topics!$C$14&", ","")&IF(AND(Topics!$C$15<>"",MAX(1,ROUND(N(Topics!$J$15),0))=4,MAX(1,ROUND(N(Topics!$M$15),0))=1),Topics!$C$15&", ","")&IF(AND(Topics!$C$16<>"",MAX(1,ROUND(N(Topics!$J$16),0))=4,MAX(1,ROUND(N(Topics!$M$16),0))=1),Topics!$C$16&", ","")&IF(AND(Topics!$C$17<>"",MAX(1,ROUND(N(Topics!$J$17),0))=4,MAX(1,ROUND(N(Topics!$M$17),0))=1),Topics!$C$17&", ",""),LEN(IF(AND(Topics!$C$8<>"",MAX(1,ROUND(N(Topics!$J$8),0))=4,MAX(1,ROUND(N(Topics!$M$8),0))=1),Topics!$C$8&", ","")&IF(AND(Topics!$C$9<>"",MAX(1,ROUND(N(Topics!$J$9),0))=4,MAX(1,ROUND(N(Topics!$M$9),0))=1),Topics!$C$9&", ","")&IF(AND(Topics!$C$10<>"",MAX(1,ROUND(N(Topics!$J$10),0))=4,MAX(1,ROUND(N(Topics!$M$10),0))=1),Topics!$C$10&", ","")&IF(AND(Topics!$C$11<>"",MAX(1,ROUND(N(Topics!$J$11),0))=4,MAX(1,ROUND(N(Topics!$M$11),0))=1),Topics!$C$11&", ","")&IF(AND(Topics!$C$12<>"",MAX(1,ROUND(N(Topics!$J$12),0))=4,MAX(1,ROUND(N(Topics!$M$12),0))=1),Topics!$C$12&", ","")&IF(AND(Topics!$C$13<>"",MAX(1,ROUND(N(Topics!$J$13),0))=4,MAX(1,ROUND(N(Topics!$M$13),0))=1),Topics!$C$13&", ","")&IF(AND(Topics!$C$14<>"",MAX(1,ROUND(N(Topics!$J$14),0))=4,MAX(1,ROUND(N(Topics!$M$14),0))=1),Topics!$C$14&", ","")&IF(AND(Topics!$C$15<>"",MAX(1,ROUND(N(Topics!$J$15),0))=4,MAX(1,ROUND(N(Topics!$M$15),0))=1),Topics!$C$15&", ","")&IF(AND(Topics!$C$16<>"",MAX(1,ROUND(N(Topics!$J$16),0))=4,MAX(1,ROUND(N(Topics!$M$16),0))=1),Topics!$C$16&", ","")&IF(AND(Topics!$C$17<>"",MAX(1,ROUND(N(Topics!$J$17),0))=4,MAX(1,ROUND(N(Topics!$M$17),0))=1),Topics!$C$17&", ",""))-2),"") | D9: =IFERROR(LEFT(IF(AND(Topics!$C$8<>"",MAX(1,ROUND(N(Topics!$J$8),0))=4,MAX(1,ROUND(N(Topics!$M$8),0))=2),Topics!$C$8&", ","")&IF(AND(Topics!$C$9<>"",MAX(1,ROUND(N(Topics!$J$9),0))=4,MAX(1,ROUND(N(Topics!$M$9),0))=2),Topics!$C$9&", ","")&IF(AND(Topics!$C$10<>"",MAX(1,ROUND(N(Topics!$J$10),0))=4,MAX(1,ROUND(N(Topics!$M$10),0))=2),Topics!$C$10&", ","")&IF(AND(Topics!$C$11<>"",MAX(1,ROUND(N(Topics!$J$11),0))=4,MAX(1,ROUND(N(Topics!$M$11),0))=2),Topics!$C$11&", ","")&IF(AND(Topics!$C$12<>"",MAX(1,ROUND(N(Topics!$J$12),0))=4,MAX(1,ROUND(N(Topics!$M$12),0))=2),Topics!$C$12&", ","")&IF(AND(Topics!$C$13<>"",MAX(1,ROUND(N(Topics!$J$13),0))=4,MAX(1,ROUND(N(Topics!$M$13),0))=2),Topics!$C$13&", ","")&IF(AND(Topics!$C$14<>"",MAX(1,ROUND(N(Topics!$J$14),0))=4,MAX(1,ROUND(N(Topics!$M$14),0))=2),Topics!$C$14&", ","")&IF(AND(Topics!$C$15<>"",MAX(1,ROUND(N(Topics!$J$15),0))=4,MAX(1,ROUND(N(Topics!$M$15),0))=2),Topics!$C$15&", ","")&IF(AND(Topics!$C$16<>"",MAX(1,ROUND(N(Topics!$J$16),0))=4,MAX(1,ROUND(N(Topics!$M$16),0))=2),Topics!$C$16&", ","")&IF(AND(Topics!$C$17<>"",MAX(1,ROUND(N(Topics!$J$17),0))=4,MAX(1,ROUND(N(Topics!$M$17),0))=2),Topics!$C$17&", ",""),LEN(IF(AND(Topics!$C$8<>"",MAX(1,ROUND(N(Topics!$J$8),0))=4,MAX(1,ROUND(N(Topics!$M$8),0))=2),Topics!$C$8&", ","")&IF(AND(Topics!$C$9<>"",MAX(1,ROUND(N(Topics!$J$9),0))=4,MAX(1,ROUND(N(Topics!$M$9),0))=2),Topics!$C$9&", ","")&IF(AND(Topics!$C$10<>"",MAX(1,ROUND(N(Topics!$J$10),0))=4,MAX(1,ROUND(N(Topics!$M$10),0))=2),Topics!$C$10&", ","")&IF(AND(Topics!$C$11<>"",MAX(1,ROUND(N(Topics!$J$11),0))=4,MAX(1,ROUND(N(Topics!$M$11),0))=2),Topics!$C$11&", ","")&IF(AND(Topics!$C$12<>"",MAX(1,ROUND(N(Topics!$J$12),0))=4,MAX(1,ROUND(N(Topics!$M$12),0))=2),Topics!$C$12&", ","")&IF(AND(Topics!$C$13<>"",MAX(1,ROUND(N(Topics!$J$13),0))=4,MAX(1,ROUND(N(Topics!$M$13),0))=2),Topics!$C$13&", ","")&IF(AND(Topics!$C$14<>"",MAX(1,ROUND(N(Topics!$J$14),0))=4,MAX(1,ROUND(N(Topics!$M$14),0))=2),Topics!$C$14&", ","")&IF(AND(Topics!$C$15<>"",MAX(1,ROUND(N(Topics!$J$15),0))=4,MAX(1,ROUND(N(Topics!$M$15),0))=2),Topics!$C$15&", ","")&IF(AND(Topics!$C$16<>"",MAX(1,ROUND(N(Topics!$J$16),0))=4,MAX(1,ROUND(N(Topics!$M$16),0))=2),Topics!$C$16&", ","")&IF(AND(Topics!$C$17<>"",MAX(1,ROUND(N(Topics!$J$17),0))=4,MAX(1,ROUND(N(Topics!$M$17),0))=2),Topics!$C$17&", ",""))-2),"") | E9: =IFERROR(LEFT(IF(AND(Topics!$C$8<>"",MAX(1,ROUND(N(Topics!$J$8),0))=4,MAX(1,ROUND(N(Topics!$M$8),0))=3),Topics!$C$8&", ","")&IF(AND(Topics!$C$9<>"",MAX(1,ROUND(N(Topics!$J$9),0))=4,MAX(1,ROUND(N(Topics!$M$9),0))=3),Topics!$C$9&", ","")&IF(AND(Topics!$C$10<>"",MAX(1,ROUND(N(Topics!$J$10),0))=4,MAX(1,ROUND(N(Topics!$M$10),0))=3),Topics!$C$10&", ","")&IF(AND(Topics!$C$11<>"",MAX(1,ROUND(N(Topics!$J$11),0))=4,MAX(1,ROUND(N(Topics!$M$11),0))=3),Topics!$C$11&", ","")&IF(AND(Topics!$C$12<>"",MAX(1,ROUND(N(Topics!$J$12),0))=4,MAX(1,ROUND(N(Topics!$M$12),0))=3),Topics!$C$12&", ","")&IF(AND(Topics!$C$13<>"",MAX(1,ROUND(N(Topics!$J$13),0))=4,MAX(1,ROUND(N(Topics!$M$13),0))=3),Topics!$C$13&", ","")&IF(AND(Topics!$C$14<>"",MAX(1,ROUND(N(Topics!$J$14),0))=4,MAX(1,ROUND(N(Topics!$M$14),0))=3),Topics!$C$14&", ","")&IF(AND(Topics!$C$15<>"",MAX(1,ROUND(N(Topics!$J$15),0))=4,MAX(1,ROUND(N(Topics!$M$15),0))=3),Topics!$C$15&", ","")&IF(AND(Topics!$C$16<>"",MAX(1,ROUND(N(Topics!$J$16),0))=4,MAX(1,ROUND(N(Topics!$M$16),0))=3),Topics!$C$16&", ","")&IF(AND(Topics!$C$17<>"",MAX(1,ROUND(N(Topics!$J$17),0))=4,MAX(1,ROUND(N(Topics!$M$17),0))=3),Topics!$C$17&", ",""),LEN(IF(AND(Topics!$C$8<>"",MAX(1,ROUND(N(Topics!$J$8),0))=4,MAX(1,ROUND(N(Topics!$M$8),0))=3),Topics!$C$8&", ","")&IF(AND(Topics!$C$9<>"",MAX(1,ROUND(N(Topics!$J$9),0))=4,MAX(1,ROUND(N(Topics!$M$9),0))=3),Topics!$C$9&", ","")&IF(AND(Topics!$C$10<>"",MAX(1,ROUND(N(Topics!$J$10),0))=4,MAX(1,ROUND(N(Topics!$M$10),0))=3),Topics!$C$10&", ","")&IF(AND(Topics!$C$11<>"",MAX(1,ROUND(N(Topics!$J$11),0))=4,MAX(1,ROUND(N(Topics!$M$11),0))=3),Topics!$C$11&", ","")&IF(AND(Topics!$C$12<>"",MAX(1,ROUND(N(Topics!$J$12),0))=4,MAX(1,ROUND(N(Topics!$M$12),0))=3),Topics!$C$12&", ","")&IF(AND(Topics!$C$13<>"",MAX(1,ROUND(N(Topics!$J$13),0))=4,MAX(1,ROUND(N(Topics!$M$13),0))=3),Topics!$C$13&", ","")&IF(AND(Topics!$C$14<>"",MAX(1,ROUND(N(Topics!$J$14),0))=4,MAX(1,ROUND(N(Topics!$M$14),0))=3),Topics!$C$14&", ","")&IF(AND(Topics!$C$15<>"",MAX(1,ROUND(N(Topics!$J$15),0))=4,MAX(1,ROUND(N(Topics!$M$15),0))=3),Topics!$C$15&", ","")&IF(AND(Topics!$C$16<>"",MAX(1,ROUND(N(Topics!$J$16),0))=4,MAX(1,ROUND(N(Topics!$M$16),0))=3),Topics!$C$16&", ","")&IF(AND(Topics!$C$17<>"",MAX(1,ROUND(N(Topics!$J$17),0))=4,MAX(1,ROUND(N(Topics!$M$17),0))=3),Topics!$C$17&", ",""))-2),"") | F9: =IFERROR(LEFT(IF(AND(Topics!$C$8<>"",MAX(1,ROUND(N(Topics!$J$8),0))=4,MAX(1,ROUND(N(Topics!$M$8),0))=4),Topics!$C$8&", ","")&IF(AND(Topics!$C$9<>"",MAX(1,ROUND(N(Topics!$J$9),0))=4,MAX(1,ROUND(N(Topics!$M$9),0))=4),Topics!$C$9&", ","")&IF(AND(Topics!$C$10<>"",MAX(1,ROUND(N(Topics!$J$10),0))=4,MAX(1,ROUND(N(Topics!$M$10),0))=4),Topics!$C$10&", ","")&IF(AND(Topics!$C$11<>"",MAX(1,ROUND(N(Topics!$J$11),0))=4,MAX(1,ROUND(N(Topics!$M$11),0))=4),Topics!$C$11&", ","")&IF(AND(Topics!$C$12<>"",MAX(1,ROUND(N(Topics!$J$12),0))=4,MAX(1,ROUND(N(Topics!$M$12),0))=4),Topics!$C$12&", ","")&IF(AND(Topics!$C$13<>"",MAX(1,ROUND(N(Topics!$J$13),0))=4,MAX(1,ROUND(N(Topics!$M$13),0))=4),Topics!$C$13&", ","")&IF(AND(Topics!$C$14<>"",MAX(1,ROUND(N(Topics!$J$14),0))=4,MAX(1,ROUND(N(Topics!$M$14),0))=4),Topics!$C$14&", ","")&IF(AND(Topics!$C$15<>"",MAX(1,ROUND(N(Topics!$J$15),0))=4,MAX(1,ROUND(N(Topics!$M$15),0))=4),Topics!$C$15&", ","")&IF(AND(Topics!$C$16<>"",MAX(1,ROUND(N(Topics!$J$16),0))=4,MAX(1,ROUND(N(Topics!$M$16),0))=4),Topics!$C$16&", ","")&IF(AND(Topics!$C$17<>"",MAX(1,ROUND(N(Topics!$J$17),0))=4,MAX(1,ROUND(N(Topics!$M$17),0))=4),Topics!$C$17&", ",""),LEN(IF(AND(Topics!$C$8<>"",MAX(1,ROUND(N(Topics!$J$8),0))=4,MAX(1,ROUND(N(Topics!$M$8),0))=4),Topics!$C$8&", ","")&IF(AND(Topics!$C$9<>"",MAX(1,ROUND(N(Topics!$J$9),0))=4,MAX(1,ROUND(N(Topics!$M$9),0))=4),Topics!$C$9&", ","")&IF(AND(Topics!$C$10<>"",MAX(1,ROUND(N(Topics!$J$10),0))=4,MAX(1,ROUND(N(Topics!$M$10),0))=4),Topics!$C$10&", ","")&IF(AND(Topics!$C$11<>"",MAX(1,ROUND(N(Topics!$J$11),0))=4,MAX(1,ROUND(N(Topics!$M$11),0))=4),Topics!$C$11&", ","")&IF(AND(Topics!$C$12<>"",MAX(1,ROUND(N(Topics!$J$12),0))=4,MAX(1,ROUND(N(Topics!$M$12),0))=4),Topics!$C$12&", ","")&IF(AND(Topics!$C$13<>"",MAX(1,ROUND(N(Topics!$J$13),0))=4,MAX(1,ROUND(N(Topics!$M$13),0))=4),Topics!$C$13&", ","")&IF(AND(Topics!$C$14<>"",MAX(1,ROUND(N(Topics!$J$14),0))=4,MAX(1,ROUND(N(Topics!$M$14),0))=4),Topics!$C$14&", ","")&IF(AND(Topics!$C$15<>"",MAX(1,ROUND(N(Topics!$J$15),0))=4,MAX(1,ROUND(N(Topics!$M$15),0))=4),Topics!$C$15&", ","")&IF(AND(Topics!$C$16<>"",MAX(1,ROUND(N(Topics!$J$16),0))=4,MAX(1,ROUND(N(Topics!$M$16),0))=4),Topics!$C$16&", ","")&IF(AND(Topics!$C$17<>"",MAX(1,ROUND(N(Topics!$J$17),0))=4,MAX(1,ROUND(N(Topics!$M$17),0))=4),Topics!$C$17&", ",""))-2),"") | G9: =IFERROR(LEFT(IF(AND(Topics!$C$8<>"",MAX(1,ROUND(N(Topics!$J$8),0))=4,MAX(1,ROUND(N(Topics!$M$8),0))=5),Topics!$C$8&", ","")&IF(AND(Topics!$C$9<>"",MAX(1,ROUND(N(Topics!$J$9),0))=4,MAX(1,ROUND(N(Topics!$M$9),0))=5),Topics!$C$9&", ","")&IF(AND(Topics!$C$10<>"",MAX(1,ROUND(N(Topics!$J$10),0))=4,MAX(1,ROUND(N(Topics!$M$10),0))=5),Topics!$C$10&", ","")&IF(AND(Topics!$C$11<>"",MAX(1,ROUND(N(Topics!$J$11),0))=4,MAX(1,ROUND(N(Topics!$M$11),0))=5),Topics!$C$11&", ","")&IF(AND(Topics!$C$12<>"",MAX(1,ROUND(N(Topics!$J$12),0))=4,MAX(1,ROUND(N(Topics!$M$12),0))=5),Topics!$C$12&", ","")&IF(AND(Topics!$C$13<>"",MAX(1,ROUND(N(Topics!$J$13),0))=4,MAX(1,ROUND(N(Topics!$M$13),0))=5),Topics!$C$13&", ","")&IF(AND(Topics!$C$14<>"",MAX(1,ROUND(N(Topics!$J$14),0))=4,MAX(1,ROUND(N(Topics!$M$14),0))=5),Topics!$C$14&", ","")&IF(AND(Topics!$C$15<>"",MAX(1,ROUND(N(Topics!$J$15),0))=4,MAX(1,ROUND(N(Topics!$M$15),0))=5),Topics!$C$15&", ","")&IF(AND(Topics!$C$16<>"",MAX(1,ROUND(N(Topics!$J$16),0))=4,MAX(1,ROUND(N(Topics!$M$16),0))=5),Topics!$C$16&", ","")&IF(AND(Topics!$C$17<>"",MAX(1,ROUND(N(Topics!$J$17),0))=4,MAX(1,ROUND(N(Topics!$M$17),0))=5),Topics!$C$17&", ",""),LEN(IF(AND(Topics!$C$8<>"",MAX(1,ROUND(N(Topics!$J$8),0))=4,MAX(1,ROUND(N(Topics!$M$8),0))=5),Topics!$C$8&", ","")&IF(AND(Topics!$C$9<>"",MAX(1,ROUND(N(Topics!$J$9),0))=4,MAX(1,ROUND(N(Topics!$M$9),0))=5),Topics!$C$9&", ","")&IF(AND(Topics!$C$10<>"",MAX(1,ROUND(N(Topics!$J$10),0))=4,MAX(1,ROUND(N(Topics!$M$10),0))=5),Topics!$C$10&", ","")&IF(AND(Topics!$C$11<>"",MAX(1,ROUND(N(Topics!$J$11),0))=4,MAX(1,ROUND(N(Topics!$M$11),0))=5),Topics!$C$11&", ","")&IF(AND(Topics!$C$12<>"",MAX(1,ROUND(N(Topics!$J$12),0))=4,MAX(1,ROUND(N(Topics!$M$12),0))=5),Topics!$C$12&", ","")&IF(AND(Topics!$C$13<>"",MAX(1,ROUND(N(Topics!$J$13),0))=4,MAX(1,ROUND(N(Topics!$M$13),0))=5),Topics!$C$13&", ","")&IF(AND(Topics!$C$14<>"",MAX(1,ROUND(N(Topics!$J$14),0))=4,MAX(1,ROUND(N(Topics!$M$14),0))=5),Topics!$C$14&", ","")&IF(AND(Topics!$C$15<>"",MAX(1,ROUND(N(Topics!$J$15),0))=4,MAX(1,ROUND(N(Topics!$M$15),0))=5),Topics!$C$15&", ","")&IF(AND(Topics!$C$16<>"",MAX(1,ROUND(N(Topics!$J$16),0))=4,MAX(1,ROUND(N(Topics!$M$16),0))=5),Topics!$C$16&", ","")&IF(AND(Topics!$C$17<>"",MAX(1,ROUND(N(Topics!$J$17),0))=4,MAX(1,ROUND(N(Topics!$M$17),0))=5),Topics!$C$17&", ",""))-2),"")
B10: 3 | C10: =IFERROR(LEFT(IF(AND(Topics!$C$8<>"",MAX(1,ROUND(N(Topics!$J$8),0))=3,MAX(1,ROUND(N(Topics!$M$8),0))=1),Topics!$C$8&", ","")&IF(AND(Topics!$C$9<>"",MAX(1,ROUND(N(Topics!$J$9),0))=3,MAX(1,ROUND(N(Topics!$M$9),0))=1),Topics!$C$9&", ","")&IF(AND(Topics!$C$10<>"",MAX(1,ROUND(N(Topics!$J$10),0))=3,MAX(1,ROUND(N(Topics!$M$10),0))=1),Topics!$C$10&", ","")&IF(AND(Topics!$C$11<>"",MAX(1,ROUND(N(Topics!$J$11),0))=3,MAX(1,ROUND(N(Topics!$M$11),0))=1),Topics!$C$11&", ","")&IF(AND(Topics!$C$12<>"",MAX(1,ROUND(N(Topics!$J$12),0))=3,MAX(1,ROUND(N(Topics!$M$12),0))=1),Topics!$C$12&", ","")&IF(AND(Topics!$C$13<>"",MAX(1,ROUND(N(Topics!$J$13),0))=3,MAX(1,ROUND(N(Topics!$M$13),0))=1),Topics!$C$13&", ","")&IF(AND(Topics!$C$14<>"",MAX(1,ROUND(N(Topics!$J$14),0))=3,MAX(1,ROUND(N(Topics!$M$14),0))=1),Topics!$C$14&", ","")&IF(AND(Topics!$C$15<>"",MAX(1,ROUND(N(Topics!$J$15),0))=3,MAX(1,ROUND(N(Topics!$M$15),0))=1),Topics!$C$15&", ","")&IF(AND(Topics!$C$16<>"",MAX(1,ROUND(N(Topics!$J$16),0))=3,MAX(1,ROUND(N(Topics!$M$16),0))=1),Topics!$C$16&", ","")&IF(AND(Topics!$C$17<>"",MAX(1,ROUND(N(Topics!$J$17),0))=3,MAX(1,ROUND(N(Topics!$M$17),0))=1),Topics!$C$17&", ",""),LEN(IF(AND(Topics!$C$8<>"",MAX(1,ROUND(N(Topics!$J$8),0))=3,MAX(1,ROUND(N(Topics!$M$8),0))=1),Topics!$C$8&", ","")&IF(AND(Topics!$C$9<>"",MAX(1,ROUND(N(Topics!$J$9),0))=3,MAX(1,ROUND(N(Topics!$M$9),0))=1),Topics!$C$9&", ","")&IF(AND(Topics!$C$10<>"",MAX(1,ROUND(N(Topics!$J$10),0))=3,MAX(1,ROUND(N(Topics!$M$10),0))=1),Topics!$C$10&", ","")&IF(AND(Topics!$C$11<>"",MAX(1,ROUND(N(Topics!$J$11),0))=3,MAX(1,ROUND(N(Topics!$M$11),0))=1),Topics!$C$11&", ","")&IF(AND(Topics!$C$12<>"",MAX(1,ROUND(N(Topics!$J$12),0))=3,MAX(1,ROUND(N(Topics!$M$12),0))=1),Topics!$C$12&", ","")&IF(AND(Topics!$C$13<>"",MAX(1,ROUND(N(Topics!$J$13),0))=3,MAX(1,ROUND(N(Topics!$M$13),0))=1),Topics!$C$13&", ","")&IF(AND(Topics!$C$14<>"",MAX(1,ROUND(N(Topics!$J$14),0))=3,MAX(1,ROUND(N(Topics!$M$14),0))=1),Topics!$C$14&", ","")&IF(AND(Topics!$C$15<>"",MAX(1,ROUND(N(Topics!$J$15),0))=3,MAX(1,ROUND(N(Topics!$M$15),0))=1),Topics!$C$15&", ","")&IF(AND(Topics!$C$16<>"",MAX(1,ROUND(N(Topics!$J$16),0))=3,MAX(1,ROUND(N(Topics!$M$16),0))=1),Topics!$C$16&", ","")&IF(AND(Topics!$C$17<>"",MAX(1,ROUND(N(Topics!$J$17),0))=3,MAX(1,ROUND(N(Topics!$M$17),0))=1),Topics!$C$17&", ",""))-2),"") | D10: =IFERROR(LEFT(IF(AND(Topics!$C$8<>"",MAX(1,ROUND(N(Topics!$J$8),0))=3,MAX(1,ROUND(N(Topics!$M$8),0))=2),Topics!$C$8&", ","")&IF(AND(Topics!$C$9<>"",MAX(1,ROUND(N(Topics!$J$9),0))=3,MAX(1,ROUND(N(Topics!$M$9),0))=2),Topics!$C$9&", ","")&IF(AND(Topics!$C$10<>"",MAX(1,ROUND(N(Topics!$J$10),0))=3,MAX(1,ROUND(N(Topics!$M$10),0))=2),Topics!$C$10&", ","")&IF(AND(Topics!$C$11<>"",MAX(1,ROUND(N(Topics!$J$11),0))=3,MAX(1,ROUND(N(Topics!$M$11),0))=2),Topics!$C$11&", ","")&IF(AND(Topics!$C$12<>"",MAX(1,ROUND(N(Topics!$J$12),0))=3,MAX(1,ROUND(N(Topics!$M$12),0))=2),Topics!$C$12&", ","")&IF(AND(Topics!$C$13<>"",MAX(1,ROUND(N(Topics!$J$13),0))=3,MAX(1,ROUND(N(Topics!$M$13),0))=2),Topics!$C$13&", ","")&IF(AND(Topics!$C$14<>"",MAX(1,ROUND(N(Topics!$J$14),0))=3,MAX(1,ROUND(N(Topics!$M$14),0))=2),Topics!$C$14&", ","")&IF(AND(Topics!$C$15<>"",MAX(1,ROUND(N(Topics!$J$15),0))=3,MAX(1,ROUND(N(Topics!$M$15),0))=2),Topics!$C$15&", ","")&IF(AND(Topics!$C$16<>"",MAX(1,ROUND(N(Topics!$J$16),0))=3,MAX(1,ROUND(N(Topics!$M$16),0))=2),Topics!$C$16&", ","")&IF(AND(Topics!$C$17<>"",MAX(1,ROUND(N(Topics!$J$17),0))=3,MAX(1,ROUND(N(Topics!$M$17),0))=2),Topics!$C$17&", ",""),LEN(IF(AND(Topics!$C$8<>"",MAX(1,ROUND(N(Topics!$J$8),0))=3,MAX(1,ROUND(N(Topics!$M$8),0))=2),Topics!$C$8&", ","")&IF(AND(Topics!$C$9<>"",MAX(1,ROUND(N(Topics!$J$9),0))=3,MAX(1,ROUND(N(Topics!$M$9),0))=2),Topics!$C$9&", ","")&IF(AND(Topics!$C$10<>"",MAX(1,ROUND(N(Topics!$J$10),0))=3,MAX(1,ROUND(N(Topics!$M$10),0))=2),Topics!$C$10&", ","")&IF(AND(Topics!$C$11<>"",MAX(1,ROUND(N(Topics!$J$11),0))=3,MAX(1,ROUND(N(Topics!$M$11),0))=2),Topics!$C$11&", ","")&IF(AND(Topics!$C$12<>"",MAX(1,ROUND(N(Topics!$J$12),0))=3,MAX(1,ROUND(N(Topics!$M$12),0))=2),Topics!$C$12&", ","")&IF(AND(Topics!$C$13<>"",MAX(1,ROUND(N(Topics!$J$13),0))=3,MAX(1,ROUND(N(Topics!$M$13),0))=2),Topics!$C$13&", ","")&IF(AND(Topics!$C$14<>"",MAX(1,ROUND(N(Topics!$J$14),0))=3,MAX(1,ROUND(N(Topics!$M$14),0))=2),Topics!$C$14&", ","")&IF(AND(Topics!$C$15<>"",MAX(1,ROUND(N(Topics!$J$15),0))=3,MAX(1,ROUND(N(Topics!$M$15),0))=2),Topics!$C$15&", ","")&IF(AND(Topics!$C$16<>"",MAX(1,ROUND(N(Topics!$J$16),0))=3,MAX(1,ROUND(N(Topics!$M$16),0))=2),Topics!$C$16&", ","")&IF(AND(Topics!$C$17<>"",MAX(1,ROUND(N(Topics!$J$17),0))=3,MAX(1,ROUND(N(Topics!$M$17),0))=2),Topics!$C$17&", ",""))-2),"") | E10: =IFERROR(LEFT(IF(AND(Topics!$C$8<>"",MAX(1,ROUND(N(Topics!$J$8),0))=3,MAX(1,ROUND(N(Topics!$M$8),0))=3),Topics!$C$8&", ","")&IF(AND(Topics!$C$9<>"",MAX(1,ROUND(N(Topics!$J$9),0))=3,MAX(1,ROUND(N(Topics!$M$9),0))=3),Topics!$C$9&", ","")&IF(AND(Topics!$C$10<>"",MAX(1,ROUND(N(Topics!$J$10),0))=3,MAX(1,ROUND(N(Topics!$M$10),0))=3),Topics!$C$10&", ","")&IF(AND(Topics!$C$11<>"",MAX(1,ROUND(N(Topics!$J$11),0))=3,MAX(1,ROUND(N(Topics!$M$11),0))=3),Topics!$C$11&", ","")&IF(AND(Topics!$C$12<>"",MAX(1,ROUND(N(Topics!$J$12),0))=3,MAX(1,ROUND(N(Topics!$M$12),0))=3),Topics!$C$12&", ","")&IF(AND(Topics!$C$13<>"",MAX(1,ROUND(N(Topics!$J$13),0))=3,MAX(1,ROUND(N(Topics!$M$13),0))=3),Topics!$C$13&", ","")&IF(AND(Topics!$C$14<>"",MAX(1,ROUND(N(Topics!$J$14),0))=3,MAX(1,ROUND(N(Topics!$M$14),0))=3),Topics!$C$14&", ","")&IF(AND(Topics!$C$15<>"",MAX(1,ROUND(N(Topics!$J$15),0))=3,MAX(1,ROUND(N(Topics!$M$15),0))=3),Topics!$C$15&", ","")&IF(AND(Topics!$C$16<>"",MAX(1,ROUND(N(Topics!$J$16),0))=3,MAX(1,ROUND(N(Topics!$M$16),0))=3),Topics!$C$16&", ","")&IF(AND(Topics!$C$17<>"",MAX(1,ROUND(N(Topics!$J$17),0))=3,MAX(1,ROUND(N(Topics!$M$17),0))=3),Topics!$C$17&", ",""),LEN(IF(AND(Topics!$C$8<>"",MAX(1,ROUND(N(Topics!$J$8),0))=3,MAX(1,ROUND(N(Topics!$M$8),0))=3),Topics!$C$8&", ","")&IF(AND(Topics!$C$9<>"",MAX(1,ROUND(N(Topics!$J$9),0))=3,MAX(1,ROUND(N(Topics!$M$9),0))=3),Topics!$C$9&", ","")&IF(AND(Topics!$C$10<>"",MAX(1,ROUND(N(Topics!$J$10),0))=3,MAX(1,ROUND(N(Topics!$M$10),0))=3),Topics!$C$10&", ","")&IF(AND(Topics!$C$11<>"",MAX(1,ROUND(N(Topics!$J$11),0))=3,MAX(1,ROUND(N(Topics!$M$11),0))=3),Topics!$C$11&", ","")&IF(AND(Topics!$C$12<>"",MAX(1,ROUND(N(Topics!$J$12),0))=3,MAX(1,ROUND(N(Topics!$M$12),0))=3),Topics!$C$12&", ","")&IF(AND(Topics!$C$13<>"",MAX(1,ROUND(N(Topics!$J$13),0))=3,MAX(1,ROUND(N(Topics!$M$13),0))=3),Topics!$C$13&", ","")&IF(AND(Topics!$C$14<>"",MAX(1,ROUND(N(Topics!$J$14),0))=3,MAX(1,ROUND(N(Topics!$M$14),0))=3),Topics!$C$14&", ","")&IF(AND(Topics!$C$15<>"",MAX(1,ROUND(N(Topics!$J$15),0))=3,MAX(1,ROUND(N(Topics!$M$15),0))=3),Topics!$C$15&", ","")&IF(AND(Topics!$C$16<>"",MAX(1,ROUND(N(Topics!$J$16),0))=3,MAX(1,ROUND(N(Topics!$M$16),0))=3),Topics!$C$16&", ","")&IF(AND(Topics!$C$17<>"",MAX(1,ROUND(N(Topics!$J$17),0))=3,MAX(1,ROUND(N(Topics!$M$17),0))=3),Topics!$C$17&", ",""))-2),"") | F10: =IFERROR(LEFT(IF(AND(Topics!$C$8<>"",MAX(1,ROUND(N(Topics!$J$8),0))=3,MAX(1,ROUND(N(Topics!$M$8),0))=4),Topics!$C$8&", ","")&IF(AND(Topics!$C$9<>"",MAX(1,ROUND(N(Topics!$J$9),0))=3,MAX(1,ROUND(N(Topics!$M$9),0))=4),Topics!$C$9&", ","")&IF(AND(Topics!$C$10<>"",MAX(1,ROUND(N(Topics!$J$10),0))=3,MAX(1,ROUND(N(Topics!$M$10),0))=4),Topics!$C$10&", ","")&IF(AND(Topics!$C$11<>"",MAX(1,ROUND(N(Topics!$J$11),0))=3,MAX(1,ROUND(N(Topics!$M$11),0))=4),Topics!$C$11&", ","")&IF(AND(Topics!$C$12<>"",MAX(1,ROUND(N(Topics!$J$12),0))=3,MAX(1,ROUND(N(Topics!$M$12),0))=4),Topics!$C$12&", ","")&IF(AND(Topics!$C$13<>"",MAX(1,ROUND(N(Topics!$J$13),0))=3,MAX(1,ROUND(N(Topics!$M$13),0))=4),Topics!$C$13&", ","")&IF(AND(Topics!$C$14<>"",MAX(1,ROUND(N(Topics!$J$14),0))=3,MAX(1,ROUND(N(Topics!$M$14),0))=4),Topics!$C$14&", ","")&IF(AND(Topics!$C$15<>"",MAX(1,ROUND(N(Topics!$J$15),0))=3,MAX(1,ROUND(N(Topics!$M$15),0))=4),Topics!$C$15&", ","")&IF(AND(Topics!$C$16<>"",MAX(1,ROUND(N(Topics!$J$16),0))=3,MAX(1,ROUND(N(Topics!$M$16),0))=4),Topics!$C$16&", ","")&IF(AND(Topics!$C$17<>"",MAX(1,ROUND(N(Topics!$J$17),0))=3,MAX(1,ROUND(N(Topics!$M$17),0))=4),Topics!$C$17&", ",""),LEN(IF(AND(Topics!$C$8<>"",MAX(1,ROUND(N(Topics!$J$8),0))=3,MAX(1,ROUND(N(Topics!$M$8),0))=4),Topics!$C$8&", ","")&IF(AND(Topics!$C$9<>"",MAX(1,ROUND(N(Topics!$J$9),0))=3,MAX(1,ROUND(N(Topics!$M$9),0))=4),Topics!$C$9&", ","")&IF(AND(Topics!$C$10<>"",MAX(1,ROUND(N(Topics!$J$10),0))=3,MAX(1,ROUND(N(Topics!$M$10),0))=4),Topics!$C$10&", ","")&IF(AND(Topics!$C$11<>"",MAX(1,ROUND(N(Topics!$J$11),0))=3,MAX(1,ROUND(N(Topics!$M$11),0))=4),Topics!$C$11&", ","")&IF(AND(Topics!$C$12<>"",MAX(1,ROUND(N(Topics!$J$12),0))=3,MAX(1,ROUND(N(Topics!$M$12),0))=4),Topics!$C$12&", ","")&IF(AND(Topics!$C$13<>"",MAX(1,ROUND(N(Topics!$J$13),0))=3,MAX(1,ROUND(N(Topics!$M$13),0))=4),Topics!$C$13&", ","")&IF(AND(Topics!$C$14<>"",MAX(1,ROUND(N(Topics!$J$14),0))=3,MAX(1,ROUND(N(Topics!$M$14),0))=4),Topics!$C$14&", ","")&IF(AND(Topics!$C$15<>"",MAX(1,ROUND(N(Topics!$J$15),0))=3,MAX(1,ROUND(N(Topics!$M$15),0))=4),Topics!$C$15&", ","")&IF(AND(Topics!$C$16<>"",MAX(1,ROUND(N(Topics!$J$16),0))=3,MAX(1,ROUND(N(Topics!$M$16),0))=4),Topics!$C$16&", ","")&IF(AND(Topics!$C$17<>"",MAX(1,ROUND(N(Topics!$J$17),0))=3,MAX(1,ROUND(N(Topics!$M$17),0))=4),Topics!$C$17&", ",""))-2),"") | G10: =IFERROR(LEFT(IF(AND(Topics!$C$8<>"",MAX(1,ROUND(N(Topics!$J$8),0))=3,MAX(1,ROUND(N(Topics!$M$8),0))=5),Topics!$C$8&", ","")&IF(AND(Topics!$C$9<>"",MAX(1,ROUND(N(Topics!$J$9),0))=3,MAX(1,ROUND(N(Topics!$M$9),0))=5),Topics!$C$9&", ","")&IF(AND(Topics!$C$10<>"",MAX(1,ROUND(N(Topics!$J$10),0))=3,MAX(1,ROUND(N(Topics!$M$10),0))=5),Topics!$C$10&", ","")&IF(AND(Topics!$C$11<>"",MAX(1,ROUND(N(Topics!$J$11),0))=3,MAX(1,ROUND(N(Topics!$M$11),0))=5),Topics!$C$11&", ","")&IF(AND(Topics!$C$12<>"",MAX(1,ROUND(N(Topics!$J$12),0))=3,MAX(1,ROUND(N(Topics!$M$12),0))=5),Topics!$C$12&", ","")&IF(AND(Topics!$C$13<>"",MAX(1,ROUND(N(Topics!$J$13),0))=3,MAX(1,ROUND(N(Topics!$M$13),0))=5),Topics!$C$13&", ","")&IF(AND(Topics!$C$14<>"",MAX(1,ROUND(N(Topics!$J$14),0))=3,MAX(1,ROUND(N(Topics!$M$14),0))=5),Topics!$C$14&", ","")&IF(AND(Topics!$C$15<>"",MAX(1,ROUND(N(Topics!$J$15),0))=3,MAX(1,ROUND(N(Topics!$M$15),0))=5),Topics!$C$15&", ","")&IF(AND(Topics!$C$16<>"",MAX(1,ROUND(N(Topics!$J$16),0))=3,MAX(1,ROUND(N(Topics!$M$16),0))=5),Topics!$C$16&", ","")&IF(AND(Topics!$C$17<>"",MAX(1,ROUND(N(Topics!$J$17),0))=3,MAX(1,ROUND(N(Topics!$M$17),0))=5),Topics!$C$17&", ",""),LEN(IF(AND(Topics!$C$8<>"",MAX(1,ROUND(N(Topics!$J$8),0))=3,MAX(1,ROUND(N(Topics!$M$8),0))=5),Topics!$C$8&", ","")&IF(AND(Topics!$C$9<>"",MAX(1,ROUND(N(Topics!$J$9),0))=3,MAX(1,ROUND(N(Topics!$M$9),0))=5),Topics!$C$9&", ","")&IF(AND(Topics!$C$10<>"",MAX(1,ROUND(N(Topics!$J$10),0))=3,MAX(1,ROUND(N(Topics!$M$10),0))=5),Topics!$C$10&", ","")&IF(AND(Topics!$C$11<>"",MAX(1,ROUND(N(Topics!$J$11),0))=3,MAX(1,ROUND(N(Topics!$M$11),0))=5),Topics!$C$11&", ","")&IF(AND(Topics!$C$12<>"",MAX(1,ROUND(N(Topics!$J$12),0))=3,MAX(1,ROUND(N(Topics!$M$12),0))=5),Topics!$C$12&", ","")&IF(AND(Topics!$C$13<>"",MAX(1,ROUND(N(Topics!$J$13),0))=3,MAX(1,ROUND(N(Topics!$M$13),0))=5),Topics!$C$13&", ","")&IF(AND(Topics!$C$14<>"",MAX(1,ROUND(N(Topics!$J$14),0))=3,MAX(1,ROUND(N(Topics!$M$14),0))=5),Topics!$C$14&", ","")&IF(AND(Topics!$C$15<>"",MAX(1,ROUND(N(Topics!$J$15),0))=3,MAX(1,ROUND(N(Topics!$M$15),0))=5),Topics!$C$15&", ","")&IF(AND(Topics!$C$16<>"",MAX(1,ROUND(N(Topics!$J$16),0))=3,MAX(1,ROUND(N(Topics!$M$16),0))=5),Topics!$C$16&", ","")&IF(AND(Topics!$C$17<>"",MAX(1,ROUND(N(Topics!$J$17),0))=3,MAX(1,ROUND(N(Topics!$M$17),0))=5),Topics!$C$17&", ",""))-2),"")
B11: 2 | C11: =IFERROR(LEFT(IF(AND(Topics!$C$8<>"",MAX(1,ROUND(N(Topics!$J$8),0))=2,MAX(1,ROUND(N(Topics!$M$8),0))=1),Topics!$C$8&", ","")&IF(AND(Topics!$C$9<>"",MAX(1,ROUND(N(Topics!$J$9),0))=2,MAX(1,ROUND(N(Topics!$M$9),0))=1),Topics!$C$9&", ","")&IF(AND(Topics!$C$10<>"",MAX(1,ROUND(N(Topics!$J$10),0))=2,MAX(1,ROUND(N(Topics!$M$10),0))=1),Topics!$C$10&", ","")&IF(AND(Topics!$C$11<>"",MAX(1,ROUND(N(Topics!$J$11),0))=2,MAX(1,ROUND(N(Topics!$M$11),0))=1),Topics!$C$11&", ","")&IF(AND(Topics!$C$12<>"",MAX(1,ROUND(N(Topics!$J$12),0))=2,MAX(1,ROUND(N(Topics!$M$12),0))=1),Topics!$C$12&", ","")&IF(AND(Topics!$C$13<>"",MAX(1,ROUND(N(Topics!$J$13),0))=2,MAX(1,ROUND(N(Topics!$M$13),0))=1),Topics!$C$13&", ","")&IF(AND(Topics!$C$14<>"",MAX(1,ROUND(N(Topics!$J$14),0))=2,MAX(1,ROUND(N(Topics!$M$14),0))=1),Topics!$C$14&", ","")&IF(AND(Topics!$C$15<>"",MAX(1,ROUND(N(Topics!$J$15),0))=2,MAX(1,ROUND(N(Topics!$M$15),0))=1),Topics!$C$15&", ","")&IF(AND(Topics!$C$16<>"",MAX(1,ROUND(N(Topics!$J$16),0))=2,MAX(1,ROUND(N(Topics!$M$16),0))=1),Topics!$C$16&", ","")&IF(AND(Topics!$C$17<>"",MAX(1,ROUND(N(Topics!$J$17),0))=2,MAX(1,ROUND(N(Topics!$M$17),0))=1),Topics!$C$17&", ",""),LEN(IF(AND(Topics!$C$8<>"",MAX(1,ROUND(N(Topics!$J$8),0))=2,MAX(1,ROUND(N(Topics!$M$8),0))=1),Topics!$C$8&", ","")&IF(AND(Topics!$C$9<>"",MAX(1,ROUND(N(Topics!$J$9),0))=2,MAX(1,ROUND(N(Topics!$M$9),0))=1),Topics!$C$9&", ","")&IF(AND(Topics!$C$10<>"",MAX(1,ROUND(N(Topics!$J$10),0))=2,MAX(1,ROUND(N(Topics!$M$10),0))=1),Topics!$C$10&", ","")&IF(AND(Topics!$C$11<>"",MAX(1,ROUND(N(Topics!$J$11),0))=2,MAX(1,ROUND(N(Topics!$M$11),0))=1),Topics!$C$11&", ","")&IF(AND(Topics!$C$12<>"",MAX(1,ROUND(N(Topics!$J$12),0))=2,MAX(1,ROUND(N(Topics!$M$12),0))=1),Topics!$C$12&", ","")&IF(AND(Topics!$C$13<>"",MAX(1,ROUND(N(Topics!$J$13),0))=2,MAX(1,ROUND(N(Topics!$M$13),0))=1),Topics!$C$13&", ","")&IF(AND(Topics!$C$14<>"",MAX(1,ROUND(N(Topics!$J$14),0))=2,MAX(1,ROUND(N(Topics!$M$14),0))=1),Topics!$C$14&", ","")&IF(AND(Topics!$C$15<>"",MAX(1,ROUND(N(Topics!$J$15),0))=2,MAX(1,ROUND(N(Topics!$M$15),0))=1),Topics!$C$15&", ","")&IF(AND(Topics!$C$16<>"",MAX(1,ROUND(N(Topics!$J$16),0))=2,MAX(1,ROUND(N(Topics!$M$16),0))=1),Topics!$C$16&", ","")&IF(AND(Topics!$C$17<>"",MAX(1,ROUND(N(Topics!$J$17),0))=2,MAX(1,ROUND(N(Topics!$M$17),0))=1),Topics!$C$17&", ",""))-2),"") | D11: =IFERROR(LEFT(IF(AND(Topics!$C$8<>"",MAX(1,ROUND(N(Topics!$J$8),0))=2,MAX(1,ROUND(N(Topics!$M$8),0))=2),Topics!$C$8&", ","")&IF(AND(Topics!$C$9<>"",MAX(1,ROUND(N(Topics!$J$9),0))=2,MAX(1,ROUND(N(Topics!$M$9),0))=2),Topics!$C$9&", ","")&IF(AND(Topics!$C$10<>"",MAX(1,ROUND(N(Topics!$J$10),0))=2,MAX(1,ROUND(N(Topics!$M$10),0))=2),Topics!$C$10&", ","")&IF(AND(Topics!$C$11<>"",MAX(1,ROUND(N(Topics!$J$11),0))=2,MAX(1,ROUND(N(Topics!$M$11),0))=2),Topics!$C$11&", ","")&IF(AND(Topics!$C$12<>"",MAX(1,ROUND(N(Topics!$J$12),0))=2,MAX(1,ROUND(N(Topics!$M$12),0))=2),Topics!$C$12&", ","")&IF(AND(Topics!$C$13<>"",MAX(1,ROUND(N(Topics!$J$13),0))=2,MAX(1,ROUND(N(Topics!$M$13),0))=2),Topics!$C$13&", ","")&IF(AND(Topics!$C$14<>"",MAX(1,ROUND(N(Topics!$J$14),0))=2,MAX(1,ROUND(N(Topics!$M$14),0))=2),Topics!$C$14&", ","")&IF(AND(Topics!$C$15<>"",MAX(1,ROUND(N(Topics!$J$15),0))=2,MAX(1,ROUND(N(Topics!$M$15),0))=2),Topics!$C$15&", ","")&IF(AND(Topics!$C$16<>"",MAX(1,ROUND(N(Topics!$J$16),0))=2,MAX(1,ROUND(N(Topics!$M$16),0))=2),Topics!$C$16&", ","")&IF(AND(Topics!$C$17<>"",MAX(1,ROUND(N(Topics!$J$17),0))=2,MAX(1,ROUND(N(Topics!$M$17),0))=2),Topics!$C$17&", ",""),LEN(IF(AND(Topics!$C$8<>"",MAX(1,ROUND(N(Topics!$J$8),0))=2,MAX(1,ROUND(N(Topics!$M$8),0))=2),Topics!$C$8&", ","")&IF(AND(Topics!$C$9<>"",MAX(1,ROUND(N(Topics!$J$9),0))=2,MAX(1,ROUND(N(Topics!$M$9),0))=2),Topics!$C$9&", ","")&IF(AND(Topics!$C$10<>"",MAX(1,ROUND(N(Topics!$J$10),0))=2,MAX(1,ROUND(N(Topics!$M$10),0))=2),Topics!$C$10&", ","")&IF(AND(Topics!$C$11<>"",MAX(1,ROUND(N(Topics!$J$11),0))=2,MAX(1,ROUND(N(Topics!$M$11),0))=2),Topics!$C$11&", ","")&IF(AND(Topics!$C$12<>"",MAX(1,ROUND(N(Topics!$J$12),0))=2,MAX(1,ROUND(N(Topics!$M$12),0))=2),Topics!$C$12&", ","")&IF(AND(Topics!$C$13<>"",MAX(1,ROUND(N(Topics!$J$13),0))=2,MAX(1,ROUND(N(Topics!$M$13),0))=2),Topics!$C$13&", ","")&IF(AND(Topics!$C$14<>"",MAX(1,ROUND(N(Topics!$J$14),0))=2,MAX(1,ROUND(N(Topics!$M$14),0))=2),Topics!$C$14&", ","")&IF(AND(Topics!$C$15<>"",MAX(1,ROUND(N(Topics!$J$15),0))=2,MAX(1,ROUND(N(Topics!$M$15),0))=2),Topics!$C$15&", ","")&IF(AND(Topics!$C$16<>"",MAX(1,ROUND(N(Topics!$J$16),0))=2,MAX(1,ROUND(N(Topics!$M$16),0))=2),Topics!$C$16&", ","")&IF(AND(Topics!$C$17<>"",MAX(1,ROUND(N(Topics!$J$17),0))=2,MAX(1,ROUND(N(Topics!$M$17),0))=2),Topics!$C$17&", ",""))-2),"") | E11: =IFERROR(LEFT(IF(AND(Topics!$C$8<>"",MAX(1,ROUND(N(Topics!$J$8),0))=2,MAX(1,ROUND(N(Topics!$M$8),0))=3),Topics!$C$8&", ","")&IF(AND(Topics!$C$9<>"",MAX(1,ROUND(N(Topics!$J$9),0))=2,MAX(1,ROUND(N(Topics!$M$9),0))=3),Topics!$C$9&", ","")&IF(AND(Topics!$C$10<>"",MAX(1,ROUND(N(Topics!$J$10),0))=2,MAX(1,ROUND(N(Topics!$M$10),0))=3),Topics!$C$10&", ","")&IF(AND(Topics!$C$11<>"",MAX(1,ROUND(N(Topics!$J$11),0))=2,MAX(1,ROUND(N(Topics!$M$11),0))=3),Topics!$C$11&", ","")&IF(AND(Topics!$C$12<>"",MAX(1,ROUND(N(Topics!$J$12),0))=2,MAX(1,ROUND(N(Topics!$M$12),0))=3),Topics!$C$12&", ","")&IF(AND(Topics!$C$13<>"",MAX(1,ROUND(N(Topics!$J$13),0))=2,MAX(1,ROUND(N(Topics!$M$13),0))=3),Topics!$C$13&", ","")&IF(AND(Topics!$C$14<>"",MAX(1,ROUND(N(Topics!$J$14),0))=2,MAX(1,ROUND(N(Topics!$M$14),0))=3),Topics!$C$14&", ","")&IF(AND(Topics!$C$15<>"",MAX(1,ROUND(N(Topics!$J$15),0))=2,MAX(1,ROUND(N(Topics!$M$15),0))=3),Topics!$C$15&", ","")&IF(AND(Topics!$C$16<>"",MAX(1,ROUND(N(Topics!$J$16),0))=2,MAX(1,ROUND(N(Topics!$M$16),0))=3),Topics!$C$16&", ","")&IF(AND(Topics!$C$17<>"",MAX(1,ROUND(N(Topics!$J$17),0))=2,MAX(1,ROUND(N(Topics!$M$17),0))=3),Topics!$C$17&", ",""),LEN(IF(AND(Topics!$C$8<>"",MAX(1,ROUND(N(Topics!$J$8),0))=2,MAX(1,ROUND(N(Topics!$M$8),0))=3),Topics!$C$8&", ","")&IF(AND(Topics!$C$9<>"",MAX(1,ROUND(N(Topics!$J$9),0))=2,MAX(1,ROUND(N(Topics!$M$9),0))=3),Topics!$C$9&", ","")&IF(AND(Topics!$C$10<>"",MAX(1,ROUND(N(Topics!$J$10),0))=2,MAX(1,ROUND(N(Topics!$M$10),0))=3),Topics!$C$10&", ","")&IF(AND(Topics!$C$11<>"",MAX(1,ROUND(N(Topics!$J$11),0))=2,MAX(1,ROUND(N(Topics!$M$11),0))=3),Topics!$C$11&", ","")&IF(AND(Topics!$C$12<>"",MAX(1,ROUND(N(Topics!$J$12),0))=2,MAX(1,ROUND(N(Topics!$M$12),0))=3),Topics!$C$12&", ","")&IF(AND(Topics!$C$13<>"",MAX(1,ROUND(N(Topics!$J$13),0))=2,MAX(1,ROUND(N(Topics!$M$13),0))=3),Topics!$C$13&", ","")&IF(AND(Topics!$C$14<>"",MAX(1,ROUND(N(Topics!$J$14),0))=2,MAX(1,ROUND(N(Topics!$M$14),0))=3),Topics!$C$14&", ","")&IF(AND(Topics!$C$15<>"",MAX(1,ROUND(N(Topics!$J$15),0))=2,MAX(1,ROUND(N(Topics!$M$15),0))=3),Topics!$C$15&", ","")&IF(AND(Topics!$C$16<>"",MAX(1,ROUND(N(Topics!$J$16),0))=2,MAX(1,ROUND(N(Topics!$M$16),0))=3),Topics!$C$16&", ","")&IF(AND(Topics!$C$17<>"",MAX(1,ROUND(N(Topics!$J$17),0))=2,MAX(1,ROUND(N(Topics!$M$17),0))=3),Topics!$C$17&", ",""))-2),"") | F11: =IFERROR(LEFT(IF(AND(Topics!$C$8<>"",MAX(1,ROUND(N(Topics!$J$8),0))=2,MAX(1,ROUND(N(Topics!$M$8),0))=4),Topics!$C$8&", ","")&IF(AND(Topics!$C$9<>"",MAX(1,ROUND(N(Topics!$J$9),0))=2,MAX(1,ROUND(N(Topics!$M$9),0))=4),Topics!$C$9&", ","")&IF(AND(Topics!$C$10<>"",MAX(1,ROUND(N(Topics!$J$10),0))=2,MAX(1,ROUND(N(Topics!$M$10),0))=4),Topics!$C$10&", ","")&IF(AND(Topics!$C$11<>"",MAX(1,ROUND(N(Topics!$J$11),0))=2,MAX(1,ROUND(N(Topics!$M$11),0))=4),Topics!$C$11&", ","")&IF(AND(Topics!$C$12<>"",MAX(1,ROUND(N(Topics!$J$12),0))=2,MAX(1,ROUND(N(Topics!$M$12),0))=4),Topics!$C$12&", ","")&IF(AND(Topics!$C$13<>"",MAX(1,ROUND(N(Topics!$J$13),0))=2,MAX(1,ROUND(N(Topics!$M$13),0))=4),Topics!$C$13&", ","")&IF(AND(Topics!$C$14<>"",MAX(1,ROUND(N(Topics!$J$14),0))=2,MAX(1,ROUND(N(Topics!$M$14),0))=4),Topics!$C$14&", ","")&IF(AND(Topics!$C$15<>"",MAX(1,ROUND(N(Topics!$J$15),0))=2,MAX(1,ROUND(N(Topics!$M$15),0))=4),Topics!$C$15&", ","")&IF(AND(Topics!$C$16<>"",MAX(1,ROUND(N(Topics!$J$16),0))=2,MAX(1,ROUND(N(Topics!$M$16),0))=4),Topics!$C$16&", ","")&IF(AND(Topics!$C$17<>"",MAX(1,ROUND(N(Topics!$J$17),0))=2,MAX(1,ROUND(N(Topics!$M$17),0))=4),Topics!$C$17&", ",""),LEN(IF(AND(Topics!$C$8<>"",MAX(1,ROUND(N(Topics!$J$8),0))=2,MAX(1,ROUND(N(Topics!$M$8),0))=4),Topics!$C$8&", ","")&IF(AND(Topics!$C$9<>"",MAX(1,ROUND(N(Topics!$J$9),0))=2,MAX(1,ROUND(N(Topics!$M$9),0))=4),Topics!$C$9&", ","")&IF(AND(Topics!$C$10<>"",MAX(1,ROUND(N(Topics!$J$10),0))=2,MAX(1,ROUND(N(Topics!$M$10),0))=4),Topics!$C$10&", ","")&IF(AND(Topics!$C$11<>"",MAX(1,ROUND(N(Topics!$J$11),0))=2,MAX(1,ROUND(N(Topics!$M$11),0))=4),Topics!$C$11&", ","")&IF(AND(Topics!$C$12<>"",MAX(1,ROUND(N(Topics!$J$12),0))=2,MAX(1,ROUND(N(Topics!$M$12),0))=4),Topics!$C$12&", ","")&IF(AND(Topics!$C$13<>"",MAX(1,ROUND(N(Topics!$J$13),0))=2,MAX(1,ROUND(N(Topics!$M$13),0))=4),Topics!$C$13&", ","")&IF(AND(Topics!$C$14<>"",MAX(1,ROUND(N(Topics!$J$14),0))=2,MAX(1,ROUND(N(Topics!$M$14),0))=4),Topics!$C$14&", ","")&IF(AND(Topics!$C$15<>"",MAX(1,ROUND(N(Topics!$J$15),0))=2,MAX(1,ROUND(N(Topics!$M$15),0))=4),Topics!$C$15&", ","")&IF(AND(Topics!$C$16<>"",MAX(1,ROUND(N(Topics!$J$16),0))=2,MAX(1,ROUND(N(Topics!$M$16),0))=4),Topics!$C$16&", ","")&IF(AND(Topics!$C$17<>"",MAX(1,ROUND(N(Topics!$J$17),0))=2,MAX(1,ROUND(N(Topics!$M$17),0))=4),Topics!$C$17&", ",""))-2),"") | G11: =IFERROR(LEFT(IF(AND(Topics!$C$8<>"",MAX(1,ROUND(N(Topics!$J$8),0))=2,MAX(1,ROUND(N(Topics!$M$8),0))=5),Topics!$C$8&", ","")&IF(AND(Topics!$C$9<>"",MAX(1,ROUND(N(Topics!$J$9),0))=2,MAX(1,ROUND(N(Topics!$M$9),0))=5),Topics!$C$9&", ","")&IF(AND(Topics!$C$10<>"",MAX(1,ROUND(N(Topics!$J$10),0))=2,MAX(1,ROUND(N(Topics!$M$10),0))=5),Topics!$C$10&", ","")&IF(AND(Topics!$C$11<>"",MAX(1,ROUND(N(Topics!$J$11),0))=2,MAX(1,ROUND(N(Topics!$M$11),0))=5),Topics!$C$11&", ","")&IF(AND(Topics!$C$12<>"",MAX(1,ROUND(N(Topics!$J$12),0))=2,MAX(1,ROUND(N(Topics!$M$12),0))=5),Topics!$C$12&", ","")&IF(AND(Topics!$C$13<>"",MAX(1,ROUND(N(Topics!$J$13),0))=2,MAX(1,ROUND(N(Topics!$M$13),0))=5),Topics!$C$13&", ","")&IF(AND(Topics!$C$14<>"",MAX(1,ROUND(N(Topics!$J$14),0))=2,MAX(1,ROUND(N(Topics!$M$14),0))=5),Topics!$C$14&", ","")&IF(AND(Topics!$C$15<>"",MAX(1,ROUND(N(Topics!$J$15),0))=2,MAX(1,ROUND(N(Topics!$M$15),0))=5),Topics!$C$15&", ","")&IF(AND(Topics!$C$16<>"",MAX(1,ROUND(N(Topics!$J$16),0))=2,MAX(1,ROUND(N(Topics!$M$16),0))=5),Topics!$C$16&", ","")&IF(AND(Topics!$C$17<>"",MAX(1,ROUND(N(Topics!$J$17),0))=2,MAX(1,ROUND(N(Topics!$M$17),0))=5),Topics!$C$17&", ",""),LEN(IF(AND(Topics!$C$8<>"",MAX(1,ROUND(N(Topics!$J$8),0))=2,MAX(1,ROUND(N(Topics!$M$8),0))=5),Topics!$C$8&", ","")&IF(AND(Topics!$C$9<>"",MAX(1,ROUND(N(Topics!$J$9),0))=2,MAX(1,ROUND(N(Topics!$M$9),0))=5),Topics!$C$9&", ","")&IF(AND(Topics!$C$10<>"",MAX(1,ROUND(N(Topics!$J$10),0))=2,MAX(1,ROUND(N(Topics!$M$10),0))=5),Topics!$C$10&", ","")&IF(AND(Topics!$C$11<>"",MAX(1,ROUND(N(Topics!$J$11),0))=2,MAX(1,ROUND(N(Topics!$M$11),0))=5),Topics!$C$11&", ","")&IF(AND(Topics!$C$12<>"",MAX(1,ROUND(N(Topics!$J$12),0))=2,MAX(1,ROUND(N(Topics!$M$12),0))=5),Topics!$C$12&", ","")&IF(AND(Topics!$C$13<>"",MAX(1,ROUND(N(Topics!$J$13),0))=2,MAX(1,ROUND(N(Topics!$M$13),0))=5),Topics!$C$13&", ","")&IF(AND(Topics!$C$14<>"",MAX(1,ROUND(N(Topics!$J$14),0))=2,MAX(1,ROUND(N(Topics!$M$14),0))=5),Topics!$C$14&", ","")&IF(AND(Topics!$C$15<>"",MAX(1,ROUND(N(Topics!$J$15),0))=2,MAX(1,ROUND(N(Topics!$M$15),0))=5),Topics!$C$15&", ","")&IF(AND(Topics!$C$16<>"",MAX(1,ROUND(N(Topics!$J$16),0))=2,MAX(1,ROUND(N(Topics!$M$16),0))=5),Topics!$C$16&", ","")&IF(AND(Topics!$C$17<>"",MAX(1,ROUND(N(Topics!$J$17),0))=2,MAX(1,ROUND(N(Topics!$M$17),0))=5),Topics!$C$17&", ",""))-2),"")
B12: 1 | C12: =IFERROR(LEFT(IF(AND(Topics!$C$8<>"",MAX(1,ROUND(N(Topics!$J$8),0))=1,MAX(1,ROUND(N(Topics!$M$8),0))=1),Topics!$C$8&", ","")&IF(AND(Topics!$C$9<>"",MAX(1,ROUND(N(Topics!$J$9),0))=1,MAX(1,ROUND(N(Topics!$M$9),0))=1),Topics!$C$9&", ","")&IF(AND(Topics!$C$10<>"",MAX(1,ROUND(N(Topics!$J$10),0))=1,MAX(1,ROUND(N(Topics!$M$10),0))=1),Topics!$C$10&", ","")&IF(AND(Topics!$C$11<>"",MAX(1,ROUND(N(Topics!$J$11),0))=1,MAX(1,ROUND(N(Topics!$M$11),0))=1),Topics!$C$11&", ","")&IF(AND(Topics!$C$12<>"",MAX(1,ROUND(N(Topics!$J$12),0))=1,MAX(1,ROUND(N(Topics!$M$12),0))=1),Topics!$C$12&", ","")&IF(AND(Topics!$C$13<>"",MAX(1,ROUND(N(Topics!$J$13),0))=1,MAX(1,ROUND(N(Topics!$M$13),0))=1),Topics!$C$13&", ","")&IF(AND(Topics!$C$14<>"",MAX(1,ROUND(N(Topics!$J$14),0))=1,MAX(1,ROUND(N(Topics!$M$14),0))=1),Topics!$C$14&", ","")&IF(AND(Topics!$C$15<>"",MAX(1,ROUND(N(Topics!$J$15),0))=1,MAX(1,ROUND(N(Topics!$M$15),0))=1),Topics!$C$15&", ","")&IF(AND(Topics!$C$16<>"",MAX(1,ROUND(N(Topics!$J$16),0))=1,MAX(1,ROUND(N(Topics!$M$16),0))=1),Topics!$C$16&", ","")&IF(AND(Topics!$C$17<>"",MAX(1,ROUND(N(Topics!$J$17),0))=1,MAX(1,ROUND(N(Topics!$M$17),0))=1),Topics!$C$17&", ",""),LEN(IF(AND(Topics!$C$8<>"",MAX(1,ROUND(N(Topics!$J$8),0))=1,MAX(1,ROUND(N(Topics!$M$8),0))=1),Topics!$C$8&", ","")&IF(AND(Topics!$C$9<>"",MAX(1,ROUND(N(Topics!$J$9),0))=1,MAX(1,ROUND(N(Topics!$M$9),0))=1),Topics!$C$9&", ","")&IF(AND(Topics!$C$10<>"",MAX(1,ROUND(N(Topics!$J$10),0))=1,MAX(1,ROUND(N(Topics!$M$10),0))=1),Topics!$C$10&", ","")&IF(AND(Topics!$C$11<>"",MAX(1,ROUND(N(Topics!$J$11),0))=1,MAX(1,ROUND(N(Topics!$M$11),0))=1),Topics!$C$11&", ","")&IF(AND(Topics!$C$12<>"",MAX(1,ROUND(N(Topics!$J$12),0))=1,MAX(1,ROUND(N(Topics!$M$12),0))=1),Topics!$C$12&", ","")&IF(AND(Topics!$C$13<>"",MAX(1,ROUND(N(Topics!$J$13),0))=1,MAX(1,ROUND(N(Topics!$M$13),0))=1),Topics!$C$13&", ","")&IF(AND(Topics!$C$14<>"",MAX(1,ROUND(N(Topics!$J$14),0))=1,MAX(1,ROUND(N(Topics!$M$14),0))=1),Topics!$C$14&", ","")&IF(AND(Topics!$C$15<>"",MAX(1,ROUND(N(Topics!$J$15),0))=1,MAX(1,ROUND(N(Topics!$M$15),0))=1),Topics!$C$15&", ","")&IF(AND(Topics!$C$16<>"",MAX(1,ROUND(N(Topics!$J$16),0))=1,MAX(1,ROUND(N(Topics!$M$16),0))=1),Topics!$C$16&", ","")&IF(AND(Topics!$C$17<>"",MAX(1,ROUND(N(Topics!$J$17),0))=1,MAX(1,ROUND(N(Topics!$M$17),0))=1),Topics!$C$17&", ",""))-2),"") | D12: =IFERROR(LEFT(IF(AND(Topics!$C$8<>"",MAX(1,ROUND(N(Topics!$J$8),0))=1,MAX(1,ROUND(N(Topics!$M$8),0))=2),Topics!$C$8&", ","")&IF(AND(Topics!$C$9<>"",MAX(1,ROUND(N(Topics!$J$9),0))=1,MAX(1,ROUND(N(Topics!$M$9),0))=2),Topics!$C$9&", ","")&IF(AND(Topics!$C$10<>"",MAX(1,ROUND(N(Topics!$J$10),0))=1,MAX(1,ROUND(N(Topics!$M$10),0))=2),Topics!$C$10&", ","")&IF(AND(Topics!$C$11<>"",MAX(1,ROUND(N(Topics!$J$11),0))=1,MAX(1,ROUND(N(Topics!$M$11),0))=2),Topics!$C$11&", ","")&IF(AND(Topics!$C$12<>"",MAX(1,ROUND(N(Topics!$J$12),0))=1,MAX(1,ROUND(N(Topics!$M$12),0))=2),Topics!$C$12&", ","")&IF(AND(Topics!$C$13<>"",MAX(1,ROUND(N(Topics!$J$13),0))=1,MAX(1,ROUND(N(Topics!$M$13),0))=2),Topics!$C$13&", ","")&IF(AND(Topics!$C$14<>"",MAX(1,ROUND(N(Topics!$J$14),0))=1,MAX(1,ROUND(N(Topics!$M$14),0))=2),Topics!$C$14&", ","")&IF(AND(Topics!$C$15<>"",MAX(1,ROUND(N(Topics!$J$15),0))=1,MAX(1,ROUND(N(Topics!$M$15),0))=2),Topics!$C$15&", ","")&IF(AND(Topics!$C$16<>"",MAX(1,ROUND(N(Topics!$J$16),0))=1,MAX(1,ROUND(N(Topics!$M$16),0))=2),Topics!$C$16&", ","")&IF(AND(Topics!$C$17<>"",MAX(1,ROUND(N(Topics!$J$17),0))=1,MAX(1,ROUND(N(Topics!$M$17),0))=2),Topics!$C$17&", ",""),LEN(IF(AND(Topics!$C$8<>"",MAX(1,ROUND(N(Topics!$J$8),0))=1,MAX(1,ROUND(N(Topics!$M$8),0))=2),Topics!$C$8&", ","")&IF(AND(Topics!$C$9<>"",MAX(1,ROUND(N(Topics!$J$9),0))=1,MAX(1,ROUND(N(Topics!$M$9),0))=2),Topics!$C$9&", ","")&IF(AND(Topics!$C$10<>"",MAX(1,ROUND(N(Topics!$J$10),0))=1,MAX(1,ROUND(N(Topics!$M$10),0))=2),Topics!$C$10&", ","")&IF(AND(Topics!$C$11<>"",MAX(1,ROUND(N(Topics!$J$11),0))=1,MAX(1,ROUND(N(Topics!$M$11),0))=2),Topics!$C$11&", ","")&IF(AND(Topics!$C$12<>"",MAX(1,ROUND(N(Topics!$J$12),0))=1,MAX(1,ROUND(N(Topics!$M$12),0))=2),Topics!$C$12&", ","")&IF(AND(Topics!$C$13<>"",MAX(1,ROUND(N(Topics!$J$13),0))=1,MAX(1,ROUND(N(Topics!$M$13),0))=2),Topics!$C$13&", ","")&IF(AND(Topics!$C$14<>"",MAX(1,ROUND(N(Topics!$J$14),0))=1,MAX(1,ROUND(N(Topics!$M$14),0))=2),Topics!$C$14&", ","")&IF(AND(Topics!$C$15<>"",MAX(1,ROUND(N(Topics!$J$15),0))=1,MAX(1,ROUND(N(Topics!$M$15),0))=2),Topics!$C$15&", ","")&IF(AND(Topics!$C$16<>"",MAX(1,ROUND(N(Topics!$J$16),0))=1,MAX(1,ROUND(N(Topics!$M$16),0))=2),Topics!$C$16&", ","")&IF(AND(Topics!$C$17<>"",MAX(1,ROUND(N(Topics!$J$17),0))=1,MAX(1,ROUND(N(Topics!$M$17),0))=2),Topics!$C$17&", ",""))-2),"") | E12: =IFERROR(LEFT(IF(AND(Topics!$C$8<>"",MAX(1,ROUND(N(Topics!$J$8),0))=1,MAX(1,ROUND(N(Topics!$M$8),0))=3),Topics!$C$8&", ","")&IF(AND(Topics!$C$9<>"",MAX(1,ROUND(N(Topics!$J$9),0))=1,MAX(1,ROUND(N(Topics!$M$9),0))=3),Topics!$C$9&", ","")&IF(AND(Topics!$C$10<>"",MAX(1,ROUND(N(Topics!$J$10),0))=1,MAX(1,ROUND(N(Topics!$M$10),0))=3),Topics!$C$10&", ","")&IF(AND(Topics!$C$11<>"",MAX(1,ROUND(N(Topics!$J$11),0))=1,MAX(1,ROUND(N(Topics!$M$11),0))=3),Topics!$C$11&", ","")&IF(AND(Topics!$C$12<>"",MAX(1,ROUND(N(Topics!$J$12),0))=1,MAX(1,ROUND(N(Topics!$M$12),0))=3),Topics!$C$12&", ","")&IF(AND(Topics!$C$13<>"",MAX(1,ROUND(N(Topics!$J$13),0))=1,MAX(1,ROUND(N(Topics!$M$13),0))=3),Topics!$C$13&", ","")&IF(AND(Topics!$C$14<>"",MAX(1,ROUND(N(Topics!$J$14),0))=1,MAX(1,ROUND(N(Topics!$M$14),0))=3),Topics!$C$14&", ","")&IF(AND(Topics!$C$15<>"",MAX(1,ROUND(N(Topics!$J$15),0))=1,MAX(1,ROUND(N(Topics!$M$15),0))=3),Topics!$C$15&", ","")&IF(AND(Topics!$C$16<>"",MAX(1,ROUND(N(Topics!$J$16),0))=1,MAX(1,ROUND(N(Topics!$M$16),0))=3),Topics!$C$16&", ","")&IF(AND(Topics!$C$17<>"",MAX(1,ROUND(N(Topics!$J$17),0))=1,MAX(1,ROUND(N(Topics!$M$17),0))=3),Topics!$C$17&", ",""),LEN(IF(AND(Topics!$C$8<>"",MAX(1,ROUND(N(Topics!$J$8),0))=1,MAX(1,ROUND(N(Topics!$M$8),0))=3),Topics!$C$8&", ","")&IF(AND(Topics!$C$9<>"",MAX(1,ROUND(N(Topics!$J$9),0))=1,MAX(1,ROUND(N(Topics!$M$9),0))=3),Topics!$C$9&", ","")&IF(AND(Topics!$C$10<>"",MAX(1,ROUND(N(Topics!$J$10),0))=1,MAX(1,ROUND(N(Topics!$M$10),0))=3),Topics!$C$10&", ","")&IF(AND(Topics!$C$11<>"",MAX(1,ROUND(N(Topics!$J$11),0))=1,MAX(1,ROUND(N(Topics!$M$11),0))=3),Topics!$C$11&", ","")&IF(AND(Topics!$C$12<>"",MAX(1,ROUND(N(Topics!$J$12),0))=1,MAX(1,ROUND(N(Topics!$M$12),0))=3),Topics!$C$12&", ","")&IF(AND(Topics!$C$13<>"",MAX(1,ROUND(N(Topics!$J$13),0))=1,MAX(1,ROUND(N(Topics!$M$13),0))=3),Topics!$C$13&", ","")&IF(AND(Topics!$C$14<>"",MAX(1,ROUND(N(Topics!$J$14),0))=1,MAX(1,ROUND(N(Topics!$M$14),0))=3),Topics!$C$14&", ","")&IF(AND(Topics!$C$15<>"",MAX(1,ROUND(N(Topics!$J$15),0))=1,MAX(1,ROUND(N(Topics!$M$15),0))=3),Topics!$C$15&", ","")&IF(AND(Topics!$C$16<>"",MAX(1,ROUND(N(Topics!$J$16),0))=1,MAX(1,ROUND(N(Topics!$M$16),0))=3),Topics!$C$16&", ","")&IF(AND(Topics!$C$17<>"",MAX(1,ROUND(N(Topics!$J$17),0))=1,MAX(1,ROUND(N(Topics!$M$17),0))=3),Topics!$C$17&", ",""))-2),"") | F12: =IFERROR(LEFT(IF(AND(Topics!$C$8<>"",MAX(1,ROUND(N(Topics!$J$8),0))=1,MAX(1,ROUND(N(Topics!$M$8),0))=4),Topics!$C$8&", ","")&IF(AND(Topics!$C$9<>"",MAX(1,ROUND(N(Topics!$J$9),0))=1,MAX(1,ROUND(N(Topics!$M$9),0))=4),Topics!$C$9&", ","")&IF(AND(Topics!$C$10<>"",MAX(1,ROUND(N(Topics!$J$10),0))=1,MAX(1,ROUND(N(Topics!$M$10),0))=4),Topics!$C$10&", ","")&IF(AND(Topics!$C$11<>"",MAX(1,ROUND(N(Topics!$J$11),0))=1,MAX(1,ROUND(N(Topics!$M$11),0))=4),Topics!$C$11&", ","")&IF(AND(Topics!$C$12<>"",MAX(1,ROUND(N(Topics!$J$12),0))=1,MAX(1,ROUND(N(Topics!$M$12),0))=4),Topics!$C$12&", ","")&IF(AND(Topics!$C$13<>"",MAX(1,ROUND(N(Topics!$J$13),0))=1,MAX(1,ROUND(N(Topics!$M$13),0))=4),Topics!$C$13&", ","")&IF(AND(Topics!$C$14<>"",MAX(1,ROUND(N(Topics!$J$14),0))=1,MAX(1,ROUND(N(Topics!$M$14),0))=4),Topics!$C$14&", ","")&IF(AND(Topics!$C$15<>"",MAX(1,ROUND(N(Topics!$J$15),0))=1,MAX(1,ROUND(N(Topics!$M$15),0))=4),Topics!$C$15&", ","")&IF(AND(Topics!$C$16<>"",MAX(1,ROUND(N(Topics!$J$16),0))=1,MAX(1,ROUND(N(Topics!$M$16),0))=4),Topics!$C$16&", ","")&IF(AND(Topics!$C$17<>"",MAX(1,ROUND(N(Topics!$J$17),0))=1,MAX(1,ROUND(N(Topics!$M$17),0))=4),Topics!$C$17&", ",""),LEN(IF(AND(Topics!$C$8<>"",MAX(1,ROUND(N(Topics!$J$8),0))=1,MAX(1,ROUND(N(Topics!$M$8),0))=4),Topics!$C$8&", ","")&IF(AND(Topics!$C$9<>"",MAX(1,ROUND(N(Topics!$J$9),0))=1,MAX(1,ROUND(N(Topics!$M$9),0))=4),Topics!$C$9&", ","")&IF(AND(Topics!$C$10<>"",MAX(1,ROUND(N(Topics!$J$10),0))=1,MAX(1,ROUND(N(Topics!$M$10),0))=4),Topics!$C$10&", ","")&IF(AND(Topics!$C$11<>"",MAX(1,ROUND(N(Topics!$J$11),0))=1,MAX(1,ROUND(N(Topics!$M$11),0))=4),Topics!$C$11&", ","")&IF(AND(Topics!$C$12<>"",MAX(1,ROUND(N(Topics!$J$12),0))=1,MAX(1,ROUND(N(Topics!$M$12),0))=4),Topics!$C$12&", ","")&IF(AND(Topics!$C$13<>"",MAX(1,ROUND(N(Topics!$J$13),0))=1,MAX(1,ROUND(N(Topics!$M$13),0))=4),Topics!$C$13&", ","")&IF(AND(Topics!$C$14<>"",MAX(1,ROUND(N(Topics!$J$14),0))=1,MAX(1,ROUND(N(Topics!$M$14),0))=4),Topics!$C$14&", ","")&IF(AND(Topics!$C$15<>"",MAX(1,ROUND(N(Topics!$J$15),0))=1,MAX(1,ROUND(N(Topics!$M$15),0))=4),Topics!$C$15&", ","")&IF(AND(Topics!$C$16<>"",MAX(1,ROUND(N(Topics!$J$16),0))=1,MAX(1,ROUND(N(Topics!$M$16),0))=4),Topics!$C$16&", ","")&IF(AND(Topics!$C$17<>"",MAX(1,ROUND(N(Topics!$J$17),0))=1,MAX(1,ROUND(N(Topics!$M$17),0))=4),Topics!$C$17&", ",""))-2),"") | G12: =IFERROR(LEFT(IF(AND(Topics!$C$8<>"",MAX(1,ROUND(N(Topics!$J$8),0))=1,MAX(1,ROUND(N(Topics!$M$8),0))=5),Topics!$C$8&", ","")&IF(AND(Topics!$C$9<>"",MAX(1,ROUND(N(Topics!$J$9),0))=1,MAX(1,ROUND(N(Topics!$M$9),0))=5),Topics!$C$9&", ","")&IF(AND(Topics!$C$10<>"",MAX(1,ROUND(N(Topics!$J$10),0))=1,MAX(1,ROUND(N(Topics!$M$10),0))=5),Topics!$C$10&", ","")&IF(AND(Topics!$C$11<>"",MAX(1,ROUND(N(Topics!$J$11),0))=1,MAX(1,ROUND(N(Topics!$M$11),0))=5),Topics!$C$11&", ","")&IF(AND(Topics!$C$12<>"",MAX(1,ROUND(N(Topics!$J$12),0))=1,MAX(1,ROUND(N(Topics!$M$12),0))=5),Topics!$C$12&", ","")&IF(AND(Topics!$C$13<>"",MAX(1,ROUND(N(Topics!$J$13),0))=1,MAX(1,ROUND(N(Topics!$M$13),0))=5),Topics!$C$13&", ","")&IF(AND(Topics!$C$14<>"",MAX(1,ROUND(N(Topics!$J$14),0))=1,MAX(1,ROUND(N(Topics!$M$14),0))=5),Topics!$C$14&", ","")&IF(AND(Topics!$C$15<>"",MAX(1,ROUND(N(Topics!$J$15),0))=1,MAX(1,ROUND(N(Topics!$M$15),0))=5),Topics!$C$15&", ","")&IF(AND(Topics!$C$16<>"",MAX(1,ROUND(N(Topics!$J$16),0))=1,MAX(1,ROUND(N(Topics!$M$16),0))=5),Topics!$C$16&", ","")&IF(AND(Topics!$C$17<>"",MAX(1,ROUND(N(Topics!$J$17),0))=1,MAX(1,ROUND(N(Topics!$M$17),0))=5),Topics!$C$17&", ",""),LEN(IF(AND(Topics!$C$8<>"",MAX(1,ROUND(N(Topics!$J$8),0))=1,MAX(1,ROUND(N(Topics!$M$8),0))=5),Topics!$C$8&", ","")&IF(AND(Topics!$C$9<>"",MAX(1,ROUND(N(Topics!$J$9),0))=1,MAX(1,ROUND(N(Topics!$M$9),0))=5),Topics!$C$9&", ","")&IF(AND(Topics!$C$10<>"",MAX(1,ROUND(N(Topics!$J$10),0))=1,MAX(1,ROUND(N(Topics!$M$10),0))=5),Topics!$C$10&", ","")&IF(AND(Topics!$C$11<>"",MAX(1,ROUND(N(Topics!$J$11),0))=1,MAX(1,ROUND(N(Topics!$M$11),0))=5),Topics!$C$11&", ","")&IF(AND(Topics!$C$12<>"",MAX(1,ROUND(N(Topics!$J$12),0))=1,MAX(1,ROUND(N(Topics!$M$12),0))=5),Topics!$C$12&", ","")&IF(AND(Topics!$C$13<>"",MAX(1,ROUND(N(Topics!$J$13),0))=1,MAX(1,ROUND(N(Topics!$M$13),0))=5),Topics!$C$13&", ","")&IF(AND(Topics!$C$14<>"",MAX(1,ROUND(N(Topics!$J$14),0))=1,MAX(1,ROUND(N(Topics!$M$14),0))=5),Topics!$C$14&", ","")&IF(AND(Topics!$C$15<>"",MAX(1,ROUND(N(Topics!$J$15),0))=1,MAX(1,ROUND(N(Topics!$M$15),0))=5),Topics!$C$15&", ","")&IF(AND(Topics!$C$16<>"",MAX(1,ROUND(N(Topics!$J$16),0))=1,MAX(1,ROUND(N(Topics!$M$16),0))=5),Topics!$C$16&", ","")&IF(AND(Topics!$C$17<>"",MAX(1,ROUND(N(Topics!$J$17),0))=1,MAX(1,ROUND(N(Topics!$M$17),0))=5),Topics!$C$17&", ",""))-2),"")
C13: 1 | D13: 2 | E13: 3 | F13: 4 | G13: 5
C14: Financial score
B16: Scores are rounded to the nearest whole number for placing, so two topics can share a cell. A matrix is a way to show the result; the decision on each topic comes from the scores and the threshold on the Topics sheet, and is disclosed with the process followed.

Sheet Topics
B2: Topics
B4: Score each sustainability matter for impact materiality and financial materiality, as in a double materiality assessment under ESRS 1.
B6: Threshold for material (1 to 5) | E6: 3
B7: Topic | C7: Short name | D7: Actual or potential | E7: Scale | F7: Scope | G7: Irremedi-ability | H7: Likelihood | I7: Human rights? | J7: Impact score | K7: Financial size | L7: Financial likelihood | M7: Financial score | N7: Result
